BEGIN:VCALENDAR
VERSION:2.0
PRODID:VSD-Portal-www.volley.de
METHOD:PUBLISH
BEGIN:VEVENT
UID:398338-2da69939ed67427dc6bf3daba21059e9
X-WR-RELCALID:398338-2da69939ed67427dc6bf3daba21059e9
ORGANIZER:Volleyball
SEQUENCE:261101603
LOCATION:SH TGM Gonsenheim, Mainz, Kirchstraße 45-47, 55124 Mainz
GEO:50.00247000000000000000;8.20650000000000000000
SUMMARY:VVRh KL Fr.: TGM Mainz-Gonsenheim V - VfL Roxheim II
CLASS:PUBLIC
DTSTART:20160917T130000Z
DTSTAMP:20170325T203000Z
END:VEVENT
BEGIN:VEVENT
UID:398343-2da69939ed67427dc6bf3daba21059e9
X-WR-RELCALID:398343-2da69939ed67427dc6bf3daba21059e9
ORGANIZER:Volleyball
SEQUENCE:261101603
LOCATION:SH Lina-Hilger-Gym., Bad Kreuznach, Gustav-Pfarrius-Straße 11
 , 55543 Bad Kreuznach
GEO:49.83955590000000000000;7.86702760000000000000
SUMMARY:VVRh KL Fr.: MTV Bad Kreuznach - VfL Roxheim II
CLASS:PUBLIC
DTSTART:20160925T090000Z
DTSTAMP:20170325T203000Z
END:VEVENT
BEGIN:VEVENT
UID:398345-2da69939ed67427dc6bf3daba21059e9
X-WR-RELCALID:398345-2da69939ed67427dc6bf3daba21059e9
ORGANIZER:Volleyball
SEQUENCE:261101603
LOCATION:VG Halle Rüdesheim, Am Sportfeld, 55593 Rüdesheim
GEO:49.84628700000000000000;7.80771880000000000000
SUMMARY:VVRh KL Fr.: VfL Roxheim II - VSC "Spike" Guldental III
CLASS:PUBLIC
DTSTART:20161029T110000Z
DTSTAMP:20170325T203000Z
END:VEVENT
BEGIN:VEVENT
UID:398346-2da69939ed67427dc6bf3daba21059e9
X-WR-RELCALID:398346-2da69939ed67427dc6bf3daba21059e9
ORGANIZER:Volleyball
SEQUENCE:261101603
LOCATION:VG Halle Rüdesheim, Am Sportfeld, 55593 Rüdesheim
GEO:49.84628700000000000000;7.80771880000000000000
SUMMARY:VVRh KL Fr.: VfL Roxheim II - TV Abenheim II
CLASS:PUBLIC
DTSTART:20161029T110000Z
DTSTAMP:20170325T203000Z
END:VEVENT
BEGIN:VEVENT
UID:398351-2da69939ed67427dc6bf3daba21059e9
X-WR-RELCALID:398351-2da69939ed67427dc6bf3daba21059e9
ORGANIZER:Volleyball
SEQUENCE:261101603
LOCATION:Birkenberghalle - Roxheim, Rüdesheimer Straße 12, 55595 Roxhe
 im
GEO:49.86181550000000000000;7.80924760000000000000
SUMMARY:VVRh KL Fr.: VfL Roxheim II - SG Weinsheim II
CLASS:PUBLIC
DTSTART:20161112T120000Z
DTSTAMP:20170325T203000Z
END:VEVENT
BEGIN:VEVENT
UID:398352-2da69939ed67427dc6bf3daba21059e9
X-WR-RELCALID:398352-2da69939ed67427dc6bf3daba21059e9
ORGANIZER:Volleyball
SEQUENCE:261101603
LOCATION:Birkenberghalle - Roxheim, Rüdesheimer Straße 12, 55595 Roxhe
 im
GEO:49.86181550000000000000;7.80924760000000000000
SUMMARY:VVRh KL Fr.: VfL Roxheim II - TG Nieder-Ingelheim
CLASS:PUBLIC
DTSTART:20161112T120000Z
DTSTAMP:20170325T203000Z
END:VEVENT
BEGIN:VEVENT
UID:398361-2da69939ed67427dc6bf3daba21059e9
X-WR-RELCALID:398361-2da69939ed67427dc6bf3daba21059e9
ORGANIZER:Volleyball
SEQUENCE:261101603
LOCATION:Selztalhalle Stadecken-Elsheim, Auf der Langweid 10, 55271 St
 adecken-Elsheim
GEO:49.91163000000000000000;8.12837000000000000000
SUMMARY:VVRh KL Fr.: TSVgg Stadecken-Elsheim IV - VfL Roxheim II
CLASS:PUBLIC
DTSTART:20161127T130000Z
DTSTAMP:20170325T203000Z
END:VEVENT
BEGIN:VEVENT
UID:398364-2da69939ed67427dc6bf3daba21059e9
X-WR-RELCALID:398364-2da69939ed67427dc6bf3daba21059e9
ORGANIZER:Volleyball
SEQUENCE:261101603
LOCATION:Heinz-Kerz-Halle Nieder-Olm, Maria-Montessori-Str., 55268 Nie
 der-Olm
GEO:49.90277950000000000000;8.19311280000000000000
SUMMARY:VVRh KL Fr.: TV Nieder-Olm II - VfL Roxheim II
CLASS:PUBLIC
DTSTART:20161217T120000Z
DTSTAMP:20170325T203000Z
END:VEVENT
BEGIN:VEVENT
UID:398371-2da69939ed67427dc6bf3daba21059e9
X-WR-RELCALID:398371-2da69939ed67427dc6bf3daba21059e9
ORGANIZER:Volleyball
SEQUENCE:261101603
LOCATION:Birkenberghalle - Roxheim, Rüdesheimer Straße 12, 55595 Roxhe
 im
GEO:49.86181550000000000000;7.80924760000000000000
SUMMARY:VVRh KL Fr.: VfL Roxheim II - TGM Mainz-Gonsenheim V
CLASS:PUBLIC
DTSTART:20170115T100000Z
DTSTAMP:20170325T203000Z
END:VEVENT
BEGIN:VEVENT
UID:398372-2da69939ed67427dc6bf3daba21059e9
X-WR-RELCALID:398372-2da69939ed67427dc6bf3daba21059e9
ORGANIZER:Volleyball
SEQUENCE:261101603
LOCATION:Birkenberghalle - Roxheim, Rüdesheimer Straße 12, 55595 Roxhe
 im
GEO:49.86181550000000000000;7.80924760000000000000
SUMMARY:VVRh KL Fr.: VfL Roxheim II - TV Nieder-Olm II
CLASS:PUBLIC
DTSTART:20170115T100000Z
DTSTAMP:20170325T203000Z
END:VEVENT
BEGIN:VEVENT
UID:398376-2da69939ed67427dc6bf3daba21059e9
X-WR-RELCALID:398376-2da69939ed67427dc6bf3daba21059e9
ORGANIZER:Volleyball
SEQUENCE:261101603
LOCATION:SH Kaiserpfalz-Realschule plus, Ludwig-Langstädter-Straße 6, 
 55218 Ingelheim
GEO:49.97642000000000000000;8.05606800000000000000
SUMMARY:VVRh KL Fr.: TG Nieder-Ingelheim - VfL Roxheim II
CLASS:PUBLIC
DTSTART:20170121T130000Z
DTSTAMP:20170325T203000Z
END:VEVENT
BEGIN:VEVENT
UID:398383-2da69939ed67427dc6bf3daba21059e9
X-WR-RELCALID:398383-2da69939ed67427dc6bf3daba21059e9
ORGANIZER:Volleyball
SEQUENCE:261101603
LOCATION:SH Klausenbergschule Abenheim, Weingartenstr. 5, 67550 Worms
GEO:49.67882000000000000000;8.28107000000000000000
SUMMARY:VVRh KL Fr.: TV Abenheim II - VfL Roxheim II
CLASS:PUBLIC
DTSTART:20170205T090000Z
DTSTAMP:20170325T203000Z
END:VEVENT
BEGIN:VEVENT
UID:398389-2da69939ed67427dc6bf3daba21059e9
X-WR-RELCALID:398389-2da69939ed67427dc6bf3daba21059e9
ORGANIZER:Volleyball
SEQUENCE:261101603
LOCATION:SH RSplus Langenlonsheim, Heddesheimer Str., 55450 Langenlons
 heim
GEO:49.89477160000000000000;7.89820910000000000000
SUMMARY:VVRh KL Fr.: VSC "Spike" Guldental III - VfL Roxheim II
CLASS:PUBLIC
DTSTART:20170212T130000Z
DTSTAMP:20170325T203000Z
END:VEVENT
BEGIN:VEVENT
UID:398398-2da69939ed67427dc6bf3daba21059e9
X-WR-RELCALID:398398-2da69939ed67427dc6bf3daba21059e9
ORGANIZER:Volleyball
SEQUENCE:261101603
LOCATION:Palmsteinhalle Weinsheim, Auf dem Palmstein 2a, 55595 Weinshe
 im
GEO:49.83461400000000000000;7.76923600000000000000
SUMMARY:VVRh KL Fr.: SG Weinsheim II - VfL Roxheim II
CLASS:PUBLIC
DTSTART:20170312T120000Z
DTSTAMP:20170325T203000Z
END:VEVENT
BEGIN:VEVENT
UID:398403-2da69939ed67427dc6bf3daba21059e9
X-WR-RELCALID:398403-2da69939ed67427dc6bf3daba21059e9
ORGANIZER:Volleyball
SEQUENCE:261101603
LOCATION:Birkenberghalle - Roxheim, Rüdesheimer Straße 12, 55595 Roxhe
 im
GEO:49.86181550000000000000;7.80924760000000000000
SUMMARY:VVRh KL Fr.: VfL Roxheim II - MTV Bad Kreuznach
CLASS:PUBLIC
DTSTART:20170325T120000Z
DTSTAMP:20170325T203000Z
END:VEVENT
BEGIN:VEVENT
UID:398404-2da69939ed67427dc6bf3daba21059e9
X-WR-RELCALID:398404-2da69939ed67427dc6bf3daba21059e9
ORGANIZER:Volleyball
SEQUENCE:261101603
LOCATION:Birkenberghalle - Roxheim, Rüdesheimer Straße 12, 55595 Roxhe
 im
GEO:49.86181550000000000000;7.80924760000000000000
SUMMARY:VVRh KL Fr.: VfL Roxheim II - TSVgg Stadecken-Elsheim IV
CLASS:PUBLIC
DTSTART:20170325T120000Z
DTSTAMP:20170325T203000Z
END:VEVENT
END:VCALENDAR