BEGIN:VCALENDAR
VERSION:2.0
PRODID:VSD-Portal-www.volley.de
METHOD:PUBLISH
BEGIN:VEVENT
UID:398333-2da69939ed67427dc6bf3daba21059e9
X-WR-RELCALID:398333-2da69939ed67427dc6bf3daba21059e9
ORGANIZER:Volleyball
SEQUENCE:261091404
LOCATION:Heinz-Kerz-Halle Nieder-Olm, Maria-Montessori-Str., 55268 Nie
 der-Olm
GEO:49.90277950000000000000;8.19311280000000000000
SUMMARY:VVRh KL Fr.: TV Nieder-Olm II - TV Abenheim II
CLASS:PUBLIC
DTSTART:20160917T110000Z
DTSTAMP:20170325T203000Z
END:VEVENT
BEGIN:VEVENT
UID:398334-2da69939ed67427dc6bf3daba21059e9
X-WR-RELCALID:398334-2da69939ed67427dc6bf3daba21059e9
ORGANIZER:Volleyball
SEQUENCE:261091404
LOCATION:Heinz-Kerz-Halle Nieder-Olm, Maria-Montessori-Str., 55268 Nie
 der-Olm
GEO:49.90277950000000000000;8.19311280000000000000
SUMMARY:VVRh KL Fr.: TV Nieder-Olm II - SG Weinsheim II
CLASS:PUBLIC
DTSTART:20160917T110000Z
DTSTAMP:20170325T203000Z
END:VEVENT
BEGIN:VEVENT
UID:398363-2da69939ed67427dc6bf3daba21059e9
X-WR-RELCALID:398363-2da69939ed67427dc6bf3daba21059e9
ORGANIZER:Volleyball
SEQUENCE:261091404
LOCATION:Heinz-Kerz-Halle Nieder-Olm, Maria-Montessori-Str., 55268 Nie
 der-Olm
GEO:49.90277950000000000000;8.19311280000000000000
SUMMARY:VVRh KL Fr.: TV Nieder-Olm II - VSC "Spike" Guldental III
CLASS:PUBLIC
DTSTART:20161217T120000Z
DTSTAMP:20170325T203000Z
END:VEVENT
BEGIN:VEVENT
UID:398364-2da69939ed67427dc6bf3daba21059e9
X-WR-RELCALID:398364-2da69939ed67427dc6bf3daba21059e9
ORGANIZER:Volleyball
SEQUENCE:261091404
LOCATION:Heinz-Kerz-Halle Nieder-Olm, Maria-Montessori-Str., 55268 Nie
 der-Olm
GEO:49.90277950000000000000;8.19311280000000000000
SUMMARY:VVRh KL Fr.: TV Nieder-Olm II - VfL Roxheim II
CLASS:PUBLIC
DTSTART:20161217T120000Z
DTSTAMP:20170325T203000Z
END:VEVENT
BEGIN:VEVENT
UID:398381-2da69939ed67427dc6bf3daba21059e9
X-WR-RELCALID:398381-2da69939ed67427dc6bf3daba21059e9
ORGANIZER:Volleyball
SEQUENCE:261091404
LOCATION:Heinz-Kerz-Halle Nieder-Olm, Maria-Montessori-Str., 55268 Nie
 der-Olm
GEO:49.90277950000000000000;8.19311280000000000000
SUMMARY:VVRh KL Fr.: TV Nieder-Olm II - MTV Bad Kreuznach
CLASS:PUBLIC
DTSTART:20170204T120000Z
DTSTAMP:20170325T203000Z
END:VEVENT
BEGIN:VEVENT
UID:398382-2da69939ed67427dc6bf3daba21059e9
X-WR-RELCALID:398382-2da69939ed67427dc6bf3daba21059e9
ORGANIZER:Volleyball
SEQUENCE:261091404
LOCATION:Heinz-Kerz-Halle Nieder-Olm, Maria-Montessori-Str., 55268 Nie
 der-Olm
GEO:49.90277950000000000000;8.19311280000000000000
SUMMARY:VVRh KL Fr.: TV Nieder-Olm II - TG Nieder-Ingelheim
CLASS:PUBLIC
DTSTART:20170204T120000Z
DTSTAMP:20170325T203000Z
END:VEVENT
BEGIN:VEVENT
UID:398393-2da69939ed67427dc6bf3daba21059e9
X-WR-RELCALID:398393-2da69939ed67427dc6bf3daba21059e9
ORGANIZER:Volleyball
SEQUENCE:261091404
LOCATION:Heinz-Kerz-Halle Nieder-Olm, Maria-Montessori-Str., 55268 Nie
 der-Olm
GEO:49.90277950000000000000;8.19311280000000000000
SUMMARY:VVRh KL Fr.: TV Nieder-Olm II - TGM Mainz-Gonsenheim V
CLASS:PUBLIC
DTSTART:20170311T120000Z
DTSTAMP:20170325T203000Z
END:VEVENT
BEGIN:VEVENT
UID:398394-2da69939ed67427dc6bf3daba21059e9
X-WR-RELCALID:398394-2da69939ed67427dc6bf3daba21059e9
ORGANIZER:Volleyball
SEQUENCE:261091404
LOCATION:Heinz-Kerz-Halle Nieder-Olm, Maria-Montessori-Str., 55268 Nie
 der-Olm
GEO:49.90277950000000000000;8.19311280000000000000
SUMMARY:VVRh KL Fr.: TV Nieder-Olm II - TSVgg Stadecken-Elsheim IV
CLASS:PUBLIC
DTSTART:20170311T120000Z
DTSTAMP:20170325T203000Z
END:VEVENT
END:VCALENDAR