BEGIN:VCALENDAR
VERSION:2.0
PRODID:VSD-Portal-www.volley.de
METHOD:PUBLISH
BEGIN:VEVENT
UID:398191-2da69939ed67427dc6bf3daba21059e9
X-WR-RELCALID:398191-2da69939ed67427dc6bf3daba21059e9
ORGANIZER:Volleyball
SEQUENCE:261102312
LOCATION:Bruchwaldhalle Freisen, Schulstr. 60, 66629 Freisen
GEO:49.54621000000000000000;7.25307000000000000000
SUMMARY:RLSW Fr.: SSC Freisen - TG Groß-Karben
CLASS:PUBLIC
DTSTART:20161029T180000Z
DTSTAMP:20170328T163000Z
END:VEVENT
BEGIN:VEVENT
UID:398195-2da69939ed67427dc6bf3daba21059e9
X-WR-RELCALID:398195-2da69939ed67427dc6bf3daba21059e9
ORGANIZER:Volleyball
SEQUENCE:261102312
LOCATION:Bruchwaldhalle Freisen, Schulstr. 60, 66629 Freisen
GEO:49.54621000000000000000;7.25307000000000000000
SUMMARY:RLSW Fr.: SSC Freisen - TSVgg Stadecken-Elsheim
CLASS:PUBLIC
DTSTART:20161112T173000Z
DTSTAMP:20170328T163000Z
END:VEVENT
BEGIN:VEVENT
UID:398210-2da69939ed67427dc6bf3daba21059e9
X-WR-RELCALID:398210-2da69939ed67427dc6bf3daba21059e9
ORGANIZER:Volleyball
SEQUENCE:261102312
LOCATION:Bruchwaldhalle Freisen, Schulstr. 60, 66629 Freisen
GEO:49.54621000000000000000;7.25307000000000000000
SUMMARY:RLSW Fr.: SSC Freisen - Biedenkopf-Wetter Volleys
CLASS:PUBLIC
DTSTART:20161204T190000Z
DTSTAMP:20170328T163000Z
END:VEVENT
BEGIN:VEVENT
UID:398212-2da69939ed67427dc6bf3daba21059e9
X-WR-RELCALID:398212-2da69939ed67427dc6bf3daba21059e9
ORGANIZER:Volleyball
SEQUENCE:261102312
LOCATION:Bruchwaldhalle Freisen, Schulstr. 60, 66629 Freisen
GEO:49.54621000000000000000;7.25307000000000000000
SUMMARY:RLSW Fr.: SSC Freisen - TG Bad Soden II
CLASS:PUBLIC
DTSTART:20161210T190000Z
DTSTAMP:20170328T163000Z
END:VEVENT
BEGIN:VEVENT
UID:398216-2da69939ed67427dc6bf3daba21059e9
X-WR-RELCALID:398216-2da69939ed67427dc6bf3daba21059e9
ORGANIZER:Volleyball
SEQUENCE:261102312
LOCATION:Bruchwaldhalle Freisen, Schulstr. 60, 66629 Freisen
GEO:49.54621000000000000000;7.25307000000000000000
SUMMARY:RLSW Fr.: SSC Freisen - DJK 1. SC Klarenthal
CLASS:PUBLIC
DTSTART:20170107T173000Z
DTSTAMP:20170328T163000Z
END:VEVENT
BEGIN:VEVENT
UID:398226-2da69939ed67427dc6bf3daba21059e9
X-WR-RELCALID:398226-2da69939ed67427dc6bf3daba21059e9
ORGANIZER:Volleyball
SEQUENCE:261102312
LOCATION:Bruchwaldhalle Freisen, Schulstr. 60, 66629 Freisen
GEO:49.54621000000000000000;7.25307000000000000000
SUMMARY:RLSW Fr.: SSC Freisen - TV Lebach
CLASS:PUBLIC
DTSTART:20170121T173000Z
DTSTAMP:20170328T163000Z
END:VEVENT
BEGIN:VEVENT
UID:398235-2da69939ed67427dc6bf3daba21059e9
X-WR-RELCALID:398235-2da69939ed67427dc6bf3daba21059e9
ORGANIZER:Volleyball
SEQUENCE:261102312
LOCATION:SH Gymnasium, Walkmühlstraße 9, 66869 Kusel
GEO:49.54338000000000000000;7.39162350000000000000
SUMMARY:RLSW Fr.: SSC Freisen - FSV Bergshausen
CLASS:PUBLIC
DTSTART:20170211T173000Z
DTSTAMP:20170328T163000Z
END:VEVENT
BEGIN:VEVENT
UID:398248-2da69939ed67427dc6bf3daba21059e9
X-WR-RELCALID:398248-2da69939ed67427dc6bf3daba21059e9
ORGANIZER:Volleyball
SEQUENCE:261102312
LOCATION:SH Gymnasium, Walkmühlstraße 9, 66869 Kusel
GEO:49.54338000000000000000;7.39162350000000000000
SUMMARY:RLSW Fr.: SSC Freisen - TGM Mainz-Gonsenheim
CLASS:PUBLIC
DTSTART:20170311T190000Z
DTSTAMP:20170328T163000Z
END:VEVENT
BEGIN:VEVENT
UID:398254-2da69939ed67427dc6bf3daba21059e9
X-WR-RELCALID:398254-2da69939ed67427dc6bf3daba21059e9
ORGANIZER:Volleyball
SEQUENCE:261102312
LOCATION:Bruchwaldhalle Freisen, Schulstr. 60, 66629 Freisen
GEO:49.54621000000000000000;7.25307000000000000000
SUMMARY:RLSW Fr.: SSC Freisen - SV Steinwenden
CLASS:PUBLIC
DTSTART:20170319T150000Z
DTSTAMP:20170328T163000Z
END:VEVENT
END:VCALENDAR