BEGIN:VCALENDAR
VERSION:2.0
PRODID:VSD-Portal-www.volley.de
METHOD:PUBLISH
BEGIN:VEVENT
UID:394551-2da69939ed67427dc6bf3daba21059e9
X-WR-RELCALID:394551-2da69939ed67427dc6bf3daba21059e9
ORGANIZER:Volleyball
SEQUENCE:261121635
LOCATION:Sporthalle IGS, Hans-Böckler-Strasse 2, 55128 Mainz-Bretzenhe
 im
GEO:49.97727000000000000000;8.24746000000000000000
SUMMARY:RP-Liga Mä.: TSG Bretzenheim - SG Kaiserslautern / Enkenbach
CLASS:PUBLIC
DTSTART:20160918T140000Z
DTSTAMP:20170406T163000Z
END:VEVENT
BEGIN:VEVENT
UID:394552-2da69939ed67427dc6bf3daba21059e9
X-WR-RELCALID:394552-2da69939ed67427dc6bf3daba21059e9
ORGANIZER:Volleyball
SEQUENCE:261121635
LOCATION:Sporthalle IGS, Hans-Böckler-Strasse 2, 55128 Mainz-Bretzenhe
 im
GEO:49.97727000000000000000;8.24746000000000000000
SUMMARY:RP-Liga Mä.: TSG Bretzenheim - VC Mainz
CLASS:PUBLIC
DTSTART:20160918T140000Z
DTSTAMP:20170406T163000Z
END:VEVENT
BEGIN:VEVENT
UID:394573-2da69939ed67427dc6bf3daba21059e9
X-WR-RELCALID:394573-2da69939ed67427dc6bf3daba21059e9
ORGANIZER:Volleyball
SEQUENCE:261121635
LOCATION:SH IGS Mainz-Bretzenheim, Hans-Böckler-Str. 2, 55128 Mainz
GEO:49.97727000000000000000;8.24746000000000000000
SUMMARY:RP-Liga Mä.: TSG Bretzenheim - SG REHAmed Südpfalz
CLASS:PUBLIC
DTSTART:20161126T170000Z
DTSTAMP:20170406T163000Z
END:VEVENT
BEGIN:VEVENT
UID:394574-2da69939ed67427dc6bf3daba21059e9
X-WR-RELCALID:394574-2da69939ed67427dc6bf3daba21059e9
ORGANIZER:Volleyball
SEQUENCE:261121635
LOCATION:SH IGS Mainz-Bretzenheim, Hans-Böckler-Str. 2, 55128 Mainz
GEO:49.97727000000000000000;8.24746000000000000000
SUMMARY:RP-Liga Mä.: TSG Bretzenheim - SG Feldkirchen / Neuwied
CLASS:PUBLIC
DTSTART:20161126T170000Z
DTSTAMP:20170406T163000Z
END:VEVENT
BEGIN:VEVENT
UID:394583-2da69939ed67427dc6bf3daba21059e9
X-WR-RELCALID:394583-2da69939ed67427dc6bf3daba21059e9
ORGANIZER:Volleyball
SEQUENCE:261121635
LOCATION:Sporthalle IGS, Hans-Böckler-Strasse 2, 55128 Mainz-Bretzenhe
 im
GEO:49.97727000000000000000;8.24746000000000000000
SUMMARY:RP-Liga Mä.: TSG Bretzenheim - SpVgg Burgbrohl
CLASS:PUBLIC
DTSTART:20170114T170000Z
DTSTAMP:20170406T163000Z
END:VEVENT
BEGIN:VEVENT
UID:394584-2da69939ed67427dc6bf3daba21059e9
X-WR-RELCALID:394584-2da69939ed67427dc6bf3daba21059e9
ORGANIZER:Volleyball
SEQUENCE:261121635
LOCATION:Sporthalle IGS, Hans-Böckler-Strasse 2, 55128 Mainz-Bretzenhe
 im
GEO:49.97727000000000000000;8.24746000000000000000
SUMMARY:RP-Liga Mä.: TSG Bretzenheim - VSG WW Köppel
CLASS:PUBLIC
DTSTART:20170114T170000Z
DTSTAMP:20170406T163000Z
END:VEVENT
BEGIN:VEVENT
UID:394603-2da69939ed67427dc6bf3daba21059e9
X-WR-RELCALID:394603-2da69939ed67427dc6bf3daba21059e9
ORGANIZER:Volleyball
SEQUENCE:261121635
LOCATION:Sporthalle IGS, Hans-Böckler-Strasse 2, 55128 Mainz-Bretzenhe
 im
GEO:49.97727000000000000000;8.24746000000000000000
SUMMARY:RP-Liga Mä.: TSG Bretzenheim - TuS Gensingen
CLASS:PUBLIC
DTSTART:20170212T150000Z
DTSTAMP:20170406T163000Z
END:VEVENT
BEGIN:VEVENT
UID:394604-2da69939ed67427dc6bf3daba21059e9
X-WR-RELCALID:394604-2da69939ed67427dc6bf3daba21059e9
ORGANIZER:Volleyball
SEQUENCE:261121635
LOCATION:Sporthalle IGS, Hans-Böckler-Strasse 2, 55128 Mainz-Bretzenhe
 im
GEO:49.97727000000000000000;8.24746000000000000000
SUMMARY:RP-Liga Mä.: TSG Bretzenheim - SC Ransbach-Baumbach
CLASS:PUBLIC
DTSTART:20170212T150000Z
DTSTAMP:20170406T163000Z
END:VEVENT
END:VCALENDAR