BEGIN:VCALENDAR
VERSION:2.0
PRODID:VSD-Portal-www.volley.de
METHOD:PUBLISH
BEGIN:VEVENT
UID:389812-2da69939ed67427dc6bf3daba21059e9
X-WR-RELCALID:389812-2da69939ed67427dc6bf3daba21059e9
ORGANIZER:Volleyball
SEQUENCE:261152012
LOCATION:Sporthalle am Stadion, Schulstraße, 31241 Groß Ilsede
GEO:52.26549130000000000000;10.22739000000000000000
SUMMARY:LL 6 Mä.: VG Ilsede - Tuspo Weende II
CLASS:PUBLIC
DTSTART:20160917T130000Z
DTSTAMP:20170325T182500Z
END:VEVENT
BEGIN:VEVENT
UID:389813-2da69939ed67427dc6bf3daba21059e9
X-WR-RELCALID:389813-2da69939ed67427dc6bf3daba21059e9
ORGANIZER:Volleyball
SEQUENCE:261152012
LOCATION:Sporthalle am Stadion, Schulstraße, 31241 Groß Ilsede
GEO:52.26549130000000000000;10.22739000000000000000
SUMMARY:LL 6 Mä.: VG Ilsede - SG Echte/Kalefeld
CLASS:PUBLIC
DTSTART:20160917T130000Z
DTSTAMP:20170325T182500Z
END:VEVENT
BEGIN:VEVENT
UID:389838-2da69939ed67427dc6bf3daba21059e9
X-WR-RELCALID:389838-2da69939ed67427dc6bf3daba21059e9
ORGANIZER:Volleyball
SEQUENCE:261152012
LOCATION:Sporthalle am Stadion, Schulstraße, 31241 Groß Ilsede
GEO:52.26549130000000000000;10.22739000000000000000
SUMMARY:LL 6 Mä.: VG Ilsede - 1. VC Pöhlde
CLASS:PUBLIC
DTSTART:20161203T140000Z
DTSTAMP:20170325T182500Z
END:VEVENT
BEGIN:VEVENT
UID:389839-2da69939ed67427dc6bf3daba21059e9
X-WR-RELCALID:389839-2da69939ed67427dc6bf3daba21059e9
ORGANIZER:Volleyball
SEQUENCE:261152012
LOCATION:Sporthalle am Stadion, Schulstraße, 31241 Groß Ilsede
GEO:52.26549130000000000000;10.22739000000000000000
SUMMARY:LL 6 Mä.: VG Ilsede - ASC 46 Göttingen III
CLASS:PUBLIC
DTSTART:20161203T140000Z
DTSTAMP:20170325T182500Z
END:VEVENT
BEGIN:VEVENT
UID:389850-2da69939ed67427dc6bf3daba21059e9
X-WR-RELCALID:389850-2da69939ed67427dc6bf3daba21059e9
ORGANIZER:Volleyball
SEQUENCE:261152012
LOCATION:Sporthalle am Stadion, Schulstraße, 31241 Groß Ilsede
GEO:52.26549130000000000000;10.22739000000000000000
SUMMARY:LL 6 Mä.: VG Ilsede - TSV Giesen GRIZZLYS IV
CLASS:PUBLIC
DTSTART:20170121T140000Z
DTSTAMP:20170325T182500Z
END:VEVENT
BEGIN:VEVENT
UID:389851-2da69939ed67427dc6bf3daba21059e9
X-WR-RELCALID:389851-2da69939ed67427dc6bf3daba21059e9
ORGANIZER:Volleyball
SEQUENCE:261152012
LOCATION:Sporthalle am Stadion, Schulstraße, 31241 Groß Ilsede
GEO:52.26549130000000000000;10.22739000000000000000
SUMMARY:LL 6 Mä.: VG Ilsede - USC Clausthal-Zellerfeld
CLASS:PUBLIC
DTSTART:20170121T140000Z
DTSTAMP:20170325T182500Z
END:VEVENT
BEGIN:VEVENT
UID:389866-2da69939ed67427dc6bf3daba21059e9
X-WR-RELCALID:389866-2da69939ed67427dc6bf3daba21059e9
ORGANIZER:Volleyball
SEQUENCE:261152012
LOCATION:Sporthalle am Stadion, Schulstraße, 31241 Groß Ilsede
GEO:52.26549130000000000000;10.22739000000000000000
SUMMARY:LL 6 Mä.: VG Ilsede - SV Lengede
CLASS:PUBLIC
DTSTART:20170311T140000Z
DTSTAMP:20170325T182500Z
END:VEVENT
BEGIN:VEVENT
UID:389867-2da69939ed67427dc6bf3daba21059e9
X-WR-RELCALID:389867-2da69939ed67427dc6bf3daba21059e9
ORGANIZER:Volleyball
SEQUENCE:261152012
LOCATION:Sporthalle am Stadion, Schulstraße, 31241 Groß Ilsede
GEO:52.26549130000000000000;10.22739000000000000000
SUMMARY:LL 6 Mä.: VG Ilsede - MTV 48 Hildesheim II
CLASS:PUBLIC
DTSTART:20170311T140000Z
DTSTAMP:20170325T182500Z
END:VEVENT
END:VCALENDAR