BEGIN:VCALENDAR
VERSION:2.0
PRODID:VSD-Portal-www.volley.de
METHOD:PUBLISH
BEGIN:VEVENT
UID:388107-2da69939ed67427dc6bf3daba21059e9
X-WR-RELCALID:388107-2da69939ed67427dc6bf3daba21059e9
ORGANIZER:Volleyball
SEQUENCE:261112317
LOCATION:Großsporthalle Altenkirchen, Im Sportzentrum, 57610 Altenkirc
 hen
GEO:50.69246420000000000000;7.65752620000000000000
SUMMARY:VL RL Fr.: SC Altenkirchen - TG Konz I
CLASS:PUBLIC
DTSTART:20160918T090000Z
DTSTAMP:20170325T222500Z
END:VEVENT
BEGIN:VEVENT
UID:388108-2da69939ed67427dc6bf3daba21059e9
X-WR-RELCALID:388108-2da69939ed67427dc6bf3daba21059e9
ORGANIZER:Volleyball
SEQUENCE:261112317
LOCATION:Großsporthalle Altenkirchen, Im Sportzentrum, 57610 Altenkirc
 hen
GEO:50.69246420000000000000;7.65752620000000000000
SUMMARY:VL RL Fr.: SC Altenkirchen - TuS Asbach
CLASS:PUBLIC
DTSTART:20160918T090000Z
DTSTAMP:20170325T222500Z
END:VEVENT
BEGIN:VEVENT
UID:388112-2da69939ed67427dc6bf3daba21059e9
X-WR-RELCALID:388112-2da69939ed67427dc6bf3daba21059e9
ORGANIZER:Volleyball
SEQUENCE:261112317
LOCATION:Neue Halle Mäusheckerweg, Mäusheckerweg 1, 54293 Trier-Ehrang
 
GEO:49.78681000000000000000;6.67819000000000000000
SUMMARY:VL RL Fr.: TV Ehrang I - SC Altenkirchen
CLASS:PUBLIC
DTSTART:20160925T130000Z
DTSTAMP:20170325T222500Z
END:VEVENT
BEGIN:VEVENT
UID:388117-2da69939ed67427dc6bf3daba21059e9
X-WR-RELCALID:388117-2da69939ed67427dc6bf3daba21059e9
ORGANIZER:Volleyball
SEQUENCE:261112317
LOCATION:Rhein-Ahr-Sporthalle A, Sinzig, Jahnstrasse, 53489 Sinzig
GEO:50.54778700000000000000;7.24833440000000000000
SUMMARY:VL RL Fr.: VSG Sinzig I - SC Altenkirchen
CLASS:PUBLIC
DTSTART:20161030T100000Z
DTSTAMP:20170325T222500Z
END:VEVENT
BEGIN:VEVENT
UID:388125-2da69939ed67427dc6bf3daba21059e9
X-WR-RELCALID:388125-2da69939ed67427dc6bf3daba21059e9
ORGANIZER:Volleyball
SEQUENCE:261112317
LOCATION:Großsporthalle Altenkirchen, Im Sportzentrum, 57610 Altenkirc
 hen
GEO:50.69246420000000000000;7.65752620000000000000
SUMMARY:VL RL Fr.: SC Altenkirchen - PSV Wengerohr I
CLASS:PUBLIC
DTSTART:20161113T100000Z
DTSTAMP:20170325T222500Z
END:VEVENT
BEGIN:VEVENT
UID:388126-2da69939ed67427dc6bf3daba21059e9
X-WR-RELCALID:388126-2da69939ed67427dc6bf3daba21059e9
ORGANIZER:Volleyball
SEQUENCE:261112317
LOCATION:Großsporthalle Altenkirchen, Im Sportzentrum, 57610 Altenkirc
 hen
GEO:50.69246420000000000000;7.65752620000000000000
SUMMARY:VL RL Fr.: SC Altenkirchen - TV Vallendar I
CLASS:PUBLIC
DTSTART:20161113T100000Z
DTSTAMP:20170325T222500Z
END:VEVENT
BEGIN:VEVENT
UID:388127-2da69939ed67427dc6bf3daba21059e9
X-WR-RELCALID:388127-2da69939ed67427dc6bf3daba21059e9
ORGANIZER:Volleyball
SEQUENCE:261112317
LOCATION:Großsporthalle - Hamm/Sieg, , 57577 Hamm/Sieg
GEO:50.76606020000000000000;7.67786850000000000000
SUMMARY:VL RL Fr.: SSG Etzbach I - SC Altenkirchen
CLASS:PUBLIC
DTSTART:20161126T120000Z
DTSTAMP:20170325T222500Z
END:VEVENT
BEGIN:VEVENT
UID:388134-2da69939ed67427dc6bf3daba21059e9
X-WR-RELCALID:388134-2da69939ed67427dc6bf3daba21059e9
ORGANIZER:Volleyball
SEQUENCE:261112317
LOCATION:Altenberghalle - Gutweiler, , 54317 Gutweiler
GEO:49.71712270000000000000;6.72650580000000000000
SUMMARY:VL RL Fr.: SV Gutweiler I - SC Altenkirchen
CLASS:PUBLIC
DTSTART:20161217T140000Z
DTSTAMP:20170325T222500Z
END:VEVENT
BEGIN:VEVENT
UID:388139-2da69939ed67427dc6bf3daba21059e9
X-WR-RELCALID:388139-2da69939ed67427dc6bf3daba21059e9
ORGANIZER:Volleyball
SEQUENCE:261112317
LOCATION:SH RSplus Konrad-Adenauer, Asbach, Flammersfelder Str. 5, 535
 67 Asbach
GEO:50.66584720000000000000;7.42877190000000000000
SUMMARY:VL RL Fr.: TuS Asbach - SC Altenkirchen
CLASS:PUBLIC
DTSTART:20170114T130000Z
DTSTAMP:20170325T222500Z
END:VEVENT
BEGIN:VEVENT
UID:388152-2da69939ed67427dc6bf3daba21059e9
X-WR-RELCALID:388152-2da69939ed67427dc6bf3daba21059e9
ORGANIZER:Volleyball
SEQUENCE:261112317
LOCATION:Halle der Bereitschaftspolizei, -, 54516 Wittlich-Wengerohr
GEO:49.97459800000000000000;6.94000050000000000000
SUMMARY:VL RL Fr.: PSV Wengerohr I - SC Altenkirchen
CLASS:PUBLIC
DTSTART:20170205T130000Z
DTSTAMP:20170325T222500Z
END:VEVENT
BEGIN:VEVENT
UID:388157-2da69939ed67427dc6bf3daba21059e9
X-WR-RELCALID:388157-2da69939ed67427dc6bf3daba21059e9
ORGANIZER:Volleyball
SEQUENCE:261112317
LOCATION:SH GS St. Nikolaus, Konz, Schlesierstr. 35, 54329 Konz
GEO:49.69167500000000000000;6.57361400000000000000
SUMMARY:VL RL Fr.: TG Konz I - SC Altenkirchen
CLASS:PUBLIC
DTSTART:20170211T130000Z
DTSTAMP:20170325T222500Z
END:VEVENT
BEGIN:VEVENT
UID:388149-2da69939ed67427dc6bf3daba21059e9
X-WR-RELCALID:388149-2da69939ed67427dc6bf3daba21059e9
ORGANIZER:Volleyball
SEQUENCE:261112317
LOCATION:Großsporthalle Altenkirchen, Im Sportzentrum, 57610 Altenkirc
 hen
GEO:50.69246420000000000000;7.65752620000000000000
SUMMARY:VL RL Fr.: SC Altenkirchen - TV Ehrang I
CLASS:PUBLIC
DTSTART:20170218T140000Z
DTSTAMP:20170325T222500Z
END:VEVENT
BEGIN:VEVENT
UID:388150-2da69939ed67427dc6bf3daba21059e9
X-WR-RELCALID:388150-2da69939ed67427dc6bf3daba21059e9
ORGANIZER:Volleyball
SEQUENCE:261112317
LOCATION:Großsporthalle Altenkirchen, Im Sportzentrum, 57610 Altenkirc
 hen
GEO:50.69246420000000000000;7.65752620000000000000
SUMMARY:VL RL Fr.: SC Altenkirchen - SV Gutweiler I
CLASS:PUBLIC
DTSTART:20170218T140000Z
DTSTAMP:20170325T222500Z
END:VEVENT
BEGIN:VEVENT
UID:388168-2da69939ed67427dc6bf3daba21059e9
X-WR-RELCALID:388168-2da69939ed67427dc6bf3daba21059e9
ORGANIZER:Volleyball
SEQUENCE:261112317
LOCATION:RS Mallendarer Berg - Vallendar, Albert-Schweitzer-Straße, 56
 179 Vallendar
GEO:50.39010520000000000000;7.62964430000000000000
SUMMARY:VL RL Fr.: TV Vallendar I - SC Altenkirchen
CLASS:PUBLIC
DTSTART:20170312T140000Z
DTSTAMP:20170325T222500Z
END:VEVENT
BEGIN:VEVENT
UID:388173-2da69939ed67427dc6bf3daba21059e9
X-WR-RELCALID:388173-2da69939ed67427dc6bf3daba21059e9
ORGANIZER:Volleyball
SEQUENCE:261112317
LOCATION:Großsporthalle Altenkirchen, Im Sportzentrum, 57610 Altenkirc
 hen
GEO:50.69246420000000000000;7.65752620000000000000
SUMMARY:VL RL Fr.: SC Altenkirchen - VSG Sinzig I
CLASS:PUBLIC
DTSTART:20170325T133000Z
DTSTAMP:20170325T222500Z
END:VEVENT
BEGIN:VEVENT
UID:388174-2da69939ed67427dc6bf3daba21059e9
X-WR-RELCALID:388174-2da69939ed67427dc6bf3daba21059e9
ORGANIZER:Volleyball
SEQUENCE:261112317
LOCATION:Großsporthalle Altenkirchen, Im Sportzentrum, 57610 Altenkirc
 hen
GEO:50.69246420000000000000;7.65752620000000000000
SUMMARY:VL RL Fr.: SC Altenkirchen - SSG Etzbach I
CLASS:PUBLIC
DTSTART:20170325T133000Z
DTSTAMP:20170325T222500Z
END:VEVENT
END:VCALENDAR