BEGIN:VCALENDAR
VERSION:2.0
PRODID:VSD-Portal-www.volley.de
METHOD:PUBLISH
BEGIN:VEVENT
UID:388119-2da69939ed67427dc6bf3daba21059e9
X-WR-RELCALID:388119-2da69939ed67427dc6bf3daba21059e9
ORGANIZER:Volleyball
SEQUENCE:261112138
LOCATION:Halle der Bereitschaftspolizei, -, 54516 Wittlich-Wengerohr
GEO:49.97459800000000000000;6.94000050000000000000
SUMMARY:VL RL Fr.: PSV Wengerohr I - TV Vallendar I
CLASS:PUBLIC
DTSTART:20161030T130000Z
DTSTAMP:20170325T222500Z
END:VEVENT
BEGIN:VEVENT
UID:388120-2da69939ed67427dc6bf3daba21059e9
X-WR-RELCALID:388120-2da69939ed67427dc6bf3daba21059e9
ORGANIZER:Volleyball
SEQUENCE:261112138
LOCATION:Halle der Bereitschaftspolizei, -, 54516 Wittlich-Wengerohr
GEO:49.97459800000000000000;6.94000050000000000000
SUMMARY:VL RL Fr.: PSV Wengerohr I - TG Konz I
CLASS:PUBLIC
DTSTART:20161030T130000Z
DTSTAMP:20170325T222500Z
END:VEVENT
BEGIN:VEVENT
UID:388131-2da69939ed67427dc6bf3daba21059e9
X-WR-RELCALID:388131-2da69939ed67427dc6bf3daba21059e9
ORGANIZER:Volleyball
SEQUENCE:261112138
LOCATION:Halle der Bereitschaftspolizei, -, 54516 Wittlich-Wengerohr
GEO:49.97459800000000000000;6.94000050000000000000
SUMMARY:VL RL Fr.: PSV Wengerohr I - TuS Asbach
CLASS:PUBLIC
DTSTART:20161127T130000Z
DTSTAMP:20170325T222500Z
END:VEVENT
BEGIN:VEVENT
UID:388132-2da69939ed67427dc6bf3daba21059e9
X-WR-RELCALID:388132-2da69939ed67427dc6bf3daba21059e9
ORGANIZER:Volleyball
SEQUENCE:261112138
LOCATION:Halle der Bereitschaftspolizei, -, 54516 Wittlich-Wengerohr
GEO:49.97459800000000000000;6.94000050000000000000
SUMMARY:VL RL Fr.: PSV Wengerohr I - SV Gutweiler I
CLASS:PUBLIC
DTSTART:20161127T130000Z
DTSTAMP:20170325T222500Z
END:VEVENT
BEGIN:VEVENT
UID:388151-2da69939ed67427dc6bf3daba21059e9
X-WR-RELCALID:388151-2da69939ed67427dc6bf3daba21059e9
ORGANIZER:Volleyball
SEQUENCE:261112138
LOCATION:Halle der Bereitschaftspolizei, -, 54516 Wittlich-Wengerohr
GEO:49.97459800000000000000;6.94000050000000000000
SUMMARY:VL RL Fr.: PSV Wengerohr I - SSG Etzbach I
CLASS:PUBLIC
DTSTART:20170205T130000Z
DTSTAMP:20170325T222500Z
END:VEVENT
BEGIN:VEVENT
UID:388152-2da69939ed67427dc6bf3daba21059e9
X-WR-RELCALID:388152-2da69939ed67427dc6bf3daba21059e9
ORGANIZER:Volleyball
SEQUENCE:261112138
LOCATION:Halle der Bereitschaftspolizei, -, 54516 Wittlich-Wengerohr
GEO:49.97459800000000000000;6.94000050000000000000
SUMMARY:VL RL Fr.: PSV Wengerohr I - SC Altenkirchen
CLASS:PUBLIC
DTSTART:20170205T130000Z
DTSTAMP:20170325T222500Z
END:VEVENT
BEGIN:VEVENT
UID:388161-2da69939ed67427dc6bf3daba21059e9
X-WR-RELCALID:388161-2da69939ed67427dc6bf3daba21059e9
ORGANIZER:Volleyball
SEQUENCE:261112138
LOCATION:Halle der Bereitschaftspolizei, -, 54516 Wittlich-Wengerohr
GEO:49.97459800000000000000;6.94000050000000000000
SUMMARY:VL RL Fr.: PSV Wengerohr I - TV Ehrang I
CLASS:PUBLIC
DTSTART:20170212T130000Z
DTSTAMP:20170325T222500Z
END:VEVENT
BEGIN:VEVENT
UID:388162-2da69939ed67427dc6bf3daba21059e9
X-WR-RELCALID:388162-2da69939ed67427dc6bf3daba21059e9
ORGANIZER:Volleyball
SEQUENCE:261112138
LOCATION:Halle der Bereitschaftspolizei, -, 54516 Wittlich-Wengerohr
GEO:49.97459800000000000000;6.94000050000000000000
SUMMARY:VL RL Fr.: PSV Wengerohr I - VSG Sinzig I
CLASS:PUBLIC
DTSTART:20170212T130000Z
DTSTAMP:20170325T222500Z
END:VEVENT
END:VCALENDAR