BEGIN:VCALENDAR
VERSION:2.0
PRODID:VSD-Portal-www.volley.de
METHOD:PUBLISH
BEGIN:VEVENT
UID:388103-2da69939ed67427dc6bf3daba21059e9
X-WR-RELCALID:388103-2da69939ed67427dc6bf3daba21059e9
ORGANIZER:Volleyball
SEQUENCE:261111810
LOCATION:Großsporthalle - Hamm/Sieg, , 57577 Hamm/Sieg
GEO:50.76606020000000000000;7.67786850000000000000
SUMMARY:VL RL Fr.: SSG Etzbach I - SV Gutweiler I
CLASS:PUBLIC
DTSTART:20160917T130000Z
DTSTAMP:20170325T222500Z
END:VEVENT
BEGIN:VEVENT
UID:388104-2da69939ed67427dc6bf3daba21059e9
X-WR-RELCALID:388104-2da69939ed67427dc6bf3daba21059e9
ORGANIZER:Volleyball
SEQUENCE:261111810
LOCATION:Großsporthalle - Hamm/Sieg, , 57577 Hamm/Sieg
GEO:50.76606020000000000000;7.67786850000000000000
SUMMARY:VL RL Fr.: SSG Etzbach I - PSV Wengerohr I
CLASS:PUBLIC
DTSTART:20160917T130000Z
DTSTAMP:20170325T222500Z
END:VEVENT
BEGIN:VEVENT
UID:388127-2da69939ed67427dc6bf3daba21059e9
X-WR-RELCALID:388127-2da69939ed67427dc6bf3daba21059e9
ORGANIZER:Volleyball
SEQUENCE:261111810
LOCATION:Großsporthalle - Hamm/Sieg, , 57577 Hamm/Sieg
GEO:50.76606020000000000000;7.67786850000000000000
SUMMARY:VL RL Fr.: SSG Etzbach I - SC Altenkirchen
CLASS:PUBLIC
DTSTART:20161126T120000Z
DTSTAMP:20170325T222500Z
END:VEVENT
BEGIN:VEVENT
UID:388128-2da69939ed67427dc6bf3daba21059e9
X-WR-RELCALID:388128-2da69939ed67427dc6bf3daba21059e9
ORGANIZER:Volleyball
SEQUENCE:261111810
LOCATION:Großsporthalle - Hamm/Sieg, , 57577 Hamm/Sieg
GEO:50.76606020000000000000;7.67786850000000000000
SUMMARY:VL RL Fr.: SSG Etzbach I - VSG Sinzig I
CLASS:PUBLIC
DTSTART:20161126T120000Z
DTSTAMP:20170325T222500Z
END:VEVENT
BEGIN:VEVENT
UID:388143-2da69939ed67427dc6bf3daba21059e9
X-WR-RELCALID:388143-2da69939ed67427dc6bf3daba21059e9
ORGANIZER:Volleyball
SEQUENCE:261111810
LOCATION:Großsporthalle - Hamm/Sieg, , 57577 Hamm/Sieg
GEO:50.76606020000000000000;7.67786850000000000000
SUMMARY:VL RL Fr.: SSG Etzbach I - TG Konz I
CLASS:PUBLIC
DTSTART:20170115T100000Z
DTSTAMP:20170325T222500Z
END:VEVENT
BEGIN:VEVENT
UID:388144-2da69939ed67427dc6bf3daba21059e9
X-WR-RELCALID:388144-2da69939ed67427dc6bf3daba21059e9
ORGANIZER:Volleyball
SEQUENCE:261111810
LOCATION:Großsporthalle - Hamm/Sieg, , 57577 Hamm/Sieg
GEO:50.76606020000000000000;7.67786850000000000000
SUMMARY:VL RL Fr.: SSG Etzbach I - TV Ehrang I
CLASS:PUBLIC
DTSTART:20170115T100000Z
DTSTAMP:20170325T222500Z
END:VEVENT
BEGIN:VEVENT
UID:388159-2da69939ed67427dc6bf3daba21059e9
X-WR-RELCALID:388159-2da69939ed67427dc6bf3daba21059e9
ORGANIZER:Volleyball
SEQUENCE:261111810
LOCATION:Großsporthalle - Hamm/Sieg, , 57577 Hamm/Sieg
GEO:50.76606020000000000000;7.67786850000000000000
SUMMARY:VL RL Fr.: SSG Etzbach I - TuS Asbach
CLASS:PUBLIC
DTSTART:20170211T140000Z
DTSTAMP:20170325T222500Z
END:VEVENT
BEGIN:VEVENT
UID:388160-2da69939ed67427dc6bf3daba21059e9
X-WR-RELCALID:388160-2da69939ed67427dc6bf3daba21059e9
ORGANIZER:Volleyball
SEQUENCE:261111810
LOCATION:Großsporthalle - Hamm/Sieg, , 57577 Hamm/Sieg
GEO:50.76606020000000000000;7.67786850000000000000
SUMMARY:VL RL Fr.: SSG Etzbach I - TV Vallendar I
CLASS:PUBLIC
DTSTART:20170211T140000Z
DTSTAMP:20170325T222500Z
END:VEVENT
END:VCALENDAR