BEGIN:VCALENDAR
VERSION:2.0
PRODID:VSD-Portal-www.volley.de
METHOD:PUBLISH
BEGIN:VEVENT
UID:405979-2da69939ed67427dc6bf3daba21059e9
X-WR-RELCALID:405979-2da69939ed67427dc6bf3daba21059e9
ORGANIZER:Volleyball
SEQUENCE:261091722
SUMMARY:RLNO Mä.: VfK Berlin-Südwest - SSV 80 Gardelegen
CLASS:PUBLIC
DTSTART;VALUE=DATE:20160917
DTSTAMP:20170408T193000Z
DTEND;VALUE=DATE:20160918
END:VEVENT
BEGIN:VEVENT
UID:405971-2da69939ed67427dc6bf3daba21059e9
X-WR-RELCALID:405971-2da69939ed67427dc6bf3daba21059e9
ORGANIZER:Volleyball
SEQUENCE:261091722
SUMMARY:RLNO Mä.: VfK Berlin-Südwest - SV Energie Cottbus
CLASS:PUBLIC
DTSTART;VALUE=DATE:20160924
DTSTAMP:20170408T193000Z
DTEND;VALUE=DATE:20160925
END:VEVENT
BEGIN:VEVENT
UID:405973-2da69939ed67427dc6bf3daba21059e9
X-WR-RELCALID:405973-2da69939ed67427dc6bf3daba21059e9
ORGANIZER:Volleyball
SEQUENCE:261091722
SUMMARY:RLNO Mä.: MTV Wittenberg I - VfK Berlin-Südwest
CLASS:PUBLIC
DTSTART;VALUE=DATE:20161001
DTSTAMP:20170408T193000Z
DTEND;VALUE=DATE:20161002
END:VEVENT
BEGIN:VEVENT
UID:405964-2da69939ed67427dc6bf3daba21059e9
X-WR-RELCALID:405964-2da69939ed67427dc6bf3daba21059e9
ORGANIZER:Volleyball
SEQUENCE:261091722
SUMMARY:RLNO Mä.: USV Potsdam - VfK Berlin-Südwest
CLASS:PUBLIC
DTSTART;VALUE=DATE:20161008
DTSTAMP:20170408T193000Z
DTEND;VALUE=DATE:20161009
END:VEVENT
BEGIN:VEVENT
UID:416718-2da69939ed67427dc6bf3daba21059e9
X-WR-RELCALID:416718-2da69939ed67427dc6bf3daba21059e9
ORGANIZER:Volleyball
SEQUENCE:261091722
SUMMARY:RLNO Mä.: SG Rotation Prenzlauer Berg - VfK Berlin-Südwest
CLASS:PUBLIC
DTSTART;VALUE=DATE:20161029
DTSTAMP:20170408T193000Z
DTEND;VALUE=DATE:20161030
END:VEVENT
BEGIN:VEVENT
UID:416721-2da69939ed67427dc6bf3daba21059e9
X-WR-RELCALID:416721-2da69939ed67427dc6bf3daba21059e9
ORGANIZER:Volleyball
SEQUENCE:261091722
SUMMARY:RLNO Mä.: VfK Berlin-Südwest - SG Prieros / KWh
CLASS:PUBLIC
DTSTART;VALUE=DATE:20161105
DTSTAMP:20170408T193000Z
DTEND;VALUE=DATE:20161106
END:VEVENT
BEGIN:VEVENT
UID:416782-2da69939ed67427dc6bf3daba21059e9
X-WR-RELCALID:416782-2da69939ed67427dc6bf3daba21059e9
ORGANIZER:Volleyball
SEQUENCE:261091722
SUMMARY:RLNO Mä.: VfK Berlin-Südwest - CV Mitteldeutschland II
CLASS:PUBLIC
DTSTART;VALUE=DATE:20161112
DTSTAMP:20170408T193000Z
DTEND;VALUE=DATE:20161113
END:VEVENT
BEGIN:VEVENT
UID:416731-2da69939ed67427dc6bf3daba21059e9
X-WR-RELCALID:416731-2da69939ed67427dc6bf3daba21059e9
ORGANIZER:Volleyball
SEQUENCE:261091722
SUMMARY:RLNO Mä.: VfK Berlin-Südwest - KSC ASAHI Spremberg
CLASS:PUBLIC
DTSTART;VALUE=DATE:20161120
DTSTAMP:20170408T193000Z
DTEND;VALUE=DATE:20161121
END:VEVENT
BEGIN:VEVENT
UID:416736-2da69939ed67427dc6bf3daba21059e9
X-WR-RELCALID:416736-2da69939ed67427dc6bf3daba21059e9
ORGANIZER:Volleyball
SEQUENCE:261091722
SUMMARY:RLNO Mä.: VfK Berlin-Südwest - BV Vorwärts II
CLASS:PUBLIC
DTSTART;VALUE=DATE:20161126
DTSTAMP:20170408T193000Z
DTEND;VALUE=DATE:20161127
END:VEVENT
BEGIN:VEVENT
UID:416711-2da69939ed67427dc6bf3daba21059e9
X-WR-RELCALID:416711-2da69939ed67427dc6bf3daba21059e9
ORGANIZER:Volleyball
SEQUENCE:261091722
SUMMARY:RLNO Mä.: VfK Berlin-Südwest - VC Potsdam-Waldstadt
CLASS:PUBLIC
DTSTART;VALUE=DATE:20161203
DTSTAMP:20170408T193000Z
DTEND;VALUE=DATE:20161204
END:VEVENT
BEGIN:VEVENT
UID:416756-2da69939ed67427dc6bf3daba21059e9
X-WR-RELCALID:416756-2da69939ed67427dc6bf3daba21059e9
ORGANIZER:Volleyball
SEQUENCE:261091722
SUMMARY:RLNO Mä.: SV Energie Cottbus - VfK Berlin-Südwest
CLASS:PUBLIC
DTSTART;VALUE=DATE:20170107
DTSTAMP:20170408T193000Z
DTEND;VALUE=DATE:20170108
END:VEVENT
BEGIN:VEVENT
UID:416763-2da69939ed67427dc6bf3daba21059e9
X-WR-RELCALID:416763-2da69939ed67427dc6bf3daba21059e9
ORGANIZER:Volleyball
SEQUENCE:261091722
SUMMARY:RLNO Mä.: VfK Berlin-Südwest - USV Potsdam
CLASS:PUBLIC
DTSTART;VALUE=DATE:20170114
DTSTAMP:20170408T193000Z
DTEND;VALUE=DATE:20170115
END:VEVENT
BEGIN:VEVENT
UID:416773-2da69939ed67427dc6bf3daba21059e9
X-WR-RELCALID:416773-2da69939ed67427dc6bf3daba21059e9
ORGANIZER:Volleyball
SEQUENCE:261091722
SUMMARY:RLNO Mä.: VfK Berlin-Südwest - SG Rotation Prenzlauer Berg
CLASS:PUBLIC
DTSTART;VALUE=DATE:20170128
DTSTAMP:20170408T193000Z
DTEND;VALUE=DATE:20170129
END:VEVENT
BEGIN:VEVENT
UID:416766-2da69939ed67427dc6bf3daba21059e9
X-WR-RELCALID:416766-2da69939ed67427dc6bf3daba21059e9
ORGANIZER:Volleyball
SEQUENCE:261091722
SUMMARY:RLNO Mä.: VC Potsdam-Waldstadt - VfK Berlin-Südwest
CLASS:PUBLIC
DTSTART;VALUE=DATE:20170205
DTSTAMP:20170408T193000Z
DTEND;VALUE=DATE:20170206
END:VEVENT
BEGIN:VEVENT
UID:416776-2da69939ed67427dc6bf3daba21059e9
X-WR-RELCALID:416776-2da69939ed67427dc6bf3daba21059e9
ORGANIZER:Volleyball
SEQUENCE:261091722
SUMMARY:RLNO Mä.: SG Prieros / KWh - VfK Berlin-Südwest
CLASS:PUBLIC
DTSTART;VALUE=DATE:20170211
DTSTAMP:20170408T193000Z
DTEND;VALUE=DATE:20170212
END:VEVENT
BEGIN:VEVENT
UID:416727-2da69939ed67427dc6bf3daba21059e9
X-WR-RELCALID:416727-2da69939ed67427dc6bf3daba21059e9
ORGANIZER:Volleyball
SEQUENCE:261091722
SUMMARY:RLNO Mä.: CV Mitteldeutschland II - VfK Berlin-Südwest
CLASS:PUBLIC
DTSTART;VALUE=DATE:20170218
DTSTAMP:20170408T193000Z
DTEND;VALUE=DATE:20170219
END:VEVENT
BEGIN:VEVENT
UID:416791-2da69939ed67427dc6bf3daba21059e9
X-WR-RELCALID:416791-2da69939ed67427dc6bf3daba21059e9
ORGANIZER:Volleyball
SEQUENCE:261091722
SUMMARY:RLNO Mä.: BV Vorwärts II - VfK Berlin-Südwest
CLASS:PUBLIC
DTSTART;VALUE=DATE:20170304
DTSTAMP:20170408T193000Z
DTEND;VALUE=DATE:20170305
END:VEVENT
BEGIN:VEVENT
UID:416746-2da69939ed67427dc6bf3daba21059e9
X-WR-RELCALID:416746-2da69939ed67427dc6bf3daba21059e9
ORGANIZER:Volleyball
SEQUENCE:261091722
SUMMARY:RLNO Mä.: SSV 80 Gardelegen - VfK Berlin-Südwest
CLASS:PUBLIC
DTSTART;VALUE=DATE:20170311
DTSTAMP:20170408T193000Z
DTEND;VALUE=DATE:20170312
END:VEVENT
BEGIN:VEVENT
UID:416786-2da69939ed67427dc6bf3daba21059e9
X-WR-RELCALID:416786-2da69939ed67427dc6bf3daba21059e9
ORGANIZER:Volleyball
SEQUENCE:261091722
SUMMARY:RLNO Mä.: KSC ASAHI Spremberg - VfK Berlin-Südwest
CLASS:PUBLIC
DTSTART;VALUE=DATE:20170318
DTSTAMP:20170408T193000Z
DTEND;VALUE=DATE:20170319
END:VEVENT
BEGIN:VEVENT
UID:416754-2da69939ed67427dc6bf3daba21059e9
X-WR-RELCALID:416754-2da69939ed67427dc6bf3daba21059e9
ORGANIZER:Volleyball
SEQUENCE:261091722
SUMMARY:RLNO Mä.: VfK Berlin-Südwest - MTV Wittenberg I
CLASS:PUBLIC
DTSTART;VALUE=DATE:20170408
DTSTAMP:20170408T193000Z
DTEND;VALUE=DATE:20170409
END:VEVENT
END:VCALENDAR