BEGIN:VCALENDAR
VERSION:2.0
PRODID:VSD-Portal-www.volley.de
METHOD:PUBLISH
BEGIN:VEVENT
UID:367582-2da69939ed67427dc6bf3daba21059e9
X-WR-RELCALID:367582-2da69939ed67427dc6bf3daba21059e9
ORGANIZER:Volleyball
SEQUENCE:261091404
LOCATION:VTH Halle Hagsfeld, Schäferstr. 26, 76139 Karlsruhe (Hagsfeld
 )
GEO:49.02758780000000000000;8.45937550000000000000
SUMMARY:BKl 2 Mä.: VT Hagsfeld - TV Bühl 3
CLASS:PUBLIC
DTSTART:20151003T120000Z
DTSTAMP:20160328T124500Z
END:VEVENT
BEGIN:VEVENT
UID:367583-2da69939ed67427dc6bf3daba21059e9
X-WR-RELCALID:367583-2da69939ed67427dc6bf3daba21059e9
ORGANIZER:Volleyball
SEQUENCE:261091404
LOCATION:VTH Halle Hagsfeld, Schäferstr. 26, 76139 Karlsruhe (Hagsfeld
 )
GEO:49.02758780000000000000;8.45937550000000000000
SUMMARY:BKl 2 Mä.: VT Hagsfeld - Post Südstadt Karlsruhe
CLASS:PUBLIC
DTSTART:20151003T120000Z
DTSTAMP:20160328T124500Z
END:VEVENT
BEGIN:VEVENT
UID:367606-2da69939ed67427dc6bf3daba21059e9
X-WR-RELCALID:367606-2da69939ed67427dc6bf3daba21059e9
ORGANIZER:Volleyball
SEQUENCE:261091404
LOCATION:VTH Halle Hagsfeld, Schäferstr. 26, 76139 Karlsruhe (Hagsfeld
 )
GEO:49.02758780000000000000;8.45937550000000000000
SUMMARY:BKl 2 Mä.: VT Hagsfeld - TSG Blankenloch 3
CLASS:PUBLIC
DTSTART:20151121T130000Z
DTSTAMP:20160328T124500Z
END:VEVENT
BEGIN:VEVENT
UID:367607-2da69939ed67427dc6bf3daba21059e9
X-WR-RELCALID:367607-2da69939ed67427dc6bf3daba21059e9
ORGANIZER:Volleyball
SEQUENCE:261091404
LOCATION:VTH Halle Hagsfeld, Schäferstr. 26, 76139 Karlsruhe (Hagsfeld
 )
GEO:49.02758780000000000000;8.45937550000000000000
SUMMARY:BKl 2 Mä.: VT Hagsfeld - VSG Kleinsteinbach 3
CLASS:PUBLIC
DTSTART:20151121T130000Z
DTSTAMP:20160328T124500Z
END:VEVENT
BEGIN:VEVENT
UID:367618-2da69939ed67427dc6bf3daba21059e9
X-WR-RELCALID:367618-2da69939ed67427dc6bf3daba21059e9
ORGANIZER:Volleyball
SEQUENCE:261091404
LOCATION:VTH Halle Hagsfeld, Schäferstr. 26, 76139 Karlsruhe (Hagsfeld
 )
GEO:49.02758780000000000000;8.45937550000000000000
SUMMARY:BKl 2 Mä.: VT Hagsfeld - SSC Karlsruhe 5
CLASS:PUBLIC
DTSTART:20151212T130000Z
DTSTAMP:20160328T124500Z
END:VEVENT
BEGIN:VEVENT
UID:367619-2da69939ed67427dc6bf3daba21059e9
X-WR-RELCALID:367619-2da69939ed67427dc6bf3daba21059e9
ORGANIZER:Volleyball
SEQUENCE:261091404
LOCATION:VTH Halle Hagsfeld, Schäferstr. 26, 76139 Karlsruhe (Hagsfeld
 )
GEO:49.02758780000000000000;8.45937550000000000000
SUMMARY:BKl 2 Mä.: VT Hagsfeld - TuS Durmersheim 2
CLASS:PUBLIC
DTSTART:20151212T130000Z
DTSTAMP:20160328T124500Z
END:VEVENT
BEGIN:VEVENT
UID:367638-2da69939ed67427dc6bf3daba21059e9
X-WR-RELCALID:367638-2da69939ed67427dc6bf3daba21059e9
ORGANIZER:Volleyball
SEQUENCE:261091404
LOCATION:VTH Halle Hagsfeld, Schäferstr. 26, 76139 Karlsruhe (Hagsfeld
 )
GEO:49.02758780000000000000;8.45937550000000000000
SUMMARY:BKl 2 Mä.: VT Hagsfeld - TV Hochstetten
CLASS:PUBLIC
DTSTART:20160227T130000Z
DTSTAMP:20160328T124500Z
END:VEVENT
BEGIN:VEVENT
UID:367639-2da69939ed67427dc6bf3daba21059e9
X-WR-RELCALID:367639-2da69939ed67427dc6bf3daba21059e9
ORGANIZER:Volleyball
SEQUENCE:261091404
LOCATION:VTH Halle Hagsfeld, Schäferstr. 26, 76139 Karlsruhe (Hagsfeld
 )
GEO:49.02758780000000000000;8.45937550000000000000
SUMMARY:BKl 2 Mä.: VT Hagsfeld - TS Durlach 3
CLASS:PUBLIC
DTSTART:20160227T130000Z
DTSTAMP:20160328T124500Z
END:VEVENT
END:VCALENDAR