BEGIN:VCALENDAR
VERSION:2.0
PRODID:VSD-Portal-www.volley.de
METHOD:PUBLISH
BEGIN:VEVENT
UID:366394-2da69939ed67427dc6bf3daba21059e9
X-WR-RELCALID:366394-2da69939ed67427dc6bf3daba21059e9
ORGANIZER:Volleyball
SEQUENCE:261091455
SUMMARY:LKl W Mä.: SV 05 Rehbrücke  - VC Potsdam-Waldstadt III
CLASS:PUBLIC
DTSTART;VALUE=DATE:20150919
DTSTAMP:20160321T163000Z
DTEND;VALUE=DATE:20150920
END:VEVENT
BEGIN:VEVENT
UID:366395-2da69939ed67427dc6bf3daba21059e9
X-WR-RELCALID:366395-2da69939ed67427dc6bf3daba21059e9
ORGANIZER:Volleyball
SEQUENCE:261091455
SUMMARY:LKl W Mä.: SV 05 Rehbrücke  - SV Lindow Gransee III
CLASS:PUBLIC
DTSTART;VALUE=DATE:20150919
DTSTAMP:20160321T163000Z
DTEND;VALUE=DATE:20150920
END:VEVENT
BEGIN:VEVENT
UID:366402-2da69939ed67427dc6bf3daba21059e9
X-WR-RELCALID:366402-2da69939ed67427dc6bf3daba21059e9
ORGANIZER:Volleyball
SEQUENCE:261091455
SUMMARY:LKl W Mä.: SV 05 Rehbrücke  - VC Blau-Weiß Brandenburg II
CLASS:PUBLIC
DTSTART;VALUE=DATE:20151003
DTSTAMP:20160321T163000Z
DTEND;VALUE=DATE:20151004
END:VEVENT
BEGIN:VEVENT
UID:366426-2da69939ed67427dc6bf3daba21059e9
X-WR-RELCALID:366426-2da69939ed67427dc6bf3daba21059e9
ORGANIZER:Volleyball
SEQUENCE:261091455
SUMMARY:LKl W Mä.: SV 05 Rehbrücke  - VC Fortuna Kyritz 
CLASS:PUBLIC
DTSTART;VALUE=DATE:20151114
DTSTAMP:20160321T163000Z
DTEND;VALUE=DATE:20151115
END:VEVENT
BEGIN:VEVENT
UID:366448-2da69939ed67427dc6bf3daba21059e9
X-WR-RELCALID:366448-2da69939ed67427dc6bf3daba21059e9
ORGANIZER:Volleyball
SEQUENCE:261091455
SUMMARY:LKl W Mä.: SV 05 Rehbrücke  - VSV Havel Oranienburg 
CLASS:PUBLIC
DTSTART;VALUE=DATE:20151212
DTSTAMP:20160321T163000Z
DTEND;VALUE=DATE:20151213
END:VEVENT
BEGIN:VEVENT
UID:366449-2da69939ed67427dc6bf3daba21059e9
X-WR-RELCALID:366449-2da69939ed67427dc6bf3daba21059e9
ORGANIZER:Volleyball
SEQUENCE:261091455
SUMMARY:LKl W Mä.: SV 05 Rehbrücke  - VC Teltow/Kleinmachnow II
CLASS:PUBLIC
DTSTART;VALUE=DATE:20151212
DTSTAMP:20160321T163000Z
DTEND;VALUE=DATE:20151213
END:VEVENT
BEGIN:VEVENT
UID:366459-2da69939ed67427dc6bf3daba21059e9
X-WR-RELCALID:366459-2da69939ed67427dc6bf3daba21059e9
ORGANIZER:Volleyball
SEQUENCE:261091455
SUMMARY:LKl W Mä.: SV 05 Rehbrücke  - VV Michendorf 
CLASS:PUBLIC
DTSTART;VALUE=DATE:20160109
DTSTAMP:20160321T163000Z
DTEND;VALUE=DATE:20160110
END:VEVENT
BEGIN:VEVENT
UID:366481-2da69939ed67427dc6bf3daba21059e9
X-WR-RELCALID:366481-2da69939ed67427dc6bf3daba21059e9
ORGANIZER:Volleyball
SEQUENCE:261091455
SUMMARY:LKl W Mä.: SV 05 Rehbrücke  - VC Blau-Weiß Brandenburg II
CLASS:PUBLIC
DTSTART;VALUE=DATE:20160213
DTSTAMP:20160321T163000Z
DTEND;VALUE=DATE:20160214
END:VEVENT
BEGIN:VEVENT
UID:366482-2da69939ed67427dc6bf3daba21059e9
X-WR-RELCALID:366482-2da69939ed67427dc6bf3daba21059e9
ORGANIZER:Volleyball
SEQUENCE:261091455
SUMMARY:LKl W Mä.: SV 05 Rehbrücke  - Belziger SG Einheit 
CLASS:PUBLIC
DTSTART;VALUE=DATE:20160213
DTSTAMP:20160321T163000Z
DTEND;VALUE=DATE:20160214
END:VEVENT
BEGIN:VEVENT
UID:366514-2da69939ed67427dc6bf3daba21059e9
X-WR-RELCALID:366514-2da69939ed67427dc6bf3daba21059e9
ORGANIZER:Volleyball
SEQUENCE:261091455
SUMMARY:LKl W Mä.: SV 05 Rehbrücke  - SG Beelitz 
CLASS:PUBLIC
DTSTART;VALUE=DATE:20160312
DTSTAMP:20160321T163000Z
DTEND;VALUE=DATE:20160313
END:VEVENT
BEGIN:VEVENT
UID:366515-2da69939ed67427dc6bf3daba21059e9
X-WR-RELCALID:366515-2da69939ed67427dc6bf3daba21059e9
ORGANIZER:Volleyball
SEQUENCE:261091455
SUMMARY:LKl W Mä.: SV 05 Rehbrücke  - Werderaner VV 1990 III
CLASS:PUBLIC
DTSTART;VALUE=DATE:20160312
DTSTAMP:20160321T163000Z
DTEND;VALUE=DATE:20160313
END:VEVENT
END:VCALENDAR