BEGIN:VCALENDAR
VERSION:2.0
PRODID:VSD-Portal-www.volley.de
METHOD:PUBLISH
BEGIN:VEVENT
UID:364155-2da69939ed67427dc6bf3daba21059e9
X-WR-RELCALID:364155-2da69939ed67427dc6bf3daba21059e9
ORGANIZER:Volleyball
SEQUENCE:261111956
SUMMARY:VL N Fr.: 1. VC Schloß Apolda I - VfL Weimar 90
CLASS:PUBLIC
DTSTART;VALUE=DATE:20151031
DTSTAMP:20160319T184500Z
DTEND;VALUE=DATE:20151101
END:VEVENT
BEGIN:VEVENT
UID:364156-2da69939ed67427dc6bf3daba21059e9
X-WR-RELCALID:364156-2da69939ed67427dc6bf3daba21059e9
ORGANIZER:Volleyball
SEQUENCE:261111956
SUMMARY:VL N Fr.: SV Tröbnitz 1923 - VfL Weimar 90
CLASS:PUBLIC
DTSTART;VALUE=DATE:20151031
DTSTAMP:20160319T184500Z
DTEND;VALUE=DATE:20151101
END:VEVENT
BEGIN:VEVENT
UID:364166-2da69939ed67427dc6bf3daba21059e9
X-WR-RELCALID:364166-2da69939ed67427dc6bf3daba21059e9
ORGANIZER:Volleyball
SEQUENCE:261111956
SUMMARY:VL N Fr.: VfL Weimar 90 - SSG 01 Blankenhain
CLASS:PUBLIC
DTSTART;VALUE=DATE:20151121
DTSTAMP:20160319T184500Z
DTEND;VALUE=DATE:20151122
END:VEVENT
BEGIN:VEVENT
UID:364167-2da69939ed67427dc6bf3daba21059e9
X-WR-RELCALID:364167-2da69939ed67427dc6bf3daba21059e9
ORGANIZER:Volleyball
SEQUENCE:261111956
SUMMARY:VL N Fr.: VfL Weimar 90 - SV Tröbnitz 1923
CLASS:PUBLIC
DTSTART;VALUE=DATE:20151121
DTSTAMP:20160319T184500Z
DTEND;VALUE=DATE:20151122
END:VEVENT
BEGIN:VEVENT
UID:364176-2da69939ed67427dc6bf3daba21059e9
X-WR-RELCALID:364176-2da69939ed67427dc6bf3daba21059e9
ORGANIZER:Volleyball
SEQUENCE:261111956
SUMMARY:VL N Fr.: SV Fortuna Pößneck - VfL Weimar 90
CLASS:PUBLIC
DTSTART;VALUE=DATE:20151205
DTSTAMP:20160319T184500Z
DTEND;VALUE=DATE:20151206
END:VEVENT
BEGIN:VEVENT
UID:364177-2da69939ed67427dc6bf3daba21059e9
X-WR-RELCALID:364177-2da69939ed67427dc6bf3daba21059e9
ORGANIZER:Volleyball
SEQUENCE:261111956
SUMMARY:VL N Fr.: 1. SC Leinefelde 1912 - VfL Weimar 90
CLASS:PUBLIC
DTSTART;VALUE=DATE:20151205
DTSTAMP:20160319T184500Z
DTEND;VALUE=DATE:20151206
END:VEVENT
BEGIN:VEVENT
UID:364178-2da69939ed67427dc6bf3daba21059e9
X-WR-RELCALID:364178-2da69939ed67427dc6bf3daba21059e9
ORGANIZER:Volleyball
SEQUENCE:261111956
SUMMARY:VL N Fr.: Volley Juniors Thüringen - VfL Weimar 90
CLASS:PUBLIC
DTSTART;VALUE=DATE:20151212
DTSTAMP:20160319T184500Z
DTEND;VALUE=DATE:20151213
END:VEVENT
BEGIN:VEVENT
UID:364180-2da69939ed67427dc6bf3daba21059e9
X-WR-RELCALID:364180-2da69939ed67427dc6bf3daba21059e9
ORGANIZER:Volleyball
SEQUENCE:261111956
SUMMARY:VL N Fr.: VfL Weimar 90 - 1. VC Schloß Apolda I
CLASS:PUBLIC
DTSTART;VALUE=DATE:20151212
DTSTAMP:20160319T184500Z
DTEND;VALUE=DATE:20151213
END:VEVENT
BEGIN:VEVENT
UID:364187-2da69939ed67427dc6bf3daba21059e9
X-WR-RELCALID:364187-2da69939ed67427dc6bf3daba21059e9
ORGANIZER:Volleyball
SEQUENCE:261111956
SUMMARY:VL N Fr.: USV Jena II - VfL Weimar 90
CLASS:PUBLIC
DTSTART;VALUE=DATE:20160109
DTSTAMP:20160319T184500Z
DTEND;VALUE=DATE:20160110
END:VEVENT
BEGIN:VEVENT
UID:364189-2da69939ed67427dc6bf3daba21059e9
X-WR-RELCALID:364189-2da69939ed67427dc6bf3daba21059e9
ORGANIZER:Volleyball
SEQUENCE:261111956
SUMMARY:VL N Fr.: VfL Weimar 90 - VfB Bischofferode
CLASS:PUBLIC
DTSTART;VALUE=DATE:20160109
DTSTAMP:20160319T184500Z
DTEND;VALUE=DATE:20160110
END:VEVENT
BEGIN:VEVENT
UID:364202-2da69939ed67427dc6bf3daba21059e9
X-WR-RELCALID:364202-2da69939ed67427dc6bf3daba21059e9
ORGANIZER:Volleyball
SEQUENCE:261111956
SUMMARY:VL N Fr.: VfL Weimar 90 - VfB Bischofferode
CLASS:PUBLIC
DTSTART;VALUE=DATE:20160123
DTSTAMP:20160319T184500Z
DTEND;VALUE=DATE:20160124
END:VEVENT
BEGIN:VEVENT
UID:364203-2da69939ed67427dc6bf3daba21059e9
X-WR-RELCALID:364203-2da69939ed67427dc6bf3daba21059e9
ORGANIZER:Volleyball
SEQUENCE:261111956
SUMMARY:VL N Fr.: VfL Weimar 90 - 1. SC Leinefelde 1912
CLASS:PUBLIC
DTSTART;VALUE=DATE:20160123
DTSTAMP:20160319T184500Z
DTEND;VALUE=DATE:20160124
END:VEVENT
BEGIN:VEVENT
UID:364212-2da69939ed67427dc6bf3daba21059e9
X-WR-RELCALID:364212-2da69939ed67427dc6bf3daba21059e9
ORGANIZER:Volleyball
SEQUENCE:261111956
SUMMARY:VL N Fr.: SSG 01 Blankenhain - VfL Weimar 90
CLASS:PUBLIC
DTSTART;VALUE=DATE:20160220
DTSTAMP:20160319T184500Z
DTEND;VALUE=DATE:20160221
END:VEVENT
BEGIN:VEVENT
UID:364213-2da69939ed67427dc6bf3daba21059e9
X-WR-RELCALID:364213-2da69939ed67427dc6bf3daba21059e9
ORGANIZER:Volleyball
SEQUENCE:261111956
SUMMARY:VL N Fr.: VC Altenburg I - VfL Weimar 90
CLASS:PUBLIC
DTSTART;VALUE=DATE:20160220
DTSTAMP:20160319T184500Z
DTEND;VALUE=DATE:20160221
END:VEVENT
BEGIN:VEVENT
UID:364217-2da69939ed67427dc6bf3daba21059e9
X-WR-RELCALID:364217-2da69939ed67427dc6bf3daba21059e9
ORGANIZER:Volleyball
SEQUENCE:261111956
SUMMARY:VL N Fr.: VfL Weimar 90 - Volley Juniors Thüringen
CLASS:PUBLIC
DTSTART;VALUE=DATE:20160227
DTSTAMP:20160319T184500Z
DTEND;VALUE=DATE:20160228
END:VEVENT
BEGIN:VEVENT
UID:364218-2da69939ed67427dc6bf3daba21059e9
X-WR-RELCALID:364218-2da69939ed67427dc6bf3daba21059e9
ORGANIZER:Volleyball
SEQUENCE:261111956
SUMMARY:VL N Fr.: VfL Weimar 90 - USV Jena II
CLASS:PUBLIC
DTSTART;VALUE=DATE:20160227
DTSTAMP:20160319T184500Z
DTEND;VALUE=DATE:20160228
END:VEVENT
BEGIN:VEVENT
UID:364224-2da69939ed67427dc6bf3daba21059e9
X-WR-RELCALID:364224-2da69939ed67427dc6bf3daba21059e9
ORGANIZER:Volleyball
SEQUENCE:261111956
SUMMARY:VL N Fr.: VC Altenburg I - VfL Weimar 90
CLASS:PUBLIC
DTSTART;VALUE=DATE:20160319
DTSTAMP:20160319T184500Z
DTEND;VALUE=DATE:20160320
END:VEVENT
BEGIN:VEVENT
UID:364225-2da69939ed67427dc6bf3daba21059e9
X-WR-RELCALID:364225-2da69939ed67427dc6bf3daba21059e9
ORGANIZER:Volleyball
SEQUENCE:261111956
SUMMARY:VL N Fr.: SV Fortuna Pößneck - VfL Weimar 90
CLASS:PUBLIC
DTSTART;VALUE=DATE:20160319
DTSTAMP:20160319T184500Z
DTEND;VALUE=DATE:20160320
END:VEVENT
END:VCALENDAR