BEGIN:VCALENDAR
VERSION:2.0
PRODID:VSD-Portal-www.volley.de
METHOD:PUBLISH
BEGIN:VEVENT
UID:364169-2da69939ed67427dc6bf3daba21059e9
X-WR-RELCALID:364169-2da69939ed67427dc6bf3daba21059e9
ORGANIZER:Volleyball
SEQUENCE:261120413
SUMMARY:VL N Fr.: VC Altenburg I - 1. SC Leinefelde 1912
CLASS:PUBLIC
DTSTART;VALUE=DATE:20151128
DTSTAMP:20160319T184500Z
DTEND;VALUE=DATE:20151129
END:VEVENT
BEGIN:VEVENT
UID:364170-2da69939ed67427dc6bf3daba21059e9
X-WR-RELCALID:364170-2da69939ed67427dc6bf3daba21059e9
ORGANIZER:Volleyball
SEQUENCE:261120413
SUMMARY:VL N Fr.: VC Altenburg I - Volley Juniors Thüringen
CLASS:PUBLIC
DTSTART;VALUE=DATE:20151128
DTSTAMP:20160319T184500Z
DTEND;VALUE=DATE:20151129
END:VEVENT
BEGIN:VEVENT
UID:364174-2da69939ed67427dc6bf3daba21059e9
X-WR-RELCALID:364174-2da69939ed67427dc6bf3daba21059e9
ORGANIZER:Volleyball
SEQUENCE:261120413
SUMMARY:VL N Fr.: VC Altenburg I - SSG 01 Blankenhain
CLASS:PUBLIC
DTSTART;VALUE=DATE:20151205
DTSTAMP:20160319T184500Z
DTEND;VALUE=DATE:20151206
END:VEVENT
BEGIN:VEVENT
UID:364195-2da69939ed67427dc6bf3daba21059e9
X-WR-RELCALID:364195-2da69939ed67427dc6bf3daba21059e9
ORGANIZER:Volleyball
SEQUENCE:261120413
SUMMARY:VL N Fr.: VC Altenburg I - USV Jena II
CLASS:PUBLIC
DTSTART;VALUE=DATE:20160116
DTSTAMP:20160319T184500Z
DTEND;VALUE=DATE:20160117
END:VEVENT
BEGIN:VEVENT
UID:364199-2da69939ed67427dc6bf3daba21059e9
X-WR-RELCALID:364199-2da69939ed67427dc6bf3daba21059e9
ORGANIZER:Volleyball
SEQUENCE:261120413
SUMMARY:VL N Fr.: VC Altenburg I - 1. VC Schloß Apolda I
CLASS:PUBLIC
DTSTART;VALUE=DATE:20160123
DTSTAMP:20160319T184500Z
DTEND;VALUE=DATE:20160124
END:VEVENT
BEGIN:VEVENT
UID:364200-2da69939ed67427dc6bf3daba21059e9
X-WR-RELCALID:364200-2da69939ed67427dc6bf3daba21059e9
ORGANIZER:Volleyball
SEQUENCE:261120413
SUMMARY:VL N Fr.: VC Altenburg I - SV Tröbnitz 1923
CLASS:PUBLIC
DTSTART;VALUE=DATE:20160123
DTSTAMP:20160319T184500Z
DTEND;VALUE=DATE:20160124
END:VEVENT
BEGIN:VEVENT
UID:364213-2da69939ed67427dc6bf3daba21059e9
X-WR-RELCALID:364213-2da69939ed67427dc6bf3daba21059e9
ORGANIZER:Volleyball
SEQUENCE:261120413
SUMMARY:VL N Fr.: VC Altenburg I - VfL Weimar 90
CLASS:PUBLIC
DTSTART;VALUE=DATE:20160220
DTSTAMP:20160319T184500Z
DTEND;VALUE=DATE:20160221
END:VEVENT
BEGIN:VEVENT
UID:364216-2da69939ed67427dc6bf3daba21059e9
X-WR-RELCALID:364216-2da69939ed67427dc6bf3daba21059e9
ORGANIZER:Volleyball
SEQUENCE:261120413
SUMMARY:VL N Fr.: VC Altenburg I - VfB Bischofferode
CLASS:PUBLIC
DTSTART;VALUE=DATE:20160227
DTSTAMP:20160319T184500Z
DTEND;VALUE=DATE:20160228
END:VEVENT
BEGIN:VEVENT
UID:364223-2da69939ed67427dc6bf3daba21059e9
X-WR-RELCALID:364223-2da69939ed67427dc6bf3daba21059e9
ORGANIZER:Volleyball
SEQUENCE:261120413
SUMMARY:VL N Fr.: VC Altenburg I - SV Fortuna Pößneck
CLASS:PUBLIC
DTSTART;VALUE=DATE:20160319
DTSTAMP:20160319T184500Z
DTEND;VALUE=DATE:20160320
END:VEVENT
BEGIN:VEVENT
UID:364224-2da69939ed67427dc6bf3daba21059e9
X-WR-RELCALID:364224-2da69939ed67427dc6bf3daba21059e9
ORGANIZER:Volleyball
SEQUENCE:261120413
SUMMARY:VL N Fr.: VC Altenburg I - VfL Weimar 90
CLASS:PUBLIC
DTSTART;VALUE=DATE:20160319
DTSTAMP:20160319T184500Z
DTEND;VALUE=DATE:20160320
END:VEVENT
END:VCALENDAR