BEGIN:VCALENDAR
VERSION:2.0
PRODID:VSD-Portal-www.volley.de
METHOD:PUBLISH
BEGIN:VEVENT
UID:355638-2da69939ed67427dc6bf3daba21059e9
X-WR-RELCALID:355638-2da69939ed67427dc6bf3daba21059e9
ORGANIZER:Volleyball
SEQUENCE:261131523
LOCATION:Sporthalle, , 54429 Schillingen
GEO:49.63469710000000000000;6.78632090000000000000
SUMMARY:BL Rh/Mos. Fr.: SV Hentern - TG Konz II
CLASS:PUBLIC
DTSTART:20150926T120000Z
DTSTAMP:20160322T150000Z
END:VEVENT
BEGIN:VEVENT
UID:355639-2da69939ed67427dc6bf3daba21059e9
X-WR-RELCALID:355639-2da69939ed67427dc6bf3daba21059e9
ORGANIZER:Volleyball
SEQUENCE:261131523
LOCATION:Sporthalle, , 54429 Schillingen
GEO:49.63469710000000000000;6.78632090000000000000
SUMMARY:BL Rh/Mos. Fr.: SV Hentern - TG Konz I
CLASS:PUBLIC
DTSTART:20150926T120000Z
DTSTAMP:20160322T150000Z
END:VEVENT
BEGIN:VEVENT
UID:355654-2da69939ed67427dc6bf3daba21059e9
X-WR-RELCALID:355654-2da69939ed67427dc6bf3daba21059e9
ORGANIZER:Volleyball
SEQUENCE:261131523
LOCATION:Sporthalle, , 54429 Schillingen
GEO:49.63469710000000000000;6.78632090000000000000
SUMMARY:BL Rh/Mos. Fr.: SV Hentern - TG Trier
CLASS:PUBLIC
DTSTART:20151114T120000Z
DTSTAMP:20160322T150000Z
END:VEVENT
BEGIN:VEVENT
UID:355655-2da69939ed67427dc6bf3daba21059e9
X-WR-RELCALID:355655-2da69939ed67427dc6bf3daba21059e9
ORGANIZER:Volleyball
SEQUENCE:261131523
LOCATION:Sporthalle, , 54429 Schillingen
GEO:49.63469710000000000000;6.78632090000000000000
SUMMARY:BL Rh/Mos. Fr.: SV Hentern - FC Wierschem II
CLASS:PUBLIC
DTSTART:20151114T120000Z
DTSTAMP:20160322T150000Z
END:VEVENT
BEGIN:VEVENT
UID:355680-2da69939ed67427dc6bf3daba21059e9
X-WR-RELCALID:355680-2da69939ed67427dc6bf3daba21059e9
ORGANIZER:Volleyball
SEQUENCE:261131523
LOCATION:Sporthalle, , 54429 Schillingen
GEO:49.63469710000000000000;6.78632090000000000000
SUMMARY:BL Rh/Mos. Fr.: SV Hentern - SV Gutweiler I
CLASS:PUBLIC
DTSTART:20160123T130000Z
DTSTAMP:20160322T150000Z
END:VEVENT
BEGIN:VEVENT
UID:355681-2da69939ed67427dc6bf3daba21059e9
X-WR-RELCALID:355681-2da69939ed67427dc6bf3daba21059e9
ORGANIZER:Volleyball
SEQUENCE:261131523
LOCATION:Sporthalle, , 54429 Schillingen
GEO:49.63469710000000000000;6.78632090000000000000
SUMMARY:BL Rh/Mos. Fr.: SV Hentern - TV Rübenach
CLASS:PUBLIC
DTSTART:20160123T130000Z
DTSTAMP:20160322T150000Z
END:VEVENT
BEGIN:VEVENT
UID:355704-2da69939ed67427dc6bf3daba21059e9
X-WR-RELCALID:355704-2da69939ed67427dc6bf3daba21059e9
ORGANIZER:Volleyball
SEQUENCE:261131523
LOCATION:Sporthalle, , 54429 Schillingen
GEO:49.63469710000000000000;6.78632090000000000000
SUMMARY:BL Rh/Mos. Fr.: SV Hentern - TV Bitburg
CLASS:PUBLIC
DTSTART:20160320T090000Z
DTSTAMP:20160322T150000Z
END:VEVENT
BEGIN:VEVENT
UID:355705-2da69939ed67427dc6bf3daba21059e9
X-WR-RELCALID:355705-2da69939ed67427dc6bf3daba21059e9
ORGANIZER:Volleyball
SEQUENCE:261131523
LOCATION:Sporthalle, , 54429 Schillingen
GEO:49.63469710000000000000;6.78632090000000000000
SUMMARY:BL Rh/Mos. Fr.: SV Hentern - VBC Ediger
CLASS:PUBLIC
DTSTART:20160320T090000Z
DTSTAMP:20160322T150000Z
END:VEVENT
END:VCALENDAR