BEGIN:VCALENDAR
VERSION:2.0
PRODID:VSD-Portal-www.volley.de
METHOD:PUBLISH
BEGIN:VEVENT
UID:350418-2da69939ed67427dc6bf3daba21059e9
X-WR-RELCALID:350418-2da69939ed67427dc6bf3daba21059e9
ORGANIZER:Volleyball
SEQUENCE:261100641
SUMMARY:B-Kl. 1 Mä.: TB Neuffen - SV Remshalden 3
CLASS:PUBLIC
DTSTART;VALUE=DATE:20151003
DTSTAMP:20160319T203000Z
DTEND;VALUE=DATE:20151004
END:VEVENT
BEGIN:VEVENT
UID:350423-2da69939ed67427dc6bf3daba21059e9
X-WR-RELCALID:350423-2da69939ed67427dc6bf3daba21059e9
ORGANIZER:Volleyball
SEQUENCE:261100641
SUMMARY:B-Kl. 1 Mä.: SV Fellbach 5 - SV Remshalden 3
CLASS:PUBLIC
DTSTART;VALUE=DATE:20151017
DTSTAMP:20160319T203000Z
DTEND;VALUE=DATE:20151018
END:VEVENT
BEGIN:VEVENT
UID:350430-2da69939ed67427dc6bf3daba21059e9
X-WR-RELCALID:350430-2da69939ed67427dc6bf3daba21059e9
ORGANIZER:Volleyball
SEQUENCE:261100641
SUMMARY:B-Kl. 1 Mä.: SV Remshalden 3 - TSV Leinfelden 2
CLASS:PUBLIC
DTSTART;VALUE=DATE:20151031
DTSTAMP:20160319T203000Z
DTEND;VALUE=DATE:20151101
END:VEVENT
BEGIN:VEVENT
UID:350431-2da69939ed67427dc6bf3daba21059e9
X-WR-RELCALID:350431-2da69939ed67427dc6bf3daba21059e9
ORGANIZER:Volleyball
SEQUENCE:261100641
SUMMARY:B-Kl. 1 Mä.: SV Remshalden 3 - SC Weiler/F. 2
CLASS:PUBLIC
DTSTART;VALUE=DATE:20151031
DTSTAMP:20160319T203000Z
DTEND;VALUE=DATE:20151101
END:VEVENT
BEGIN:VEVENT
UID:350439-2da69939ed67427dc6bf3daba21059e9
X-WR-RELCALID:350439-2da69939ed67427dc6bf3daba21059e9
ORGANIZER:Volleyball
SEQUENCE:261100641
SUMMARY:B-Kl. 1 Mä.: TSV Bernhausen - SV Remshalden 3
CLASS:PUBLIC
DTSTART;VALUE=DATE:20151115
DTSTAMP:20160319T203000Z
DTEND;VALUE=DATE:20151116
END:VEVENT
BEGIN:VEVENT
UID:350440-2da69939ed67427dc6bf3daba21059e9
X-WR-RELCALID:350440-2da69939ed67427dc6bf3daba21059e9
ORGANIZER:Volleyball
SEQUENCE:261100641
SUMMARY:B-Kl. 1 Mä.: SV Remshalden 3 - TSV G.A Stuttgart 6
CLASS:PUBLIC
DTSTART;VALUE=DATE:20151121
DTSTAMP:20160319T203000Z
DTEND;VALUE=DATE:20151122
END:VEVENT
BEGIN:VEVENT
UID:350441-2da69939ed67427dc6bf3daba21059e9
X-WR-RELCALID:350441-2da69939ed67427dc6bf3daba21059e9
ORGANIZER:Volleyball
SEQUENCE:261100641
SUMMARY:B-Kl. 1 Mä.: SV Remshalden 3 - SSF Stuttgart
CLASS:PUBLIC
DTSTART;VALUE=DATE:20151121
DTSTAMP:20160319T203000Z
DTEND;VALUE=DATE:20151122
END:VEVENT
BEGIN:VEVENT
UID:350446-2da69939ed67427dc6bf3daba21059e9
X-WR-RELCALID:350446-2da69939ed67427dc6bf3daba21059e9
ORGANIZER:Volleyball
SEQUENCE:261100641
SUMMARY:B-Kl. 1 Mä.: TSV Schmiden B - SV Remshalden 3
CLASS:PUBLIC
DTSTART;VALUE=DATE:20151128
DTSTAMP:20160319T203000Z
DTEND;VALUE=DATE:20151129
END:VEVENT
BEGIN:VEVENT
UID:350456-2da69939ed67427dc6bf3daba21059e9
X-WR-RELCALID:350456-2da69939ed67427dc6bf3daba21059e9
ORGANIZER:Volleyball
SEQUENCE:261100641
SUMMARY:B-Kl. 1 Mä.: SV Remshalden 3 - TB Neuffen
CLASS:PUBLIC
DTSTART;VALUE=DATE:20160116
DTSTAMP:20160319T203000Z
DTEND;VALUE=DATE:20160117
END:VEVENT
BEGIN:VEVENT
UID:350457-2da69939ed67427dc6bf3daba21059e9
X-WR-RELCALID:350457-2da69939ed67427dc6bf3daba21059e9
ORGANIZER:Volleyball
SEQUENCE:261100641
SUMMARY:B-Kl. 1 Mä.: SV Remshalden 3 - SV Fellbach 5
CLASS:PUBLIC
DTSTART;VALUE=DATE:20160116
DTSTAMP:20160319T203000Z
DTEND;VALUE=DATE:20160117
END:VEVENT
BEGIN:VEVENT
UID:350462-2da69939ed67427dc6bf3daba21059e9
X-WR-RELCALID:350462-2da69939ed67427dc6bf3daba21059e9
ORGANIZER:Volleyball
SEQUENCE:261100641
SUMMARY:B-Kl. 1 Mä.: TSV Leinfelden 2 - SV Remshalden 3
CLASS:PUBLIC
DTSTART;VALUE=DATE:20160123
DTSTAMP:20160319T203000Z
DTEND;VALUE=DATE:20160124
END:VEVENT
BEGIN:VEVENT
UID:350471-2da69939ed67427dc6bf3daba21059e9
X-WR-RELCALID:350471-2da69939ed67427dc6bf3daba21059e9
ORGANIZER:Volleyball
SEQUENCE:261100641
SUMMARY:B-Kl. 1 Mä.: SC Weiler/F. 2 - SV Remshalden 3
CLASS:PUBLIC
DTSTART;VALUE=DATE:20160206
DTSTAMP:20160319T203000Z
DTEND;VALUE=DATE:20160207
END:VEVENT
BEGIN:VEVENT
UID:350472-2da69939ed67427dc6bf3daba21059e9
X-WR-RELCALID:350472-2da69939ed67427dc6bf3daba21059e9
ORGANIZER:Volleyball
SEQUENCE:261100641
SUMMARY:B-Kl. 1 Mä.: TSV G.A Stuttgart 6 - SV Remshalden 3
CLASS:PUBLIC
DTSTART;VALUE=DATE:20160221
DTSTAMP:20160319T203000Z
DTEND;VALUE=DATE:20160222
END:VEVENT
BEGIN:VEVENT
UID:350477-2da69939ed67427dc6bf3daba21059e9
X-WR-RELCALID:350477-2da69939ed67427dc6bf3daba21059e9
ORGANIZER:Volleyball
SEQUENCE:261100641
SUMMARY:B-Kl. 1 Mä.: SSF Stuttgart - SV Remshalden 3
CLASS:PUBLIC
DTSTART;VALUE=DATE:20160305
DTSTAMP:20160319T203000Z
DTEND;VALUE=DATE:20160306
END:VEVENT
BEGIN:VEVENT
UID:350486-2da69939ed67427dc6bf3daba21059e9
X-WR-RELCALID:350486-2da69939ed67427dc6bf3daba21059e9
ORGANIZER:Volleyball
SEQUENCE:261100641
SUMMARY:B-Kl. 1 Mä.: SV Remshalden 3 - TSV Schmiden B
CLASS:PUBLIC
DTSTART;VALUE=DATE:20160319
DTSTAMP:20160319T203000Z
DTEND;VALUE=DATE:20160320
END:VEVENT
BEGIN:VEVENT
UID:350487-2da69939ed67427dc6bf3daba21059e9
X-WR-RELCALID:350487-2da69939ed67427dc6bf3daba21059e9
ORGANIZER:Volleyball
SEQUENCE:261100641
SUMMARY:B-Kl. 1 Mä.: SV Remshalden 3 - TSV Bernhausen
CLASS:PUBLIC
DTSTART;VALUE=DATE:20160319
DTSTAMP:20160319T203000Z
DTEND;VALUE=DATE:20160320
END:VEVENT
END:VCALENDAR