BEGIN:VCALENDAR
VERSION:2.0
PRODID:VSD-Portal-www.volley.de
METHOD:PUBLISH
BEGIN:VEVENT
UID:350184-2da69939ed67427dc6bf3daba21059e9
X-WR-RELCALID:350184-2da69939ed67427dc6bf3daba21059e9
ORGANIZER:Volleyball
SEQUENCE:261100354
SUMMARY:B-Kl. 5 Fr.: DJK Aalen 2 - RSV Oggenhausen
CLASS:PUBLIC
DTSTART;VALUE=DATE:20151031
DTSTAMP:20160319T173500Z
DTEND;VALUE=DATE:20151101
END:VEVENT
BEGIN:VEVENT
UID:350185-2da69939ed67427dc6bf3daba21059e9
X-WR-RELCALID:350185-2da69939ed67427dc6bf3daba21059e9
ORGANIZER:Volleyball
SEQUENCE:261100354
SUMMARY:B-Kl. 5 Fr.: DJK Aalen 2 - TSG Hofherrnweiler
CLASS:PUBLIC
DTSTART;VALUE=DATE:20151031
DTSTAMP:20160319T173500Z
DTEND;VALUE=DATE:20151101
END:VEVENT
BEGIN:VEVENT
UID:350200-2da69939ed67427dc6bf3daba21059e9
X-WR-RELCALID:350200-2da69939ed67427dc6bf3daba21059e9
ORGANIZER:Volleyball
SEQUENCE:261100354
SUMMARY:B-Kl. 5 Fr.: DJK Aalen 2 - TSV Herbrechtingen
CLASS:PUBLIC
DTSTART;VALUE=DATE:20151212
DTSTAMP:20160319T173500Z
DTEND;VALUE=DATE:20151213
END:VEVENT
BEGIN:VEVENT
UID:350201-2da69939ed67427dc6bf3daba21059e9
X-WR-RELCALID:350201-2da69939ed67427dc6bf3daba21059e9
ORGANIZER:Volleyball
SEQUENCE:261100354
SUMMARY:B-Kl. 5 Fr.: DJK Aalen 2 - SG Volley Alb II
CLASS:PUBLIC
DTSTART;VALUE=DATE:20151212
DTSTAMP:20160319T173500Z
DTEND;VALUE=DATE:20151213
END:VEVENT
BEGIN:VEVENT
UID:350202-2da69939ed67427dc6bf3daba21059e9
X-WR-RELCALID:350202-2da69939ed67427dc6bf3daba21059e9
ORGANIZER:Volleyball
SEQUENCE:261100354
SUMMARY:B-Kl. 5 Fr.: DJK Aalen 2 - TSV Ellwangen 2
CLASS:PUBLIC
DTSTART;VALUE=DATE:20151219
DTSTAMP:20160319T173500Z
DTEND;VALUE=DATE:20151220
END:VEVENT
BEGIN:VEVENT
UID:350203-2da69939ed67427dc6bf3daba21059e9
X-WR-RELCALID:350203-2da69939ed67427dc6bf3daba21059e9
ORGANIZER:Volleyball
SEQUENCE:261100354
SUMMARY:B-Kl. 5 Fr.: DJK Aalen 2 - SG TSG/SC Giengen
CLASS:PUBLIC
DTSTART;VALUE=DATE:20151219
DTSTAMP:20160319T173500Z
DTEND;VALUE=DATE:20151220
END:VEVENT
BEGIN:VEVENT
UID:350229-2da69939ed67427dc6bf3daba21059e9
X-WR-RELCALID:350229-2da69939ed67427dc6bf3daba21059e9
ORGANIZER:Volleyball
SEQUENCE:261100354
SUMMARY:B-Kl. 5 Fr.: DJK Aalen 2 - TSG Schnaitheim 2
CLASS:PUBLIC
DTSTART;VALUE=DATE:20160319
DTSTAMP:20160319T173500Z
DTEND;VALUE=DATE:20160320
END:VEVENT
END:VCALENDAR