BEGIN:VCALENDAR
VERSION:2.0
PRODID:VSD-Portal-www.volley.de
METHOD:PUBLISH
BEGIN:VEVENT
UID:349228-2da69939ed67427dc6bf3daba21059e9
X-WR-RELCALID:349228-2da69939ed67427dc6bf3daba21059e9
ORGANIZER:Volleyball
SEQUENCE:261121959
SUMMARY:A-Kl. 1 Fr.: SGV Freiberg Volleyball e.V. - MTV Stuttgart 6
CLASS:PUBLIC
DTSTART;VALUE=DATE:20151018
DTSTAMP:20160320T170000Z
DTEND;VALUE=DATE:20151019
END:VEVENT
BEGIN:VEVENT
UID:349229-2da69939ed67427dc6bf3daba21059e9
X-WR-RELCALID:349229-2da69939ed67427dc6bf3daba21059e9
ORGANIZER:Volleyball
SEQUENCE:261121959
SUMMARY:A-Kl. 1 Fr.: SGV Freiberg Volleyball e.V. - SG TSV Ölbronn/TV 
 Lienzingen
CLASS:PUBLIC
DTSTART;VALUE=DATE:20151018
DTSTAMP:20160320T170000Z
DTEND;VALUE=DATE:20151019
END:VEVENT
BEGIN:VEVENT
UID:349246-2da69939ed67427dc6bf3daba21059e9
X-WR-RELCALID:349246-2da69939ed67427dc6bf3daba21059e9
ORGANIZER:Volleyball
SEQUENCE:261121959
SUMMARY:A-Kl. 1 Fr.: SGV Freiberg Volleyball e.V. - SFC Höpfigheim
CLASS:PUBLIC
DTSTART;VALUE=DATE:20151129
DTSTAMP:20160320T170000Z
DTEND;VALUE=DATE:20151130
END:VEVENT
BEGIN:VEVENT
UID:349247-2da69939ed67427dc6bf3daba21059e9
X-WR-RELCALID:349247-2da69939ed67427dc6bf3daba21059e9
ORGANIZER:Volleyball
SEQUENCE:261121959
SUMMARY:A-Kl. 1 Fr.: SGV Freiberg Volleyball e.V. - TSV Münchingen
CLASS:PUBLIC
DTSTART;VALUE=DATE:20151129
DTSTAMP:20160320T170000Z
DTEND;VALUE=DATE:20151130
END:VEVENT
BEGIN:VEVENT
UID:349264-2da69939ed67427dc6bf3daba21059e9
X-WR-RELCALID:349264-2da69939ed67427dc6bf3daba21059e9
ORGANIZER:Volleyball
SEQUENCE:261121959
SUMMARY:A-Kl. 1 Fr.: SGV Freiberg Volleyball e.V. - MTV Stuttgart 5
CLASS:PUBLIC
DTSTART;VALUE=DATE:20160123
DTSTAMP:20160320T170000Z
DTEND;VALUE=DATE:20160124
END:VEVENT
BEGIN:VEVENT
UID:349265-2da69939ed67427dc6bf3daba21059e9
X-WR-RELCALID:349265-2da69939ed67427dc6bf3daba21059e9
ORGANIZER:Volleyball
SEQUENCE:261121959
SUMMARY:A-Kl. 1 Fr.: SGV Freiberg Volleyball e.V. - SpVgg Warmbronn
CLASS:PUBLIC
DTSTART;VALUE=DATE:20160123
DTSTAMP:20160320T170000Z
DTEND;VALUE=DATE:20160124
END:VEVENT
BEGIN:VEVENT
UID:349282-2da69939ed67427dc6bf3daba21059e9
X-WR-RELCALID:349282-2da69939ed67427dc6bf3daba21059e9
ORGANIZER:Volleyball
SEQUENCE:261121959
SUMMARY:A-Kl. 1 Fr.: SGV Freiberg Volleyball e.V. - TSV Kleinsachsenhe
 im 2
CLASS:PUBLIC
DTSTART;VALUE=DATE:20160305
DTSTAMP:20160320T170000Z
DTEND;VALUE=DATE:20160306
END:VEVENT
BEGIN:VEVENT
UID:349283-2da69939ed67427dc6bf3daba21059e9
X-WR-RELCALID:349283-2da69939ed67427dc6bf3daba21059e9
ORGANIZER:Volleyball
SEQUENCE:261121959
SUMMARY:A-Kl. 1 Fr.: SGV Freiberg Volleyball e.V. - TV Cannstatt
CLASS:PUBLIC
DTSTART;VALUE=DATE:20160305
DTSTAMP:20160320T170000Z
DTEND;VALUE=DATE:20160306
END:VEVENT
END:VCALENDAR