BEGIN:VCALENDAR
VERSION:2.0
PRODID:VSD-Portal-www.volley.de
METHOD:PUBLISH
BEGIN:VEVENT
UID:333722-2da69939ed67427dc6bf3daba21059e9
X-WR-RELCALID:333722-2da69939ed67427dc6bf3daba21059e9
ORGANIZER:Volleyball
SEQUENCE:261121254
LOCATION:Grundschule Aligse, Im Stegefeld, 31275 Aligse
GEO:52.40348500000000000000;9.98213070000000000000
SUMMARY:BKl Han/Cel 3 Fr.: SF Aligse IV - SV Adler Hämelerwald
CLASS:PUBLIC
DTSTART:20141018T130000Z
DTSTAMP:20150324T224500Z
END:VEVENT
BEGIN:VEVENT
UID:333723-2da69939ed67427dc6bf3daba21059e9
X-WR-RELCALID:333723-2da69939ed67427dc6bf3daba21059e9
ORGANIZER:Volleyball
SEQUENCE:261121254
LOCATION:SCL-Halle, Leibnizstr. 50, 30851 Langenhagen
GEO:52.44908490000000000000;9.74739380000000000000
SUMMARY:BKl Han/Cel 3 Fr.: SC Langenhagen III - SV Adler Hämelerwald
CLASS:PUBLIC
DTSTART:20141108T140000Z
DTSTAMP:20150324T224500Z
END:VEVENT
BEGIN:VEVENT
UID:333727-2da69939ed67427dc6bf3daba21059e9
X-WR-RELCALID:333727-2da69939ed67427dc6bf3daba21059e9
ORGANIZER:Volleyball
SEQUENCE:261121254
LOCATION:Grundschule am Hainwald, Am Hainwald 4, 31275 Lehrte (Hämeler
 wald)
GEO:52.34949500000000000000;10.11777100000000000000
SUMMARY:BKl Han/Cel 3 Fr.: SV Adler Hämelerwald - MTV Ilten
CLASS:PUBLIC
DTSTART:20141122T140000Z
DTSTAMP:20150324T224500Z
END:VEVENT
BEGIN:VEVENT
UID:333728-2da69939ed67427dc6bf3daba21059e9
X-WR-RELCALID:333728-2da69939ed67427dc6bf3daba21059e9
ORGANIZER:Volleyball
SEQUENCE:261121254
LOCATION:Grundschule am Hainwald, Am Hainwald 4, 31275 Lehrte (Hämeler
 wald)
GEO:52.34949500000000000000;10.11777100000000000000
SUMMARY:BKl Han/Cel 3 Fr.: SV Adler Hämelerwald - VfL Westercelle III
CLASS:PUBLIC
DTSTART:20141122T140000Z
DTSTAMP:20150324T224500Z
END:VEVENT
BEGIN:VEVENT
UID:333735-2da69939ed67427dc6bf3daba21059e9
X-WR-RELCALID:333735-2da69939ed67427dc6bf3daba21059e9
ORGANIZER:Volleyball
SEQUENCE:261121254
LOCATION:Sporthalle Örtzetal, Lutterweg, 29320 Hermannsburg
GEO:52.83536240000000000000;10.09459670000000000000
SUMMARY:BKl Han/Cel 3 Fr.: TuS Hermannsburg - SV Adler Hämelerwald
CLASS:PUBLIC
DTSTART:20141206T140000Z
DTSTAMP:20150324T224500Z
END:VEVENT
BEGIN:VEVENT
UID:333738-2da69939ed67427dc6bf3daba21059e9
X-WR-RELCALID:333738-2da69939ed67427dc6bf3daba21059e9
ORGANIZER:Volleyball
SEQUENCE:261121254
LOCATION:Grundschule am Hainwald, Am Hainwald 4, 31275 Lehrte (Hämeler
 wald)
GEO:52.34949500000000000000;10.11777100000000000000
SUMMARY:BKl Han/Cel 3 Fr.: SV Adler Hämelerwald - PSV Hannover II
CLASS:PUBLIC
DTSTART:20141213T140000Z
DTSTAMP:20150324T224500Z
END:VEVENT
BEGIN:VEVENT
UID:333739-2da69939ed67427dc6bf3daba21059e9
X-WR-RELCALID:333739-2da69939ed67427dc6bf3daba21059e9
ORGANIZER:Volleyball
SEQUENCE:261121254
LOCATION:Grundschule am Hainwald, Am Hainwald 4, 31275 Lehrte (Hämeler
 wald)
GEO:52.34949500000000000000;10.11777100000000000000
SUMMARY:BKl Han/Cel 3 Fr.: SV Adler Hämelerwald - TuS Hermannsburg
CLASS:PUBLIC
DTSTART:20141213T140000Z
DTSTAMP:20150324T224500Z
END:VEVENT
BEGIN:VEVENT
UID:333742-2da69939ed67427dc6bf3daba21059e9
X-WR-RELCALID:333742-2da69939ed67427dc6bf3daba21059e9
ORGANIZER:Volleyball
SEQUENCE:261121254
LOCATION:Sporthalle Altencelle, Lückenweg, 29227 Altencelle
GEO:52.59754480000000000000;10.11552490000000000000
SUMMARY:BKl Han/Cel 3 Fr.: SV Altencelle II - SV Adler Hämelerwald
CLASS:PUBLIC
DTSTART:20150117T140000Z
DTSTAMP:20150324T224500Z
END:VEVENT
BEGIN:VEVENT
UID:333752-2da69939ed67427dc6bf3daba21059e9
X-WR-RELCALID:333752-2da69939ed67427dc6bf3daba21059e9
ORGANIZER:Volleyball
SEQUENCE:261121254
LOCATION:Bereitschaftspolizei Hannover, Tannenbergallee 11, 30163 Hann
 over
GEO:52.40125610000000000000;9.74827280000000000000
SUMMARY:BKl Han/Cel 3 Fr.: PSV Hannover II - SV Adler Hämelerwald
CLASS:PUBLIC
DTSTART:20150222T100000Z
DTSTAMP:20150324T224500Z
END:VEVENT
BEGIN:VEVENT
UID:333761-2da69939ed67427dc6bf3daba21059e9
X-WR-RELCALID:333761-2da69939ed67427dc6bf3daba21059e9
ORGANIZER:Volleyball
SEQUENCE:261121254
LOCATION:Grundschule am Hainwald, Am Hainwald 4, 31275 Lehrte (Hämeler
 wald)
GEO:52.34949500000000000000;10.11777100000000000000
SUMMARY:BKl Han/Cel 3 Fr.: SV Adler Hämelerwald - SV Altencelle II
CLASS:PUBLIC
DTSTART:20150314T140000Z
DTSTAMP:20150324T224500Z
END:VEVENT
BEGIN:VEVENT
UID:333762-2da69939ed67427dc6bf3daba21059e9
X-WR-RELCALID:333762-2da69939ed67427dc6bf3daba21059e9
ORGANIZER:Volleyball
SEQUENCE:261121254
LOCATION:Grundschule am Hainwald, Am Hainwald 4, 31275 Lehrte (Hämeler
 wald)
GEO:52.34949500000000000000;10.11777100000000000000
SUMMARY:BKl Han/Cel 3 Fr.: SV Adler Hämelerwald - VfL Westercelle III
CLASS:PUBLIC
DTSTART:20150314T140000Z
DTSTAMP:20150324T224500Z
END:VEVENT
BEGIN:VEVENT
UID:333753-2da69939ed67427dc6bf3daba21059e9
X-WR-RELCALID:333753-2da69939ed67427dc6bf3daba21059e9
ORGANIZER:Volleyball
SEQUENCE:261121254
LOCATION:Grundschule am Hainwald, Am Hainwald 4, 31275 Lehrte (Hämeler
 wald)
GEO:52.34949500000000000000;10.11777100000000000000
SUMMARY:BKl Han/Cel 3 Fr.: SV Adler Hämelerwald - SF Aligse IV
CLASS:PUBLIC
DTSTART:20150317T170000Z
DTSTAMP:20150324T224500Z
END:VEVENT
BEGIN:VEVENT
UID:333754-2da69939ed67427dc6bf3daba21059e9
X-WR-RELCALID:333754-2da69939ed67427dc6bf3daba21059e9
ORGANIZER:Volleyball
SEQUENCE:261121254
LOCATION:Grundschule am Hainwald, Am Hainwald 4, 31275 Lehrte (Hämeler
 wald)
GEO:52.34949500000000000000;10.11777100000000000000
SUMMARY:BKl Han/Cel 3 Fr.: SV Adler Hämelerwald - SC Langenhagen III
CLASS:PUBLIC
DTSTART:20150317T200000Z
DTSTAMP:20150324T224500Z
END:VEVENT
BEGIN:VEVENT
UID:333765-2da69939ed67427dc6bf3daba21059e9
X-WR-RELCALID:333765-2da69939ed67427dc6bf3daba21059e9
ORGANIZER:Volleyball
SEQUENCE:261121254
LOCATION:Sporthalle Ilten, Hugo-Remmert-Str. 29, 31319 Ilten
GEO:52.34661000000000000000;9.94318000000000000000
SUMMARY:BKl Han/Cel 3 Fr.: MTV Ilten - SV Adler Hämelerwald
CLASS:PUBLIC
DTSTART:20150321T140000Z
DTSTAMP:20150324T224500Z
END:VEVENT
END:VCALENDAR