BEGIN:VCALENDAR
VERSION:2.0
PRODID:VSD-Portal-www.volley.de
METHOD:PUBLISH
BEGIN:VEVENT
UID:323767-2da69939ed67427dc6bf3daba21059e9
X-WR-RELCALID:323767-2da69939ed67427dc6bf3daba21059e9
ORGANIZER:Volleyball
SEQUENCE:261132025
SUMMARY:2/4 B2 N Mi.: TV Hausen 3 - TSV Lehrensteinsfeld 2
CLASS:PUBLIC
DTSTART;VALUE=DATE:20141019
DTSTAMP:20150322T195500Z
DTEND;VALUE=DATE:20141020
END:VEVENT
BEGIN:VEVENT
UID:323782-2da69939ed67427dc6bf3daba21059e9
X-WR-RELCALID:323782-2da69939ed67427dc6bf3daba21059e9
ORGANIZER:Volleyball
SEQUENCE:261132025
SUMMARY:2/4 B2 N Mi.: TV Hausen 3 - TG Offenau 2
CLASS:PUBLIC
DTSTART;VALUE=DATE:20141116
DTSTAMP:20150322T195500Z
DTEND;VALUE=DATE:20141117
END:VEVENT
BEGIN:VEVENT
UID:323784-2da69939ed67427dc6bf3daba21059e9
X-WR-RELCALID:323784-2da69939ed67427dc6bf3daba21059e9
ORGANIZER:Volleyball
SEQUENCE:261132025
SUMMARY:2/4 B2 N Mi.: TV Hausen 3 - TGV Abstatt Nemm en Du
CLASS:PUBLIC
DTSTART;VALUE=DATE:20141123
DTSTAMP:20150322T195500Z
DTEND;VALUE=DATE:20141124
END:VEVENT
BEGIN:VEVENT
UID:323786-2da69939ed67427dc6bf3daba21059e9
X-WR-RELCALID:323786-2da69939ed67427dc6bf3daba21059e9
ORGANIZER:Volleyball
SEQUENCE:261132025
SUMMARY:2/4 B2 N Mi.: TV Hausen 3 - TSV Talheim 1
CLASS:PUBLIC
DTSTART;VALUE=DATE:20141123
DTSTAMP:20150322T195500Z
DTEND;VALUE=DATE:20141124
END:VEVENT
BEGIN:VEVENT
UID:323793-2da69939ed67427dc6bf3daba21059e9
X-WR-RELCALID:323793-2da69939ed67427dc6bf3daba21059e9
ORGANIZER:Volleyball
SEQUENCE:261132025
SUMMARY:2/4 B2 N Mi.: TV Hausen 3 - TSV Untereisesheim
CLASS:PUBLIC
DTSTART;VALUE=DATE:20150118
DTSTAMP:20150322T195500Z
DTEND;VALUE=DATE:20150119
END:VEVENT
BEGIN:VEVENT
UID:323795-2da69939ed67427dc6bf3daba21059e9
X-WR-RELCALID:323795-2da69939ed67427dc6bf3daba21059e9
ORGANIZER:Volleyball
SEQUENCE:261132025
SUMMARY:2/4 B2 N Mi.: TV Hausen 3 - FC Kirchhausen 1
CLASS:PUBLIC
DTSTART;VALUE=DATE:20150118
DTSTAMP:20150322T195500Z
DTEND;VALUE=DATE:20150119
END:VEVENT
BEGIN:VEVENT
UID:323803-2da69939ed67427dc6bf3daba21059e9
X-WR-RELCALID:323803-2da69939ed67427dc6bf3daba21059e9
ORGANIZER:Volleyball
SEQUENCE:261132025
SUMMARY:2/4 B2 N Mi.: TV Hausen 3 - FC Kirchhausen 2
CLASS:PUBLIC
DTSTART;VALUE=DATE:20150208
DTSTAMP:20150322T195500Z
DTEND;VALUE=DATE:20150209
END:VEVENT
BEGIN:VEVENT
UID:323817-2da69939ed67427dc6bf3daba21059e9
X-WR-RELCALID:323817-2da69939ed67427dc6bf3daba21059e9
ORGANIZER:Volleyball
SEQUENCE:261132025
SUMMARY:2/4 B2 N Mi.: TV Hausen 3 - TSV Assamstadt
CLASS:PUBLIC
DTSTART;VALUE=DATE:20150301
DTSTAMP:20150322T195500Z
DTEND;VALUE=DATE:20150302
END:VEVENT
END:VCALENDAR