BEGIN:VCALENDAR
VERSION:2.0
PRODID:VSD-Portal-www.volley.de
METHOD:PUBLISH
BEGIN:VEVENT
UID:321717-2da69939ed67427dc6bf3daba21059e9
X-WR-RELCALID:321717-2da69939ed67427dc6bf3daba21059e9
ORGANIZER:Volleyball
SEQUENCE:261120355
SUMMARY:A-Kl. 2 Fr.: SV Ochsenhausen - VC Baustetten 2
CLASS:PUBLIC
DTSTART;VALUE=DATE:20141005
DTSTAMP:20150322T144000Z
DTEND;VALUE=DATE:20141006
END:VEVENT
BEGIN:VEVENT
UID:321718-2da69939ed67427dc6bf3daba21059e9
X-WR-RELCALID:321718-2da69939ed67427dc6bf3daba21059e9
ORGANIZER:Volleyball
SEQUENCE:261120355
SUMMARY:A-Kl. 2 Fr.: SV Ochsenhausen - SC Göggingen
CLASS:PUBLIC
DTSTART;VALUE=DATE:20141005
DTSTAMP:20150322T144000Z
DTEND;VALUE=DATE:20141006
END:VEVENT
BEGIN:VEVENT
UID:321723-2da69939ed67427dc6bf3daba21059e9
X-WR-RELCALID:321723-2da69939ed67427dc6bf3daba21059e9
ORGANIZER:Volleyball
SEQUENCE:261120355
SUMMARY:A-Kl. 2 Fr.: TSV Laupheim 2 - SV Ochsenhausen
CLASS:PUBLIC
DTSTART;VALUE=DATE:20141019
DTSTAMP:20150322T144000Z
DTEND;VALUE=DATE:20141020
END:VEVENT
BEGIN:VEVENT
UID:321730-2da69939ed67427dc6bf3daba21059e9
X-WR-RELCALID:321730-2da69939ed67427dc6bf3daba21059e9
ORGANIZER:Volleyball
SEQUENCE:261120355
SUMMARY:A-Kl. 2 Fr.: TSB Ravensburg - SV Ochsenhausen
CLASS:PUBLIC
DTSTART;VALUE=DATE:20141101
DTSTAMP:20150322T144000Z
DTEND;VALUE=DATE:20141102
END:VEVENT
BEGIN:VEVENT
UID:321735-2da69939ed67427dc6bf3daba21059e9
X-WR-RELCALID:321735-2da69939ed67427dc6bf3daba21059e9
ORGANIZER:Volleyball
SEQUENCE:261120355
SUMMARY:A-Kl. 2 Fr.: SV Ochsenhausen - SV Unlingen
CLASS:PUBLIC
DTSTART;VALUE=DATE:20141116
DTSTAMP:20150322T144000Z
DTEND;VALUE=DATE:20141117
END:VEVENT
BEGIN:VEVENT
UID:321736-2da69939ed67427dc6bf3daba21059e9
X-WR-RELCALID:321736-2da69939ed67427dc6bf3daba21059e9
ORGANIZER:Volleyball
SEQUENCE:261120355
SUMMARY:A-Kl. 2 Fr.: SV Ochsenhausen - SV Ing.Muttensweiler-St.
CLASS:PUBLIC
DTSTART;VALUE=DATE:20141116
DTSTAMP:20150322T144000Z
DTEND;VALUE=DATE:20141117
END:VEVENT
BEGIN:VEVENT
UID:321739-2da69939ed67427dc6bf3daba21059e9
X-WR-RELCALID:321739-2da69939ed67427dc6bf3daba21059e9
ORGANIZER:Volleyball
SEQUENCE:261120355
SUMMARY:A-Kl. 2 Fr.: MTG Wangen - SV Ochsenhausen
CLASS:PUBLIC
DTSTART;VALUE=DATE:20141129
DTSTAMP:20150322T144000Z
DTEND;VALUE=DATE:20141130
END:VEVENT
BEGIN:VEVENT
UID:321746-2da69939ed67427dc6bf3daba21059e9
X-WR-RELCALID:321746-2da69939ed67427dc6bf3daba21059e9
ORGANIZER:Volleyball
SEQUENCE:261120355
SUMMARY:A-Kl. 2 Fr.: TSV Ertingen - SV Ochsenhausen
CLASS:PUBLIC
DTSTART;VALUE=DATE:20141214
DTSTAMP:20150322T144000Z
DTEND;VALUE=DATE:20141215
END:VEVENT
BEGIN:VEVENT
UID:321753-2da69939ed67427dc6bf3daba21059e9
X-WR-RELCALID:321753-2da69939ed67427dc6bf3daba21059e9
ORGANIZER:Volleyball
SEQUENCE:261120355
SUMMARY:A-Kl. 2 Fr.: SV Ochsenhausen - TSV Laupheim 2
CLASS:PUBLIC
DTSTART;VALUE=DATE:20150111
DTSTAMP:20150322T144000Z
DTEND;VALUE=DATE:20150112
END:VEVENT
BEGIN:VEVENT
UID:321754-2da69939ed67427dc6bf3daba21059e9
X-WR-RELCALID:321754-2da69939ed67427dc6bf3daba21059e9
ORGANIZER:Volleyball
SEQUENCE:261120355
SUMMARY:A-Kl. 2 Fr.: SV Ochsenhausen - TSB Ravensburg
CLASS:PUBLIC
DTSTART;VALUE=DATE:20150111
DTSTAMP:20150322T144000Z
DTEND;VALUE=DATE:20150112
END:VEVENT
BEGIN:VEVENT
UID:321758-2da69939ed67427dc6bf3daba21059e9
X-WR-RELCALID:321758-2da69939ed67427dc6bf3daba21059e9
ORGANIZER:Volleyball
SEQUENCE:261120355
SUMMARY:A-Kl. 2 Fr.: SC Göggingen - SV Ochsenhausen
CLASS:PUBLIC
DTSTART;VALUE=DATE:20150124
DTSTAMP:20150322T144000Z
DTEND;VALUE=DATE:20150125
END:VEVENT
BEGIN:VEVENT
UID:321779-2da69939ed67427dc6bf3daba21059e9
X-WR-RELCALID:321779-2da69939ed67427dc6bf3daba21059e9
ORGANIZER:Volleyball
SEQUENCE:261120355
SUMMARY:A-Kl. 2 Fr.: SV Unlingen - SV Ochsenhausen
CLASS:PUBLIC
DTSTART;VALUE=DATE:20150130
DTSTAMP:20150322T144000Z
DTEND;VALUE=DATE:20150131
END:VEVENT
BEGIN:VEVENT
UID:321767-2da69939ed67427dc6bf3daba21059e9
X-WR-RELCALID:321767-2da69939ed67427dc6bf3daba21059e9
ORGANIZER:Volleyball
SEQUENCE:261120355
SUMMARY:A-Kl. 2 Fr.: VC Baustetten 2 - SV Ochsenhausen
CLASS:PUBLIC
DTSTART;VALUE=DATE:20150208
DTSTAMP:20150322T144000Z
DTEND;VALUE=DATE:20150209
END:VEVENT
BEGIN:VEVENT
UID:321770-2da69939ed67427dc6bf3daba21059e9
X-WR-RELCALID:321770-2da69939ed67427dc6bf3daba21059e9
ORGANIZER:Volleyball
SEQUENCE:261120355
SUMMARY:A-Kl. 2 Fr.: SV Ing.Muttensweiler-St. - SV Ochsenhausen
CLASS:PUBLIC
DTSTART;VALUE=DATE:20150221
DTSTAMP:20150322T144000Z
DTEND;VALUE=DATE:20150222
END:VEVENT
BEGIN:VEVENT
UID:321781-2da69939ed67427dc6bf3daba21059e9
X-WR-RELCALID:321781-2da69939ed67427dc6bf3daba21059e9
ORGANIZER:Volleyball
SEQUENCE:261120355
SUMMARY:A-Kl. 2 Fr.: SV Ochsenhausen - MTG Wangen
CLASS:PUBLIC
DTSTART;VALUE=DATE:20150322
DTSTAMP:20150322T144000Z
DTEND;VALUE=DATE:20150323
END:VEVENT
BEGIN:VEVENT
UID:321782-2da69939ed67427dc6bf3daba21059e9
X-WR-RELCALID:321782-2da69939ed67427dc6bf3daba21059e9
ORGANIZER:Volleyball
SEQUENCE:261120355
SUMMARY:A-Kl. 2 Fr.: SV Ochsenhausen - TSV Ertingen
CLASS:PUBLIC
DTSTART;VALUE=DATE:20150322
DTSTAMP:20150322T144000Z
DTEND;VALUE=DATE:20150323
END:VEVENT
END:VCALENDAR