BEGIN:VCALENDAR
VERSION:2.0
PRODID:VSD-Portal-www.volley.de
METHOD:PUBLISH
BEGIN:VEVENT
UID:318488-2da69939ed67427dc6bf3daba21059e9
X-WR-RELCALID:318488-2da69939ed67427dc6bf3daba21059e9
ORGANIZER:Volleyball
SEQUENCE:261101454
SUMMARY:LKl N Mä.: Belziger SG Einheit  - SV Lindow Gransee III
CLASS:PUBLIC
DTSTART;VALUE=DATE:20140927
DTSTAMP:20150401T150000Z
DTEND;VALUE=DATE:20140928
END:VEVENT
BEGIN:VEVENT
UID:318487-2da69939ed67427dc6bf3daba21059e9
X-WR-RELCALID:318487-2da69939ed67427dc6bf3daba21059e9
ORGANIZER:Volleyball
SEQUENCE:261101454
SUMMARY:LKl N Mä.: Belziger SG Einheit  - SG Beelitz 
CLASS:PUBLIC
DTSTART;VALUE=DATE:20140927
DTSTAMP:20150401T150000Z
DTEND;VALUE=DATE:20140928
END:VEVENT
BEGIN:VEVENT
UID:318480-2da69939ed67427dc6bf3daba21059e9
X-WR-RELCALID:318480-2da69939ed67427dc6bf3daba21059e9
ORGANIZER:Volleyball
SEQUENCE:261101454
SUMMARY:LKl N Mä.: Belziger SG Einheit  - SC Potsdam 
CLASS:PUBLIC
DTSTART;VALUE=DATE:20141011
DTSTAMP:20150401T150000Z
DTEND;VALUE=DATE:20141012
END:VEVENT
BEGIN:VEVENT
UID:318478-2da69939ed67427dc6bf3daba21059e9
X-WR-RELCALID:318478-2da69939ed67427dc6bf3daba21059e9
ORGANIZER:Volleyball
SEQUENCE:261101454
SUMMARY:LKl N Mä.: SG Beelitz  - Belziger SG Einheit 
CLASS:PUBLIC
DTSTART;VALUE=DATE:20141011
DTSTAMP:20150401T150000Z
DTEND;VALUE=DATE:20141012
END:VEVENT
BEGIN:VEVENT
UID:318465-2da69939ed67427dc6bf3daba21059e9
X-WR-RELCALID:318465-2da69939ed67427dc6bf3daba21059e9
ORGANIZER:Volleyball
SEQUENCE:261101454
SUMMARY:LKl N Mä.: Belziger SG Einheit  - Werderaner VV 1990 III
CLASS:PUBLIC
DTSTART;VALUE=DATE:20141122
DTSTAMP:20150401T150000Z
DTEND;VALUE=DATE:20141123
END:VEVENT
BEGIN:VEVENT
UID:318464-2da69939ed67427dc6bf3daba21059e9
X-WR-RELCALID:318464-2da69939ed67427dc6bf3daba21059e9
ORGANIZER:Volleyball
SEQUENCE:261101454
SUMMARY:LKl N Mä.: Belziger SG Einheit  - VSV Ludwigsfelde 
CLASS:PUBLIC
DTSTART;VALUE=DATE:20141122
DTSTAMP:20150401T150000Z
DTEND;VALUE=DATE:20141123
END:VEVENT
BEGIN:VEVENT
UID:318457-2da69939ed67427dc6bf3daba21059e9
X-WR-RELCALID:318457-2da69939ed67427dc6bf3daba21059e9
ORGANIZER:Volleyball
SEQUENCE:261101454
SUMMARY:LKl N Mä.: VC Potsdam-Waldstadt III - Belziger SG Einheit 
CLASS:PUBLIC
DTSTART;VALUE=DATE:20141206
DTSTAMP:20150401T150000Z
DTEND;VALUE=DATE:20141207
END:VEVENT
BEGIN:VEVENT
UID:318456-2da69939ed67427dc6bf3daba21059e9
X-WR-RELCALID:318456-2da69939ed67427dc6bf3daba21059e9
ORGANIZER:Volleyball
SEQUENCE:261101454
SUMMARY:LKl N Mä.: SC Potsdam  - Belziger SG Einheit 
CLASS:PUBLIC
DTSTART;VALUE=DATE:20141206
DTSTAMP:20150401T150000Z
DTEND;VALUE=DATE:20141207
END:VEVENT
BEGIN:VEVENT
UID:318447-2da69939ed67427dc6bf3daba21059e9
X-WR-RELCALID:318447-2da69939ed67427dc6bf3daba21059e9
ORGANIZER:Volleyball
SEQUENCE:261101454
SUMMARY:LKl N Mä.: Belziger SG Einheit  - VV Michendorf 
CLASS:PUBLIC
DTSTART;VALUE=DATE:20141220
DTSTAMP:20150401T150000Z
DTEND;VALUE=DATE:20141221
END:VEVENT
BEGIN:VEVENT
UID:318440-2da69939ed67427dc6bf3daba21059e9
X-WR-RELCALID:318440-2da69939ed67427dc6bf3daba21059e9
ORGANIZER:Volleyball
SEQUENCE:261101454
SUMMARY:LKl N Mä.: Belziger SG Einheit  - VC Blau-Weiß Brandenburg II
CLASS:PUBLIC
DTSTART;VALUE=DATE:20150110
DTSTAMP:20150401T150000Z
DTEND;VALUE=DATE:20150111
END:VEVENT
BEGIN:VEVENT
UID:318438-2da69939ed67427dc6bf3daba21059e9
X-WR-RELCALID:318438-2da69939ed67427dc6bf3daba21059e9
ORGANIZER:Volleyball
SEQUENCE:261101454
SUMMARY:LKl N Mä.: SV 05 Rehbrücke  - Belziger SG Einheit 
CLASS:PUBLIC
DTSTART;VALUE=DATE:20150110
DTSTAMP:20150401T150000Z
DTEND;VALUE=DATE:20150111
END:VEVENT
BEGIN:VEVENT
UID:318430-2da69939ed67427dc6bf3daba21059e9
X-WR-RELCALID:318430-2da69939ed67427dc6bf3daba21059e9
ORGANIZER:Volleyball
SEQUENCE:261101454
SUMMARY:LKl N Mä.: Belziger SG Einheit  - VSV Ludwigsfelde 
CLASS:PUBLIC
DTSTART;VALUE=DATE:20150117
DTSTAMP:20150401T150000Z
DTEND;VALUE=DATE:20150118
END:VEVENT
BEGIN:VEVENT
UID:318429-2da69939ed67427dc6bf3daba21059e9
X-WR-RELCALID:318429-2da69939ed67427dc6bf3daba21059e9
ORGANIZER:Volleyball
SEQUENCE:261101454
SUMMARY:LKl N Mä.: Belziger SG Einheit  - Potsdamer VC 91 
CLASS:PUBLIC
DTSTART;VALUE=DATE:20150117
DTSTAMP:20150401T150000Z
DTEND;VALUE=DATE:20150118
END:VEVENT
BEGIN:VEVENT
UID:318422-2da69939ed67427dc6bf3daba21059e9
X-WR-RELCALID:318422-2da69939ed67427dc6bf3daba21059e9
ORGANIZER:Volleyball
SEQUENCE:261101454
SUMMARY:LKl N Mä.: Werderaner VV 1990 III - Belziger SG Einheit 
CLASS:PUBLIC
DTSTART;VALUE=DATE:20150125
DTSTAMP:20150401T150000Z
DTEND;VALUE=DATE:20150126
END:VEVENT
BEGIN:VEVENT
UID:318421-2da69939ed67427dc6bf3daba21059e9
X-WR-RELCALID:318421-2da69939ed67427dc6bf3daba21059e9
ORGANIZER:Volleyball
SEQUENCE:261101454
SUMMARY:LKl N Mä.: Potsdamer VC 91  - Belziger SG Einheit 
CLASS:PUBLIC
DTSTART;VALUE=DATE:20150125
DTSTAMP:20150401T150000Z
DTEND;VALUE=DATE:20150126
END:VEVENT
BEGIN:VEVENT
UID:318416-2da69939ed67427dc6bf3daba21059e9
X-WR-RELCALID:318416-2da69939ed67427dc6bf3daba21059e9
ORGANIZER:Volleyball
SEQUENCE:261101454
SUMMARY:LKl N Mä.: Belziger SG Einheit  - SV Lindow Gransee III
CLASS:PUBLIC
DTSTART;VALUE=DATE:20150214
DTSTAMP:20150401T150000Z
DTEND;VALUE=DATE:20150215
END:VEVENT
BEGIN:VEVENT
UID:318414-2da69939ed67427dc6bf3daba21059e9
X-WR-RELCALID:318414-2da69939ed67427dc6bf3daba21059e9
ORGANIZER:Volleyball
SEQUENCE:261101454
SUMMARY:LKl N Mä.: VC Blau-Weiß Brandenburg II - Belziger SG Einheit 
CLASS:PUBLIC
DTSTART;VALUE=DATE:20150214
DTSTAMP:20150401T150000Z
DTEND;VALUE=DATE:20150215
END:VEVENT
BEGIN:VEVENT
UID:318410-2da69939ed67427dc6bf3daba21059e9
X-WR-RELCALID:318410-2da69939ed67427dc6bf3daba21059e9
ORGANIZER:Volleyball
SEQUENCE:261101454
SUMMARY:LKl N Mä.: Belziger SG Einheit  - VV Michendorf 
CLASS:PUBLIC
DTSTART;VALUE=DATE:20150228
DTSTAMP:20150401T150000Z
DTEND;VALUE=DATE:20150301
END:VEVENT
BEGIN:VEVENT
UID:318397-2da69939ed67427dc6bf3daba21059e9
X-WR-RELCALID:318397-2da69939ed67427dc6bf3daba21059e9
ORGANIZER:Volleyball
SEQUENCE:261101454
SUMMARY:LKl N Mä.: VC Potsdam-Waldstadt III - Belziger SG Einheit 
CLASS:PUBLIC
DTSTART;VALUE=DATE:20150314
DTSTAMP:20150401T150000Z
DTEND;VALUE=DATE:20150315
END:VEVENT
BEGIN:VEVENT
UID:318399-2da69939ed67427dc6bf3daba21059e9
X-WR-RELCALID:318399-2da69939ed67427dc6bf3daba21059e9
ORGANIZER:Volleyball
SEQUENCE:261101454
SUMMARY:LKl N Mä.: Belziger SG Einheit  - SV 05 Rehbrücke 
CLASS:PUBLIC
DTSTART;VALUE=DATE:20150314
DTSTAMP:20150401T150000Z
DTEND;VALUE=DATE:20150315
END:VEVENT
END:VCALENDAR