BEGIN:VCALENDAR
VERSION:2.0
PRODID:VSD-Portal-www.volley.de
METHOD:PUBLISH
BEGIN:VEVENT
UID:318463-2da69939ed67427dc6bf3daba21059e9
X-WR-RELCALID:318463-2da69939ed67427dc6bf3daba21059e9
ORGANIZER:Volleyball
SEQUENCE:261140118
SUMMARY:LKl N Mä.: SV Lindow Gransee III - Potsdamer VC 91 
CLASS:PUBLIC
DTSTART;VALUE=DATE:20141122
DTSTAMP:20150401T150000Z
DTEND;VALUE=DATE:20141123
END:VEVENT
BEGIN:VEVENT
UID:318459-2da69939ed67427dc6bf3daba21059e9
X-WR-RELCALID:318459-2da69939ed67427dc6bf3daba21059e9
ORGANIZER:Volleyball
SEQUENCE:261140118
SUMMARY:LKl N Mä.: SV Lindow Gransee III - SC Potsdam 
CLASS:PUBLIC
DTSTART;VALUE=DATE:20141129
DTSTAMP:20150401T150000Z
DTEND;VALUE=DATE:20141130
END:VEVENT
BEGIN:VEVENT
UID:318458-2da69939ed67427dc6bf3daba21059e9
X-WR-RELCALID:318458-2da69939ed67427dc6bf3daba21059e9
ORGANIZER:Volleyball
SEQUENCE:261140118
SUMMARY:LKl N Mä.: SV Lindow Gransee III - SV 05 Rehbrücke 
CLASS:PUBLIC
DTSTART;VALUE=DATE:20141129
DTSTAMP:20150401T150000Z
DTEND;VALUE=DATE:20141130
END:VEVENT
BEGIN:VEVENT
UID:318451-2da69939ed67427dc6bf3daba21059e9
X-WR-RELCALID:318451-2da69939ed67427dc6bf3daba21059e9
ORGANIZER:Volleyball
SEQUENCE:261140118
SUMMARY:LKl N Mä.: SV Lindow Gransee III - VC Blau-Weiß Brandenburg II
 
CLASS:PUBLIC
DTSTART;VALUE=DATE:20141206
DTSTAMP:20150401T150000Z
DTEND;VALUE=DATE:20141207
END:VEVENT
BEGIN:VEVENT
UID:318442-2da69939ed67427dc6bf3daba21059e9
X-WR-RELCALID:318442-2da69939ed67427dc6bf3daba21059e9
ORGANIZER:Volleyball
SEQUENCE:261140118
SUMMARY:LKl N Mä.: SV Lindow Gransee III - VV Michendorf 
CLASS:PUBLIC
DTSTART;VALUE=DATE:20150110
DTSTAMP:20150401T150000Z
DTEND;VALUE=DATE:20150111
END:VEVENT
BEGIN:VEVENT
UID:318441-2da69939ed67427dc6bf3daba21059e9
X-WR-RELCALID:318441-2da69939ed67427dc6bf3daba21059e9
ORGANIZER:Volleyball
SEQUENCE:261140118
SUMMARY:LKl N Mä.: SV Lindow Gransee III - VSV Ludwigsfelde 
CLASS:PUBLIC
DTSTART;VALUE=DATE:20150110
DTSTAMP:20150401T150000Z
DTEND;VALUE=DATE:20150111
END:VEVENT
BEGIN:VEVENT
UID:318408-2da69939ed67427dc6bf3daba21059e9
X-WR-RELCALID:318408-2da69939ed67427dc6bf3daba21059e9
ORGANIZER:Volleyball
SEQUENCE:261140118
SUMMARY:LKl N Mä.: SV Lindow Gransee III - SV 05 Rehbrücke 
CLASS:PUBLIC
DTSTART;VALUE=DATE:20150228
DTSTAMP:20150401T150000Z
DTEND;VALUE=DATE:20150301
END:VEVENT
BEGIN:VEVENT
UID:318404-2da69939ed67427dc6bf3daba21059e9
X-WR-RELCALID:318404-2da69939ed67427dc6bf3daba21059e9
ORGANIZER:Volleyball
SEQUENCE:261140118
SUMMARY:LKl N Mä.: SV Lindow Gransee III - VSV Ludwigsfelde 
CLASS:PUBLIC
DTSTART;VALUE=DATE:20150314
DTSTAMP:20150401T150000Z
DTEND;VALUE=DATE:20150315
END:VEVENT
BEGIN:VEVENT
UID:318403-2da69939ed67427dc6bf3daba21059e9
X-WR-RELCALID:318403-2da69939ed67427dc6bf3daba21059e9
ORGANIZER:Volleyball
SEQUENCE:261140118
SUMMARY:LKl N Mä.: SV Lindow Gransee III - SG Beelitz 
CLASS:PUBLIC
DTSTART;VALUE=DATE:20150314
DTSTAMP:20150401T150000Z
DTEND;VALUE=DATE:20150315
END:VEVENT
END:VCALENDAR