BEGIN:VCALENDAR
VERSION:2.0
PRODID:VSD-Portal-www.volley.de
METHOD:PUBLISH
BEGIN:VEVENT
UID:318189-2da69939ed67427dc6bf3daba21059e9
X-WR-RELCALID:318189-2da69939ed67427dc6bf3daba21059e9
ORGANIZER:Volleyball
SEQUENCE:261110146
SUMMARY:LL N Fr.: SC Potsdam IV - Reichenberger SV 
CLASS:PUBLIC
DTSTART;VALUE=DATE:20140920
DTSTAMP:20150401T150000Z
DTEND;VALUE=DATE:20140921
END:VEVENT
BEGIN:VEVENT
UID:318187-2da69939ed67427dc6bf3daba21059e9
X-WR-RELCALID:318187-2da69939ed67427dc6bf3daba21059e9
ORGANIZER:Volleyball
SEQUENCE:261110146
SUMMARY:LL N Fr.: VC Angermünde  - SC Potsdam IV
CLASS:PUBLIC
DTSTART;VALUE=DATE:20140920
DTSTAMP:20150401T150000Z
DTEND;VALUE=DATE:20140921
END:VEVENT
BEGIN:VEVENT
UID:318176-2da69939ed67427dc6bf3daba21059e9
X-WR-RELCALID:318176-2da69939ed67427dc6bf3daba21059e9
ORGANIZER:Volleyball
SEQUENCE:261110146
SUMMARY:LL N Fr.: SC Potsdam IV - SG Einheit Zepernick 
CLASS:PUBLIC
DTSTART;VALUE=DATE:20141018
DTSTAMP:20150401T150000Z
DTEND;VALUE=DATE:20141019
END:VEVENT
BEGIN:VEVENT
UID:318175-2da69939ed67427dc6bf3daba21059e9
X-WR-RELCALID:318175-2da69939ed67427dc6bf3daba21059e9
ORGANIZER:Volleyball
SEQUENCE:261110146
SUMMARY:LL N Fr.: SC Potsdam IV - LG Wassersuppe Seeblick 
CLASS:PUBLIC
DTSTART;VALUE=DATE:20141018
DTSTAMP:20150401T150000Z
DTEND;VALUE=DATE:20141019
END:VEVENT
BEGIN:VEVENT
UID:318162-2da69939ed67427dc6bf3daba21059e9
X-WR-RELCALID:318162-2da69939ed67427dc6bf3daba21059e9
ORGANIZER:Volleyball
SEQUENCE:261110146
SUMMARY:LL N Fr.: SC Potsdam IV - Werderaner VV 1990 
CLASS:PUBLIC
DTSTART;VALUE=DATE:20141115
DTSTAMP:20150401T150000Z
DTEND;VALUE=DATE:20141116
END:VEVENT
BEGIN:VEVENT
UID:318160-2da69939ed67427dc6bf3daba21059e9
X-WR-RELCALID:318160-2da69939ed67427dc6bf3daba21059e9
ORGANIZER:Volleyball
SEQUENCE:261110146
SUMMARY:LL N Fr.: Motor Hennigsdorf  - SC Potsdam IV
CLASS:PUBLIC
DTSTART;VALUE=DATE:20141115
DTSTAMP:20150401T150000Z
DTEND;VALUE=DATE:20141116
END:VEVENT
BEGIN:VEVENT
UID:318180-2da69939ed67427dc6bf3daba21059e9
X-WR-RELCALID:318180-2da69939ed67427dc6bf3daba21059e9
ORGANIZER:Volleyball
SEQUENCE:261110146
SUMMARY:LL N Fr.: SC Potsdam IV - SC Potsdam V
CLASS:PUBLIC
DTSTART;VALUE=DATE:20141122
DTSTAMP:20150401T150000Z
DTEND;VALUE=DATE:20141123
END:VEVENT
BEGIN:VEVENT
UID:318178-2da69939ed67427dc6bf3daba21059e9
X-WR-RELCALID:318178-2da69939ed67427dc6bf3daba21059e9
ORGANIZER:Volleyball
SEQUENCE:261110146
SUMMARY:LL N Fr.: SV electronic Hohen Neuendorf  - SC Potsdam IV
CLASS:PUBLIC
DTSTART;VALUE=DATE:20141122
DTSTAMP:20150401T150000Z
DTEND;VALUE=DATE:20141123
END:VEVENT
BEGIN:VEVENT
UID:318152-2da69939ed67427dc6bf3daba21059e9
X-WR-RELCALID:318152-2da69939ed67427dc6bf3daba21059e9
ORGANIZER:Volleyball
SEQUENCE:261110146
SUMMARY:LL N Fr.: SC Potsdam IV - VC Angermünde 
CLASS:PUBLIC
DTSTART;VALUE=DATE:20141129
DTSTAMP:20150401T150000Z
DTEND;VALUE=DATE:20141130
END:VEVENT
BEGIN:VEVENT
UID:318151-2da69939ed67427dc6bf3daba21059e9
X-WR-RELCALID:318151-2da69939ed67427dc6bf3daba21059e9
ORGANIZER:Volleyball
SEQUENCE:261110146
SUMMARY:LL N Fr.: SC Potsdam IV - Reichenberger SV 
CLASS:PUBLIC
DTSTART;VALUE=DATE:20141129
DTSTAMP:20150401T150000Z
DTEND;VALUE=DATE:20141130
END:VEVENT
BEGIN:VEVENT
UID:318147-2da69939ed67427dc6bf3daba21059e9
X-WR-RELCALID:318147-2da69939ed67427dc6bf3daba21059e9
ORGANIZER:Volleyball
SEQUENCE:261110146
SUMMARY:LL N Fr.: SV electronic Hohen Neuendorf  - SC Potsdam IV
CLASS:PUBLIC
DTSTART;VALUE=DATE:20141213
DTSTAMP:20150401T150000Z
DTEND;VALUE=DATE:20141214
END:VEVENT
BEGIN:VEVENT
UID:318146-2da69939ed67427dc6bf3daba21059e9
X-WR-RELCALID:318146-2da69939ed67427dc6bf3daba21059e9
ORGANIZER:Volleyball
SEQUENCE:261110146
SUMMARY:LL N Fr.: SC Potsdam V - SC Potsdam IV
CLASS:PUBLIC
DTSTART;VALUE=DATE:20141213
DTSTAMP:20150401T150000Z
DTEND;VALUE=DATE:20141214
END:VEVENT
BEGIN:VEVENT
UID:318141-2da69939ed67427dc6bf3daba21059e9
X-WR-RELCALID:318141-2da69939ed67427dc6bf3daba21059e9
ORGANIZER:Volleyball
SEQUENCE:261110146
SUMMARY:LL N Fr.: SG Einheit Zepernick  - SC Potsdam IV
CLASS:PUBLIC
DTSTART;VALUE=DATE:20150110
DTSTAMP:20150401T150000Z
DTEND;VALUE=DATE:20150111
END:VEVENT
BEGIN:VEVENT
UID:318140-2da69939ed67427dc6bf3daba21059e9
X-WR-RELCALID:318140-2da69939ed67427dc6bf3daba21059e9
ORGANIZER:Volleyball
SEQUENCE:261110146
SUMMARY:LL N Fr.: LG Wassersuppe Seeblick  - SC Potsdam IV
CLASS:PUBLIC
DTSTART;VALUE=DATE:20150110
DTSTAMP:20150401T150000Z
DTEND;VALUE=DATE:20150111
END:VEVENT
BEGIN:VEVENT
UID:318125-2da69939ed67427dc6bf3daba21059e9
X-WR-RELCALID:318125-2da69939ed67427dc6bf3daba21059e9
ORGANIZER:Volleyball
SEQUENCE:261110146
SUMMARY:LL N Fr.: SC Potsdam IV - Motor Hennigsdorf 
CLASS:PUBLIC
DTSTART;VALUE=DATE:20150124
DTSTAMP:20150401T150000Z
DTEND;VALUE=DATE:20150125
END:VEVENT
BEGIN:VEVENT
UID:318124-2da69939ed67427dc6bf3daba21059e9
X-WR-RELCALID:318124-2da69939ed67427dc6bf3daba21059e9
ORGANIZER:Volleyball
SEQUENCE:261110146
SUMMARY:LL N Fr.: SC Potsdam IV - Werderaner VV 1990 
CLASS:PUBLIC
DTSTART;VALUE=DATE:20150124
DTSTAMP:20150401T150000Z
DTEND;VALUE=DATE:20150125
END:VEVENT
BEGIN:VEVENT
UID:318117-2da69939ed67427dc6bf3daba21059e9
X-WR-RELCALID:318117-2da69939ed67427dc6bf3daba21059e9
ORGANIZER:Volleyball
SEQUENCE:261110146
SUMMARY:LL N Fr.: VC Angermünde  - SC Potsdam IV
CLASS:PUBLIC
DTSTART;VALUE=DATE:20150214
DTSTAMP:20150401T150000Z
DTEND;VALUE=DATE:20150215
END:VEVENT
BEGIN:VEVENT
UID:318116-2da69939ed67427dc6bf3daba21059e9
X-WR-RELCALID:318116-2da69939ed67427dc6bf3daba21059e9
ORGANIZER:Volleyball
SEQUENCE:261110146
SUMMARY:LL N Fr.: Reichenberger SV  - SC Potsdam IV
CLASS:PUBLIC
DTSTART;VALUE=DATE:20150214
DTSTAMP:20150401T150000Z
DTEND;VALUE=DATE:20150215
END:VEVENT
BEGIN:VEVENT
UID:318107-2da69939ed67427dc6bf3daba21059e9
X-WR-RELCALID:318107-2da69939ed67427dc6bf3daba21059e9
ORGANIZER:Volleyball
SEQUENCE:261110146
SUMMARY:LL N Fr.: SC Potsdam IV - SV electronic Hohen Neuendorf 
CLASS:PUBLIC
DTSTART;VALUE=DATE:20150228
DTSTAMP:20150401T150000Z
DTEND;VALUE=DATE:20150301
END:VEVENT
BEGIN:VEVENT
UID:318106-2da69939ed67427dc6bf3daba21059e9
X-WR-RELCALID:318106-2da69939ed67427dc6bf3daba21059e9
ORGANIZER:Volleyball
SEQUENCE:261110146
SUMMARY:LL N Fr.: SC Potsdam IV - SC Potsdam V
CLASS:PUBLIC
DTSTART;VALUE=DATE:20150228
DTSTAMP:20150401T150000Z
DTEND;VALUE=DATE:20150301
END:VEVENT
BEGIN:VEVENT
UID:318105-2da69939ed67427dc6bf3daba21059e9
X-WR-RELCALID:318105-2da69939ed67427dc6bf3daba21059e9
ORGANIZER:Volleyball
SEQUENCE:261110146
SUMMARY:LL N Fr.: SC Potsdam IV - LG Wassersuppe Seeblick 
CLASS:PUBLIC
DTSTART;VALUE=DATE:20150307
DTSTAMP:20150401T150000Z
DTEND;VALUE=DATE:20150308
END:VEVENT
BEGIN:VEVENT
UID:318103-2da69939ed67427dc6bf3daba21059e9
X-WR-RELCALID:318103-2da69939ed67427dc6bf3daba21059e9
ORGANIZER:Volleyball
SEQUENCE:261110146
SUMMARY:LL N Fr.: SG Einheit Zepernick  - SC Potsdam IV
CLASS:PUBLIC
DTSTART;VALUE=DATE:20150307
DTSTAMP:20150401T150000Z
DTEND;VALUE=DATE:20150308
END:VEVENT
BEGIN:VEVENT
UID:318090-2da69939ed67427dc6bf3daba21059e9
X-WR-RELCALID:318090-2da69939ed67427dc6bf3daba21059e9
ORGANIZER:Volleyball
SEQUENCE:261110146
SUMMARY:LL N Fr.: Motor Hennigsdorf  - SC Potsdam IV
CLASS:PUBLIC
DTSTART;VALUE=DATE:20150321
DTSTAMP:20150401T150000Z
DTEND;VALUE=DATE:20150322
END:VEVENT
BEGIN:VEVENT
UID:318089-2da69939ed67427dc6bf3daba21059e9
X-WR-RELCALID:318089-2da69939ed67427dc6bf3daba21059e9
ORGANIZER:Volleyball
SEQUENCE:261110146
SUMMARY:LL N Fr.: Werderaner VV 1990  - SC Potsdam IV
CLASS:PUBLIC
DTSTART;VALUE=DATE:20150321
DTSTAMP:20150401T150000Z
DTEND;VALUE=DATE:20150322
END:VEVENT
END:VCALENDAR