BEGIN:VCALENDAR
VERSION:2.0
PRODID:VSD-Portal-www.volley.de
METHOD:PUBLISH
BEGIN:VEVENT
UID:316673-2da69939ed67427dc6bf3daba21059e9
X-WR-RELCALID:316673-2da69939ed67427dc6bf3daba21059e9
ORGANIZER:Volleyball
SEQUENCE:261151612
SUMMARY:BK10         Fr.: TB Osterfeld II - TB Osterfeld III
CLASS:PUBLIC
DTSTART:20140920T130000Z
DTSTAMP:20150314T184500Z
END:VEVENT
BEGIN:VEVENT
UID:316676-2da69939ed67427dc6bf3daba21059e9
X-WR-RELCALID:316676-2da69939ed67427dc6bf3daba21059e9
ORGANIZER:Volleyball
SEQUENCE:261151612
SUMMARY:BK10         Fr.: TB Osterfeld II - TUSEM Essen IV
CLASS:PUBLIC
DTSTART:20140928T130000Z
DTSTAMP:20150314T184500Z
END:VEVENT
BEGIN:VEVENT
UID:316683-2da69939ed67427dc6bf3daba21059e9
X-WR-RELCALID:316683-2da69939ed67427dc6bf3daba21059e9
ORGANIZER:Volleyball
SEQUENCE:261151612
SUMMARY:BK10         Fr.: TB Osterfeld II - SG MTG/TVG Steele II
CLASS:PUBLIC
DTSTART:20141102T140000Z
DTSTAMP:20150314T184500Z
END:VEVENT
BEGIN:VEVENT
UID:316685-2da69939ed67427dc6bf3daba21059e9
X-WR-RELCALID:316685-2da69939ed67427dc6bf3daba21059e9
ORGANIZER:Volleyball
SEQUENCE:261151612
SUMMARY:BK10         Fr.: VV Humann Essen IV - TB Osterfeld II
CLASS:PUBLIC
DTSTART:20141109T140000Z
DTSTAMP:20150314T184500Z
END:VEVENT
BEGIN:VEVENT
UID:316690-2da69939ed67427dc6bf3daba21059e9
X-WR-RELCALID:316690-2da69939ed67427dc6bf3daba21059e9
ORGANIZER:Volleyball
SEQUENCE:261151612
SUMMARY:BK10         Fr.: Dümptener TV - TB Osterfeld II
CLASS:PUBLIC
DTSTART:20141122T140000Z
DTSTAMP:20150314T184500Z
END:VEVENT
BEGIN:VEVENT
UID:316693-2da69939ed67427dc6bf3daba21059e9
X-WR-RELCALID:316693-2da69939ed67427dc6bf3daba21059e9
ORGANIZER:Volleyball
SEQUENCE:261151612
SUMMARY:BK10         Fr.: VC Essen-Borbeck V - TB Osterfeld II
CLASS:PUBLIC
DTSTART:20141206T140000Z
DTSTAMP:20150314T184500Z
END:VEVENT
BEGIN:VEVENT
UID:316696-2da69939ed67427dc6bf3daba21059e9
X-WR-RELCALID:316696-2da69939ed67427dc6bf3daba21059e9
ORGANIZER:Volleyball
SEQUENCE:261151612
SUMMARY:BK10         Fr.: TV Angermund - TB Osterfeld II
CLASS:PUBLIC
DTSTART:20141213T150000Z
DTSTAMP:20150314T184500Z
END:VEVENT
BEGIN:VEVENT
UID:316703-2da69939ed67427dc6bf3daba21059e9
X-WR-RELCALID:316703-2da69939ed67427dc6bf3daba21059e9
ORGANIZER:Volleyball
SEQUENCE:261151612
SUMMARY:BK10         Fr.: TB Osterfeld III - TB Osterfeld II
CLASS:PUBLIC
DTSTART:20150110T140000Z
DTSTAMP:20150314T184500Z
END:VEVENT
BEGIN:VEVENT
UID:316704-2da69939ed67427dc6bf3daba21059e9
X-WR-RELCALID:316704-2da69939ed67427dc6bf3daba21059e9
ORGANIZER:Volleyball
SEQUENCE:261151612
SUMMARY:BK10         Fr.: TUSEM Essen IV - TB Osterfeld II
CLASS:PUBLIC
DTSTART:20150117T140000Z
DTSTAMP:20150314T184500Z
END:VEVENT
BEGIN:VEVENT
UID:316711-2da69939ed67427dc6bf3daba21059e9
X-WR-RELCALID:316711-2da69939ed67427dc6bf3daba21059e9
ORGANIZER:Volleyball
SEQUENCE:261151612
SUMMARY:BK10         Fr.: SG MTG/TVG Steele II - TB Osterfeld II
CLASS:PUBLIC
DTSTART:20150124T140000Z
DTSTAMP:20150314T184500Z
END:VEVENT
BEGIN:VEVENT
UID:316718-2da69939ed67427dc6bf3daba21059e9
X-WR-RELCALID:316718-2da69939ed67427dc6bf3daba21059e9
ORGANIZER:Volleyball
SEQUENCE:261151612
SUMMARY:BK10         Fr.: TB Osterfeld II - Dümptener TV
CLASS:PUBLIC
DTSTART:20150221T140000Z
DTSTAMP:20150314T184500Z
END:VEVENT
BEGIN:VEVENT
UID:316713-2da69939ed67427dc6bf3daba21059e9
X-WR-RELCALID:316713-2da69939ed67427dc6bf3daba21059e9
ORGANIZER:Volleyball
SEQUENCE:261151612
SUMMARY:BK10         Fr.: TB Osterfeld II - VV Humann Essen IV
CLASS:PUBLIC
DTSTART:20150227T173000Z
DTSTAMP:20150314T184500Z
END:VEVENT
BEGIN:VEVENT
UID:316721-2da69939ed67427dc6bf3daba21059e9
X-WR-RELCALID:316721-2da69939ed67427dc6bf3daba21059e9
ORGANIZER:Volleyball
SEQUENCE:261151612
SUMMARY:BK10         Fr.: TB Osterfeld II - VC Essen-Borbeck V
CLASS:PUBLIC
DTSTART:20150308T100000Z
DTSTAMP:20150314T184500Z
END:VEVENT
BEGIN:VEVENT
UID:316724-2da69939ed67427dc6bf3daba21059e9
X-WR-RELCALID:316724-2da69939ed67427dc6bf3daba21059e9
ORGANIZER:Volleyball
SEQUENCE:261151612
SUMMARY:BK10         Fr.: TB Osterfeld II - TV Angermund
CLASS:PUBLIC
DTSTART:20150314T140000Z
DTSTAMP:20150314T184500Z
END:VEVENT
END:VCALENDAR