BEGIN:VCALENDAR
VERSION:2.0
PRODID:VSD-Portal-www.volley.de
METHOD:PUBLISH
BEGIN:VEVENT
UID:314181-2da69939ed67427dc6bf3daba21059e9
X-WR-RELCALID:314181-2da69939ed67427dc6bf3daba21059e9
ORGANIZER:Volleyball
SEQUENCE:261151745
SUMMARY:LL3          Mä.: Haaner TV - SG TV Wanheim/FS Duisburg
CLASS:PUBLIC
DTSTART:20140913T130000Z
DTSTAMP:20150329T082000Z
END:VEVENT
BEGIN:VEVENT
UID:314196-2da69939ed67427dc6bf3daba21059e9
X-WR-RELCALID:314196-2da69939ed67427dc6bf3daba21059e9
ORGANIZER:Volleyball
SEQUENCE:261151745
SUMMARY:LL3          Mä.: Haaner TV - Osterather TV
CLASS:PUBLIC
DTSTART:20141102T140000Z
DTSTAMP:20150329T082000Z
END:VEVENT
BEGIN:VEVENT
UID:314207-2da69939ed67427dc6bf3daba21059e9
X-WR-RELCALID:314207-2da69939ed67427dc6bf3daba21059e9
ORGANIZER:Volleyball
SEQUENCE:261151745
SUMMARY:LL3          Mä.: Haaner TV - Rumelner TV
CLASS:PUBLIC
DTSTART:20141122T140000Z
DTSTAMP:20150329T082000Z
END:VEVENT
BEGIN:VEVENT
UID:314214-2da69939ed67427dc6bf3daba21059e9
X-WR-RELCALID:314214-2da69939ed67427dc6bf3daba21059e9
ORGANIZER:Volleyball
SEQUENCE:261151745
SUMMARY:LL3          Mä.: Haaner TV - TuS 08 Lintorf
CLASS:PUBLIC
DTSTART:20141213T140000Z
DTSTAMP:20150329T082000Z
END:VEVENT
BEGIN:VEVENT
UID:314225-2da69939ed67427dc6bf3daba21059e9
X-WR-RELCALID:314225-2da69939ed67427dc6bf3daba21059e9
ORGANIZER:Volleyball
SEQUENCE:261151745
SUMMARY:LL3          Mä.: Haaner TV - TV Voerde
CLASS:PUBLIC
DTSTART:20150124T140000Z
DTSTAMP:20150329T082000Z
END:VEVENT
BEGIN:VEVENT
UID:314230-2da69939ed67427dc6bf3daba21059e9
X-WR-RELCALID:314230-2da69939ed67427dc6bf3daba21059e9
ORGANIZER:Volleyball
SEQUENCE:261151745
SUMMARY:LL3          Mä.: Haaner TV - TB Osterfeld
CLASS:PUBLIC
DTSTART:20150207T140000Z
DTSTAMP:20150329T082000Z
END:VEVENT
BEGIN:VEVENT
UID:314238-2da69939ed67427dc6bf3daba21059e9
X-WR-RELCALID:314238-2da69939ed67427dc6bf3daba21059e9
ORGANIZER:Volleyball
SEQUENCE:261151745
SUMMARY:LL3          Mä.: Haaner TV - Verberger TV
CLASS:PUBLIC
DTSTART:20150228T140000Z
DTSTAMP:20150329T082000Z
END:VEVENT
BEGIN:VEVENT
UID:314245-2da69939ed67427dc6bf3daba21059e9
X-WR-RELCALID:314245-2da69939ed67427dc6bf3daba21059e9
ORGANIZER:Volleyball
SEQUENCE:261151745
SUMMARY:LL3          Mä.: Haaner TV - VC Fabrik Duisburg
CLASS:PUBLIC
DTSTART:20150314T140000Z
DTSTAMP:20150329T082000Z
END:VEVENT
END:VCALENDAR