BEGIN:VCALENDAR
VERSION:2.0
PRODID:VSD-Portal-www.volley.de
METHOD:PUBLISH
BEGIN:VEVENT
UID:313767-2da69939ed67427dc6bf3daba21059e9
X-WR-RELCALID:313767-2da69939ed67427dc6bf3daba21059e9
ORGANIZER:Volleyball
SEQUENCE:261130808
SUMMARY:VL4          Mä.: TV Emsdetten - Gütersloher TV
CLASS:PUBLIC
DTSTART:20140927T150000Z
DTSTAMP:20150330T074000Z
END:VEVENT
BEGIN:VEVENT
UID:313769-2da69939ed67427dc6bf3daba21059e9
X-WR-RELCALID:313769-2da69939ed67427dc6bf3daba21059e9
ORGANIZER:Volleyball
SEQUENCE:261130808
SUMMARY:VL4          Mä.: TG Herford - TV Emsdetten
CLASS:PUBLIC
DTSTART:20141005T143000Z
DTSTAMP:20150330T074000Z
END:VEVENT
BEGIN:VEVENT
UID:313775-2da69939ed67427dc6bf3daba21059e9
X-WR-RELCALID:313775-2da69939ed67427dc6bf3daba21059e9
ORGANIZER:Volleyball
SEQUENCE:261130808
SUMMARY:VL4          Mä.: TV Emsdetten - SV Blau-Weiß Aasee II
CLASS:PUBLIC
DTSTART:20141018T150000Z
DTSTAMP:20150330T074000Z
END:VEVENT
BEGIN:VEVENT
UID:313779-2da69939ed67427dc6bf3daba21059e9
X-WR-RELCALID:313779-2da69939ed67427dc6bf3daba21059e9
ORGANIZER:Volleyball
SEQUENCE:261130808
SUMMARY:VL4          Mä.: Telekom Post SV Bielefeld III - TV Emsdetten
 
CLASS:PUBLIC
DTSTART:20141102T160000Z
DTSTAMP:20150330T074000Z
END:VEVENT
BEGIN:VEVENT
UID:313783-2da69939ed67427dc6bf3daba21059e9
X-WR-RELCALID:313783-2da69939ed67427dc6bf3daba21059e9
ORGANIZER:Volleyball
SEQUENCE:261130808
SUMMARY:VL4          Mä.: TV Emsdetten - Telekom Post SV Bielefeld IV
CLASS:PUBLIC
DTSTART:20141108T160000Z
DTSTAMP:20150330T074000Z
END:VEVENT
BEGIN:VEVENT
UID:313785-2da69939ed67427dc6bf3daba21059e9
X-WR-RELCALID:313785-2da69939ed67427dc6bf3daba21059e9
ORGANIZER:Volleyball
SEQUENCE:261130808
SUMMARY:VL4          Mä.: VBC 69 Paderborn II - TV Emsdetten
CLASS:PUBLIC
DTSTART:20141122T150000Z
DTSTAMP:20150330T074000Z
END:VEVENT
BEGIN:VEVENT
UID:313791-2da69939ed67427dc6bf3daba21059e9
X-WR-RELCALID:313791-2da69939ed67427dc6bf3daba21059e9
ORGANIZER:Volleyball
SEQUENCE:261130808
SUMMARY:VL4          Mä.: TV Emsdetten - SG Oerlinghausen/Augustdorf
CLASS:PUBLIC
DTSTART:20141206T160000Z
DTSTAMP:20150330T074000Z
END:VEVENT
BEGIN:VEVENT
UID:313792-2da69939ed67427dc6bf3daba21059e9
X-WR-RELCALID:313792-2da69939ed67427dc6bf3daba21059e9
ORGANIZER:Volleyball
SEQUENCE:261130808
SUMMARY:VL4          Mä.: Gütersloher TV II - TV Emsdetten
CLASS:PUBLIC
DTSTART:20141213T150000Z
DTSTAMP:20150330T074000Z
END:VEVENT
BEGIN:VEVENT
UID:313803-2da69939ed67427dc6bf3daba21059e9
X-WR-RELCALID:313803-2da69939ed67427dc6bf3daba21059e9
ORGANIZER:Volleyball
SEQUENCE:261130808
SUMMARY:VL4          Mä.: Gütersloher TV - TV Emsdetten
CLASS:PUBLIC
DTSTART:20150118T153000Z
DTSTAMP:20150330T074000Z
END:VEVENT
BEGIN:VEVENT
UID:313805-2da69939ed67427dc6bf3daba21059e9
X-WR-RELCALID:313805-2da69939ed67427dc6bf3daba21059e9
ORGANIZER:Volleyball
SEQUENCE:261130808
SUMMARY:VL4          Mä.: TV Emsdetten - TG Herford
CLASS:PUBLIC
DTSTART:20150124T160000Z
DTSTAMP:20150330T074000Z
END:VEVENT
BEGIN:VEVENT
UID:313811-2da69939ed67427dc6bf3daba21059e9
X-WR-RELCALID:313811-2da69939ed67427dc6bf3daba21059e9
ORGANIZER:Volleyball
SEQUENCE:261130808
SUMMARY:VL4          Mä.: SV Blau-Weiß Aasee II - TV Emsdetten
CLASS:PUBLIC
DTSTART:20150207T140000Z
DTSTAMP:20150330T074000Z
END:VEVENT
BEGIN:VEVENT
UID:313815-2da69939ed67427dc6bf3daba21059e9
X-WR-RELCALID:313815-2da69939ed67427dc6bf3daba21059e9
ORGANIZER:Volleyball
SEQUENCE:261130808
SUMMARY:VL4          Mä.: TV Emsdetten - Telekom Post SV Bielefeld III
 
CLASS:PUBLIC
DTSTART:20150214T160000Z
DTSTAMP:20150330T074000Z
END:VEVENT
BEGIN:VEVENT
UID:313819-2da69939ed67427dc6bf3daba21059e9
X-WR-RELCALID:313819-2da69939ed67427dc6bf3daba21059e9
ORGANIZER:Volleyball
SEQUENCE:261130808
SUMMARY:VL4          Mä.: Telekom Post SV Bielefeld IV - TV Emsdetten
CLASS:PUBLIC
DTSTART:20150228T153000Z
DTSTAMP:20150330T074000Z
END:VEVENT
BEGIN:VEVENT
UID:313821-2da69939ed67427dc6bf3daba21059e9
X-WR-RELCALID:313821-2da69939ed67427dc6bf3daba21059e9
ORGANIZER:Volleyball
SEQUENCE:261130808
SUMMARY:VL4          Mä.: TV Emsdetten - VBC 69 Paderborn II
CLASS:PUBLIC
DTSTART:20150307T160000Z
DTSTAMP:20150330T074000Z
END:VEVENT
BEGIN:VEVENT
UID:313827-2da69939ed67427dc6bf3daba21059e9
X-WR-RELCALID:313827-2da69939ed67427dc6bf3daba21059e9
ORGANIZER:Volleyball
SEQUENCE:261130808
SUMMARY:VL4          Mä.: SG Oerlinghausen/Augustdorf - TV Emsdetten
CLASS:PUBLIC
DTSTART:20150314T150000Z
DTSTAMP:20150330T074000Z
END:VEVENT
BEGIN:VEVENT
UID:313828-2da69939ed67427dc6bf3daba21059e9
X-WR-RELCALID:313828-2da69939ed67427dc6bf3daba21059e9
ORGANIZER:Volleyball
SEQUENCE:261130808
SUMMARY:VL4          Mä.: TV Emsdetten - Gütersloher TV II
CLASS:PUBLIC
DTSTART:20150328T160000Z
DTSTAMP:20150330T074000Z
END:VEVENT
END:VCALENDAR