BEGIN:VCALENDAR
VERSION:2.0
PRODID:VSD-Portal-www.volley.de
METHOD:PUBLISH
BEGIN:VEVENT
UID:301467-2da69939ed67427dc6bf3daba21059e9
X-WR-RELCALID:301467-2da69939ed67427dc6bf3daba21059e9
ORGANIZER:Volleyball
SEQUENCE:261102331
LOCATION:Turnhalle Pöhlde, Potsdamer Str. 32, 37412 Pöhlde
GEO:51.61319000000000000000;10.31733000000000000000
SUMMARY:BL 12 Mä.: 1. VC Pöhlde - BffL Goslar
CLASS:PUBLIC
DTSTART:20141011T130000Z
DTSTAMP:20150401T225000Z
END:VEVENT
BEGIN:VEVENT
UID:301468-2da69939ed67427dc6bf3daba21059e9
X-WR-RELCALID:301468-2da69939ed67427dc6bf3daba21059e9
ORGANIZER:Volleyball
SEQUENCE:261102331
LOCATION:Turnhalle Pöhlde, Potsdamer Str. 32, 37412 Pöhlde
GEO:51.61319000000000000000;10.31733000000000000000
SUMMARY:BL 12 Mä.: 1. VC Pöhlde - ASC 46 Göttingen IV
CLASS:PUBLIC
DTSTART:20141011T130000Z
DTSTAMP:20150401T225000Z
END:VEVENT
BEGIN:VEVENT
UID:301471-2da69939ed67427dc6bf3daba21059e9
X-WR-RELCALID:301471-2da69939ed67427dc6bf3daba21059e9
ORGANIZER:Volleyball
SEQUENCE:261102331
LOCATION:Sporthalle Worthschule, Zehntstr. 25, 38640 Goslar
GEO:51.90788190000000000000;10.42163540000000000000
SUMMARY:BL 12 Mä.: BffL Goslar - ASC 46 Göttingen III
CLASS:PUBLIC
DTSTART:20141018T130000Z
DTSTAMP:20150401T225000Z
END:VEVENT
BEGIN:VEVENT
UID:301472-2da69939ed67427dc6bf3daba21059e9
X-WR-RELCALID:301472-2da69939ed67427dc6bf3daba21059e9
ORGANIZER:Volleyball
SEQUENCE:261102331
LOCATION:Sporthalle Worthschule, Zehntstr. 25, 38640 Goslar
GEO:51.90788190000000000000;10.42163540000000000000
SUMMARY:BL 12 Mä.: BffL Goslar - 1. VC Pöhlde II
CLASS:PUBLIC
DTSTART:20141018T130000Z
DTSTAMP:20150401T225000Z
END:VEVENT
BEGIN:VEVENT
UID:301473-2da69939ed67427dc6bf3daba21059e9
X-WR-RELCALID:301473-2da69939ed67427dc6bf3daba21059e9
ORGANIZER:Volleyball
SEQUENCE:261102331
LOCATION:Sporthalle Lenglern, Brandenburger Str. 13, 37120 Bovenden-Le
 nglern
GEO:51.58697000000000000000;9.87543000000000000000
SUMMARY:BL 12 Mä.: SG Lenglern - ASC 46 Göttingen IV
CLASS:PUBLIC
DTSTART:20141018T130000Z
DTSTAMP:20150401T225000Z
END:VEVENT
BEGIN:VEVENT
UID:301474-2da69939ed67427dc6bf3daba21059e9
X-WR-RELCALID:301474-2da69939ed67427dc6bf3daba21059e9
ORGANIZER:Volleyball
SEQUENCE:261102331
LOCATION:Sporthalle Lenglern, Brandenburger Str. 13, 37120 Bovenden-Le
 nglern
GEO:51.58697000000000000000;9.87543000000000000000
SUMMARY:BL 12 Mä.: SG Lenglern - MTV 05 Hedemünden
CLASS:PUBLIC
DTSTART:20141018T130000Z
DTSTAMP:20150401T225000Z
END:VEVENT
BEGIN:VEVENT
UID:301469-2da69939ed67427dc6bf3daba21059e9
X-WR-RELCALID:301469-2da69939ed67427dc6bf3daba21059e9
ORGANIZER:Volleyball
SEQUENCE:261102331
LOCATION:Turnhalle Pöhlde, Potsdamer Str. 32, 37412 Pöhlde
GEO:51.61319000000000000000;10.31733000000000000000
SUMMARY:BL 12 Mä.: 1. VC Pöhlde II - SG Lenglern
CLASS:PUBLIC
DTSTART:20141025T130000Z
DTSTAMP:20150401T225000Z
END:VEVENT
BEGIN:VEVENT
UID:301470-2da69939ed67427dc6bf3daba21059e9
X-WR-RELCALID:301470-2da69939ed67427dc6bf3daba21059e9
ORGANIZER:Volleyball
SEQUENCE:261102331
LOCATION:Turnhalle Pöhlde, Potsdamer Str. 32, 37412 Pöhlde
GEO:51.61319000000000000000;10.31733000000000000000
SUMMARY:BL 12 Mä.: 1. VC Pöhlde II - TSV Nesselröden
CLASS:PUBLIC
DTSTART:20141025T130000Z
DTSTAMP:20150401T225000Z
END:VEVENT
BEGIN:VEVENT
UID:301475-2da69939ed67427dc6bf3daba21059e9
X-WR-RELCALID:301475-2da69939ed67427dc6bf3daba21059e9
ORGANIZER:Volleyball
SEQUENCE:261102331
LOCATION:Max-Planck-Gymnasium, Bühlstraße, 37073 Göttingen
GEO:51.53721800000000000000;9.94201180000000000000
SUMMARY:BL 12 Mä.: ASC 46 Göttingen III - 1. VC Pöhlde
CLASS:PUBLIC
DTSTART:20141108T140000Z
DTSTAMP:20150401T225000Z
END:VEVENT
BEGIN:VEVENT
UID:301476-2da69939ed67427dc6bf3daba21059e9
X-WR-RELCALID:301476-2da69939ed67427dc6bf3daba21059e9
ORGANIZER:Volleyball
SEQUENCE:261102331
LOCATION:Max-Planck-Gymnasium, Bühlstraße, 37073 Göttingen
GEO:51.53721800000000000000;9.94201180000000000000
SUMMARY:BL 12 Mä.: ASC 46 Göttingen III - SG Lenglern
CLASS:PUBLIC
DTSTART:20141108T140000Z
DTSTAMP:20150401T225000Z
END:VEVENT
BEGIN:VEVENT
UID:301477-2da69939ed67427dc6bf3daba21059e9
X-WR-RELCALID:301477-2da69939ed67427dc6bf3daba21059e9
ORGANIZER:Volleyball
SEQUENCE:261102331
LOCATION:Schulturnhalle Nesselröden, Schulstraße, 37115 Nesselröden
GEO:51.49614120000000000000;10.19054060000000000000
SUMMARY:BL 12 Mä.: TSV Nesselröden - MTV 05 Hedemünden
CLASS:PUBLIC
DTSTART:20141108T140000Z
DTSTAMP:20150401T225000Z
END:VEVENT
BEGIN:VEVENT
UID:301478-2da69939ed67427dc6bf3daba21059e9
X-WR-RELCALID:301478-2da69939ed67427dc6bf3daba21059e9
ORGANIZER:Volleyball
SEQUENCE:261102331
LOCATION:Schulturnhalle Nesselröden, Schulstraße, 37115 Nesselröden
GEO:51.49614120000000000000;10.19054060000000000000
SUMMARY:BL 12 Mä.: TSV Nesselröden - BffL Goslar
CLASS:PUBLIC
DTSTART:20141108T140000Z
DTSTAMP:20150401T225000Z
END:VEVENT
BEGIN:VEVENT
UID:301479-2da69939ed67427dc6bf3daba21059e9
X-WR-RELCALID:301479-2da69939ed67427dc6bf3daba21059e9
ORGANIZER:Volleyball
SEQUENCE:261102331
LOCATION:Turnhalle Pöhlde, Potsdamer Str. 32, 37412 Pöhlde
GEO:51.61319000000000000000;10.31733000000000000000
SUMMARY:BL 12 Mä.: 1. VC Pöhlde - TSV Nesselröden
CLASS:PUBLIC
DTSTART:20141122T140000Z
DTSTAMP:20150401T225000Z
END:VEVENT
BEGIN:VEVENT
UID:301480-2da69939ed67427dc6bf3daba21059e9
X-WR-RELCALID:301480-2da69939ed67427dc6bf3daba21059e9
ORGANIZER:Volleyball
SEQUENCE:261102331
LOCATION:Turnhalle Pöhlde, Potsdamer Str. 32, 37412 Pöhlde
GEO:51.61319000000000000000;10.31733000000000000000
SUMMARY:BL 12 Mä.: 1. VC Pöhlde - MTV 05 Hedemünden
CLASS:PUBLIC
DTSTART:20141122T140000Z
DTSTAMP:20150401T225000Z
END:VEVENT
BEGIN:VEVENT
UID:301481-2da69939ed67427dc6bf3daba21059e9
X-WR-RELCALID:301481-2da69939ed67427dc6bf3daba21059e9
ORGANIZER:Volleyball
SEQUENCE:261102331
LOCATION:Max-Planck-Gymnasium, Bühlstraße, 37073 Göttingen
GEO:51.53721800000000000000;9.94201180000000000000
SUMMARY:BL 12 Mä.: ASC 46 Göttingen IV - BffL Goslar
CLASS:PUBLIC
DTSTART:20141122T140000Z
DTSTAMP:20150401T225000Z
END:VEVENT
BEGIN:VEVENT
UID:301482-2da69939ed67427dc6bf3daba21059e9
X-WR-RELCALID:301482-2da69939ed67427dc6bf3daba21059e9
ORGANIZER:Volleyball
SEQUENCE:261102331
LOCATION:Max-Planck-Gymnasium, Bühlstraße, 37073 Göttingen
GEO:51.53721800000000000000;9.94201180000000000000
SUMMARY:BL 12 Mä.: ASC 46 Göttingen IV - ASC 46 Göttingen III
CLASS:PUBLIC
DTSTART:20141122T140000Z
DTSTAMP:20150401T225000Z
END:VEVENT
BEGIN:VEVENT
UID:301483-2da69939ed67427dc6bf3daba21059e9
X-WR-RELCALID:301483-2da69939ed67427dc6bf3daba21059e9
ORGANIZER:Volleyball
SEQUENCE:261102331
LOCATION:Turnhalle Pöhlde, Potsdamer Str. 32, 37412 Pöhlde
GEO:51.61319000000000000000;10.31733000000000000000
SUMMARY:BL 12 Mä.: 1. VC Pöhlde II - 1. VC Pöhlde
CLASS:PUBLIC
DTSTART:20141129T140000Z
DTSTAMP:20150401T225000Z
END:VEVENT
BEGIN:VEVENT
UID:301484-2da69939ed67427dc6bf3daba21059e9
X-WR-RELCALID:301484-2da69939ed67427dc6bf3daba21059e9
ORGANIZER:Volleyball
SEQUENCE:261102331
LOCATION:Turnhalle Pöhlde, Potsdamer Str. 32, 37412 Pöhlde
GEO:51.61319000000000000000;10.31733000000000000000
SUMMARY:BL 12 Mä.: 1. VC Pöhlde II - ASC 46 Göttingen III
CLASS:PUBLIC
DTSTART:20141129T140000Z
DTSTAMP:20150401T225000Z
END:VEVENT
BEGIN:VEVENT
UID:301485-2da69939ed67427dc6bf3daba21059e9
X-WR-RELCALID:301485-2da69939ed67427dc6bf3daba21059e9
ORGANIZER:Volleyball
SEQUENCE:261102331
LOCATION:Schulturnhalle Nesselröden, Schulstraße, 37115 Nesselröden
GEO:51.49614120000000000000;10.19054060000000000000
SUMMARY:BL 12 Mä.: TSV Nesselröden - SG Lenglern
CLASS:PUBLIC
DTSTART:20141129T140000Z
DTSTAMP:20150401T225000Z
END:VEVENT
BEGIN:VEVENT
UID:301486-2da69939ed67427dc6bf3daba21059e9
X-WR-RELCALID:301486-2da69939ed67427dc6bf3daba21059e9
ORGANIZER:Volleyball
SEQUENCE:261102331
LOCATION:Schulturnhalle Nesselröden, Schulstraße, 37115 Nesselröden
GEO:51.49614120000000000000;10.19054060000000000000
SUMMARY:BL 12 Mä.: TSV Nesselröden - ASC 46 Göttingen IV
CLASS:PUBLIC
DTSTART:20141129T140000Z
DTSTAMP:20150401T225000Z
END:VEVENT
BEGIN:VEVENT
UID:301487-2da69939ed67427dc6bf3daba21059e9
X-WR-RELCALID:301487-2da69939ed67427dc6bf3daba21059e9
ORGANIZER:Volleyball
SEQUENCE:261102331
LOCATION:Grundschule Hedemünden, Pfuhlweg 2, 34346 Hann. Münden
GEO:51.38934050000000000000;9.76384750000000000000
SUMMARY:BL 12 Mä.: MTV 05 Hedemünden - ASC 46 Göttingen IV
CLASS:PUBLIC
DTSTART:20141206T140000Z
DTSTAMP:20150401T225000Z
END:VEVENT
BEGIN:VEVENT
UID:301488-2da69939ed67427dc6bf3daba21059e9
X-WR-RELCALID:301488-2da69939ed67427dc6bf3daba21059e9
ORGANIZER:Volleyball
SEQUENCE:261102331
LOCATION:Grundschule Hedemünden, Pfuhlweg 2, 34346 Hann. Münden
GEO:51.38934050000000000000;9.76384750000000000000
SUMMARY:BL 12 Mä.: MTV 05 Hedemünden - 1. VC Pöhlde II
CLASS:PUBLIC
DTSTART:20141206T140000Z
DTSTAMP:20150401T225000Z
END:VEVENT
BEGIN:VEVENT
UID:301489-2da69939ed67427dc6bf3daba21059e9
X-WR-RELCALID:301489-2da69939ed67427dc6bf3daba21059e9
ORGANIZER:Volleyball
SEQUENCE:261102331
LOCATION:Sporthalle Lenglern, Brandenburger Str. 13, 37120 Bovenden-Le
 nglern
GEO:51.58697000000000000000;9.87543000000000000000
SUMMARY:BL 12 Mä.: SG Lenglern - BffL Goslar
CLASS:PUBLIC
DTSTART:20141213T140000Z
DTSTAMP:20150401T225000Z
END:VEVENT
BEGIN:VEVENT
UID:301490-2da69939ed67427dc6bf3daba21059e9
X-WR-RELCALID:301490-2da69939ed67427dc6bf3daba21059e9
ORGANIZER:Volleyball
SEQUENCE:261102331
LOCATION:Sporthalle Lenglern, Brandenburger Str. 13, 37120 Bovenden-Le
 nglern
GEO:51.58697000000000000000;9.87543000000000000000
SUMMARY:BL 12 Mä.: SG Lenglern - 1. VC Pöhlde
CLASS:PUBLIC
DTSTART:20141213T140000Z
DTSTAMP:20150401T225000Z
END:VEVENT
BEGIN:VEVENT
UID:301491-2da69939ed67427dc6bf3daba21059e9
X-WR-RELCALID:301491-2da69939ed67427dc6bf3daba21059e9
ORGANIZER:Volleyball
SEQUENCE:261102331
LOCATION:Max-Planck-Gymnasium, Bühlstraße, 37073 Göttingen
GEO:51.53721800000000000000;9.94201180000000000000
SUMMARY:BL 12 Mä.: ASC 46 Göttingen III - TSV Nesselröden
CLASS:PUBLIC
DTSTART:20141213T140000Z
DTSTAMP:20150401T225000Z
END:VEVENT
BEGIN:VEVENT
UID:301492-2da69939ed67427dc6bf3daba21059e9
X-WR-RELCALID:301492-2da69939ed67427dc6bf3daba21059e9
ORGANIZER:Volleyball
SEQUENCE:261102331
LOCATION:Max-Planck-Gymnasium, Bühlstraße, 37073 Göttingen
GEO:51.53721800000000000000;9.94201180000000000000
SUMMARY:BL 12 Mä.: ASC 46 Göttingen III - 1. VC Pöhlde II
CLASS:PUBLIC
DTSTART:20141213T140000Z
DTSTAMP:20150401T225000Z
END:VEVENT
BEGIN:VEVENT
UID:301493-2da69939ed67427dc6bf3daba21059e9
X-WR-RELCALID:301493-2da69939ed67427dc6bf3daba21059e9
ORGANIZER:Volleyball
SEQUENCE:261102331
LOCATION:Sporthalle Worthschule, Zehntstr. 25, 38640 Goslar
GEO:51.90788190000000000000;10.42163540000000000000
SUMMARY:BL 12 Mä.: BffL Goslar - SG Lenglern
CLASS:PUBLIC
DTSTART:20141220T140000Z
DTSTAMP:20150401T225000Z
END:VEVENT
BEGIN:VEVENT
UID:301494-2da69939ed67427dc6bf3daba21059e9
X-WR-RELCALID:301494-2da69939ed67427dc6bf3daba21059e9
ORGANIZER:Volleyball
SEQUENCE:261102331
LOCATION:Sporthalle Worthschule, Zehntstr. 25, 38640 Goslar
GEO:51.90788190000000000000;10.42163540000000000000
SUMMARY:BL 12 Mä.: BffL Goslar - ASC 46 Göttingen IV
CLASS:PUBLIC
DTSTART:20141220T140000Z
DTSTAMP:20150401T225000Z
END:VEVENT
BEGIN:VEVENT
UID:301495-2da69939ed67427dc6bf3daba21059e9
X-WR-RELCALID:301495-2da69939ed67427dc6bf3daba21059e9
ORGANIZER:Volleyball
SEQUENCE:261102331
LOCATION:Turnhalle Pöhlde, Potsdamer Str. 32, 37412 Pöhlde
GEO:51.61319000000000000000;10.31733000000000000000
SUMMARY:BL 12 Mä.: 1. VC Pöhlde - 1. VC Pöhlde II
CLASS:PUBLIC
DTSTART:20150110T140000Z
DTSTAMP:20150401T225000Z
END:VEVENT
BEGIN:VEVENT
UID:301496-2da69939ed67427dc6bf3daba21059e9
X-WR-RELCALID:301496-2da69939ed67427dc6bf3daba21059e9
ORGANIZER:Volleyball
SEQUENCE:261102331
LOCATION:Turnhalle Pöhlde, Potsdamer Str. 32, 37412 Pöhlde
GEO:51.61319000000000000000;10.31733000000000000000
SUMMARY:BL 12 Mä.: 1. VC Pöhlde - TSV Nesselröden
CLASS:PUBLIC
DTSTART:20150110T140000Z
DTSTAMP:20150401T225000Z
END:VEVENT
BEGIN:VEVENT
UID:301497-2da69939ed67427dc6bf3daba21059e9
X-WR-RELCALID:301497-2da69939ed67427dc6bf3daba21059e9
ORGANIZER:Volleyball
SEQUENCE:261102331
LOCATION:Grundschule Hedemünden, Pfuhlweg 2, 34346 Hann. Münden
GEO:51.38934050000000000000;9.76384750000000000000
SUMMARY:BL 12 Mä.: MTV 05 Hedemünden - ASC 46 Göttingen III
CLASS:PUBLIC
DTSTART:20150110T140000Z
DTSTAMP:20150401T225000Z
END:VEVENT
BEGIN:VEVENT
UID:301498-2da69939ed67427dc6bf3daba21059e9
X-WR-RELCALID:301498-2da69939ed67427dc6bf3daba21059e9
ORGANIZER:Volleyball
SEQUENCE:261102331
LOCATION:Grundschule Hedemünden, Pfuhlweg 2, 34346 Hann. Münden
GEO:51.38934050000000000000;9.76384750000000000000
SUMMARY:BL 12 Mä.: MTV 05 Hedemünden - BffL Goslar
CLASS:PUBLIC
DTSTART:20150110T140000Z
DTSTAMP:20150401T225000Z
END:VEVENT
BEGIN:VEVENT
UID:301501-2da69939ed67427dc6bf3daba21059e9
X-WR-RELCALID:301501-2da69939ed67427dc6bf3daba21059e9
ORGANIZER:Volleyball
SEQUENCE:261102331
LOCATION:Grundschule Hedemünden, Pfuhlweg 2, 34346 Hann. Münden
GEO:51.38934050000000000000;9.76384750000000000000
SUMMARY:BL 12 Mä.: MTV 05 Hedemünden - TSV Nesselröden
CLASS:PUBLIC
DTSTART:20150117T140000Z
DTSTAMP:20150401T225000Z
END:VEVENT
BEGIN:VEVENT
UID:301502-2da69939ed67427dc6bf3daba21059e9
X-WR-RELCALID:301502-2da69939ed67427dc6bf3daba21059e9
ORGANIZER:Volleyball
SEQUENCE:261102331
LOCATION:Grundschule Hedemünden, Pfuhlweg 2, 34346 Hann. Münden
GEO:51.38934050000000000000;9.76384750000000000000
SUMMARY:BL 12 Mä.: MTV 05 Hedemünden - SG Lenglern
CLASS:PUBLIC
DTSTART:20150117T140000Z
DTSTAMP:20150401T225000Z
END:VEVENT
BEGIN:VEVENT
UID:301499-2da69939ed67427dc6bf3daba21059e9
X-WR-RELCALID:301499-2da69939ed67427dc6bf3daba21059e9
ORGANIZER:Volleyball
SEQUENCE:261102331
LOCATION:Max-Planck-Gymnasium, Bühlstraße, 37073 Göttingen
GEO:51.53721800000000000000;9.94201180000000000000
SUMMARY:BL 12 Mä.: ASC 46 Göttingen III - ASC 46 Göttingen IV
CLASS:PUBLIC
DTSTART:20150117T140000Z
DTSTAMP:20150401T225000Z
END:VEVENT
BEGIN:VEVENT
UID:301500-2da69939ed67427dc6bf3daba21059e9
X-WR-RELCALID:301500-2da69939ed67427dc6bf3daba21059e9
ORGANIZER:Volleyball
SEQUENCE:261102331
LOCATION:Max-Planck-Gymnasium, Bühlstraße, 37073 Göttingen
GEO:51.53721800000000000000;9.94201180000000000000
SUMMARY:BL 12 Mä.: ASC 46 Göttingen III - BffL Goslar
CLASS:PUBLIC
DTSTART:20150117T140000Z
DTSTAMP:20150401T225000Z
END:VEVENT
BEGIN:VEVENT
UID:301503-2da69939ed67427dc6bf3daba21059e9
X-WR-RELCALID:301503-2da69939ed67427dc6bf3daba21059e9
ORGANIZER:Volleyball
SEQUENCE:261102331
LOCATION:Turnhalle Pöhlde, Potsdamer Str. 32, 37412 Pöhlde
GEO:51.61319000000000000000;10.31733000000000000000
SUMMARY:BL 12 Mä.: 1. VC Pöhlde II - ASC 46 Göttingen IV
CLASS:PUBLIC
DTSTART:20150124T140000Z
DTSTAMP:20150401T225000Z
END:VEVENT
BEGIN:VEVENT
UID:301504-2da69939ed67427dc6bf3daba21059e9
X-WR-RELCALID:301504-2da69939ed67427dc6bf3daba21059e9
ORGANIZER:Volleyball
SEQUENCE:261102331
LOCATION:Turnhalle Pöhlde, Potsdamer Str. 32, 37412 Pöhlde
GEO:51.61319000000000000000;10.31733000000000000000
SUMMARY:BL 12 Mä.: 1. VC Pöhlde II - MTV 05 Hedemünden
CLASS:PUBLIC
DTSTART:20150124T140000Z
DTSTAMP:20150401T225000Z
END:VEVENT
BEGIN:VEVENT
UID:301505-2da69939ed67427dc6bf3daba21059e9
X-WR-RELCALID:301505-2da69939ed67427dc6bf3daba21059e9
ORGANIZER:Volleyball
SEQUENCE:261102331
LOCATION:Sporthalle Worthschule, Zehntstr. 25, 38640 Goslar
GEO:51.90788190000000000000;10.42163540000000000000
SUMMARY:BL 12 Mä.: BffL Goslar - TSV Nesselröden
CLASS:PUBLIC
DTSTART:20150131T140000Z
DTSTAMP:20150401T225000Z
END:VEVENT
BEGIN:VEVENT
UID:301506-2da69939ed67427dc6bf3daba21059e9
X-WR-RELCALID:301506-2da69939ed67427dc6bf3daba21059e9
ORGANIZER:Volleyball
SEQUENCE:261102331
LOCATION:Sporthalle Worthschule, Zehntstr. 25, 38640 Goslar
GEO:51.90788190000000000000;10.42163540000000000000
SUMMARY:BL 12 Mä.: BffL Goslar - 1. VC Pöhlde
CLASS:PUBLIC
DTSTART:20150131T140000Z
DTSTAMP:20150401T225000Z
END:VEVENT
BEGIN:VEVENT
UID:301510-2da69939ed67427dc6bf3daba21059e9
X-WR-RELCALID:301510-2da69939ed67427dc6bf3daba21059e9
ORGANIZER:Volleyball
SEQUENCE:261102331
LOCATION:Schulturnhalle Nesselröden, Schulstraße, 37115 Nesselröden
GEO:51.49614120000000000000;10.19054060000000000000
SUMMARY:BL 12 Mä.: TSV Nesselröden - ASC 46 Göttingen III
CLASS:PUBLIC
DTSTART:20150214T140000Z
DTSTAMP:20150401T225000Z
END:VEVENT
BEGIN:VEVENT
UID:301507-2da69939ed67427dc6bf3daba21059e9
X-WR-RELCALID:301507-2da69939ed67427dc6bf3daba21059e9
ORGANIZER:Volleyball
SEQUENCE:261102331
LOCATION:Max-Planck-Gymnasium, Bühlstraße, 37073 Göttingen
GEO:51.53721800000000000000;9.94201180000000000000
SUMMARY:BL 12 Mä.: ASC 46 Göttingen IV - SG Lenglern
CLASS:PUBLIC
DTSTART:20150214T140000Z
DTSTAMP:20150401T225000Z
END:VEVENT
BEGIN:VEVENT
UID:301508-2da69939ed67427dc6bf3daba21059e9
X-WR-RELCALID:301508-2da69939ed67427dc6bf3daba21059e9
ORGANIZER:Volleyball
SEQUENCE:261102331
LOCATION:Max-Planck-Gymnasium, Bühlstraße, 37073 Göttingen
GEO:51.53721800000000000000;9.94201180000000000000
SUMMARY:BL 12 Mä.: ASC 46 Göttingen IV - 1. VC Pöhlde
CLASS:PUBLIC
DTSTART:20150214T140000Z
DTSTAMP:20150401T225000Z
END:VEVENT
BEGIN:VEVENT
UID:301513-2da69939ed67427dc6bf3daba21059e9
X-WR-RELCALID:301513-2da69939ed67427dc6bf3daba21059e9
ORGANIZER:Volleyball
SEQUENCE:261102331
LOCATION:Max-Planck-Gymnasium, Bühlstraße, 37073 Göttingen
GEO:51.53721800000000000000;9.94201180000000000000
SUMMARY:BL 12 Mä.: ASC 46 Göttingen III - MTV 05 Hedemünden
CLASS:PUBLIC
DTSTART:20150221T140000Z
DTSTAMP:20150401T225000Z
END:VEVENT
BEGIN:VEVENT
UID:301514-2da69939ed67427dc6bf3daba21059e9
X-WR-RELCALID:301514-2da69939ed67427dc6bf3daba21059e9
ORGANIZER:Volleyball
SEQUENCE:261102331
LOCATION:Max-Planck-Gymnasium, Bühlstraße, 37073 Göttingen
GEO:51.53721800000000000000;9.94201180000000000000
SUMMARY:BL 12 Mä.: ASC 46 Göttingen III - SG Lenglern
CLASS:PUBLIC
DTSTART:20150221T140000Z
DTSTAMP:20150401T225000Z
END:VEVENT
BEGIN:VEVENT
UID:301511-2da69939ed67427dc6bf3daba21059e9
X-WR-RELCALID:301511-2da69939ed67427dc6bf3daba21059e9
ORGANIZER:Volleyball
SEQUENCE:261102331
LOCATION:Turnhalle Pöhlde, Potsdamer Str. 32, 37412 Pöhlde
GEO:51.61319000000000000000;10.31733000000000000000
SUMMARY:BL 12 Mä.: 1. VC Pöhlde II - BffL Goslar
CLASS:PUBLIC
DTSTART:20150221T140000Z
DTSTAMP:20150401T225000Z
END:VEVENT
BEGIN:VEVENT
UID:301512-2da69939ed67427dc6bf3daba21059e9
X-WR-RELCALID:301512-2da69939ed67427dc6bf3daba21059e9
ORGANIZER:Volleyball
SEQUENCE:261102331
LOCATION:Turnhalle Pöhlde, Potsdamer Str. 32, 37412 Pöhlde
GEO:51.61319000000000000000;10.31733000000000000000
SUMMARY:BL 12 Mä.: 1. VC Pöhlde II - ASC 46 Göttingen IV
CLASS:PUBLIC
DTSTART:20150221T140000Z
DTSTAMP:20150401T225000Z
END:VEVENT
BEGIN:VEVENT
UID:301509-2da69939ed67427dc6bf3daba21059e9
X-WR-RELCALID:301509-2da69939ed67427dc6bf3daba21059e9
ORGANIZER:Volleyball
SEQUENCE:261102331
LOCATION:Schulturnhalle Nesselröden, Schulstraße, 37115 Nesselröden
GEO:51.49614120000000000000;10.19054060000000000000
SUMMARY:BL 12 Mä.: TSV Nesselröden - 1. VC Pöhlde II
CLASS:PUBLIC
DTSTART:20150308T100000Z
DTSTAMP:20150401T225000Z
END:VEVENT
BEGIN:VEVENT
UID:301515-2da69939ed67427dc6bf3daba21059e9
X-WR-RELCALID:301515-2da69939ed67427dc6bf3daba21059e9
ORGANIZER:Volleyball
SEQUENCE:261102331
LOCATION:Grundschule Hedemünden, Pfuhlweg 2, 34346 Hann. Münden
GEO:51.38934050000000000000;9.76384750000000000000
SUMMARY:BL 12 Mä.: MTV 05 Hedemünden - 1. VC Pöhlde
CLASS:PUBLIC
DTSTART:20150314T140000Z
DTSTAMP:20150401T225000Z
END:VEVENT
BEGIN:VEVENT
UID:301516-2da69939ed67427dc6bf3daba21059e9
X-WR-RELCALID:301516-2da69939ed67427dc6bf3daba21059e9
ORGANIZER:Volleyball
SEQUENCE:261102331
LOCATION:Grundschule Hedemünden, Pfuhlweg 2, 34346 Hann. Münden
GEO:51.38934050000000000000;9.76384750000000000000
SUMMARY:BL 12 Mä.: MTV 05 Hedemünden - BffL Goslar
CLASS:PUBLIC
DTSTART:20150314T140000Z
DTSTAMP:20150401T225000Z
END:VEVENT
BEGIN:VEVENT
UID:301517-2da69939ed67427dc6bf3daba21059e9
X-WR-RELCALID:301517-2da69939ed67427dc6bf3daba21059e9
ORGANIZER:Volleyball
SEQUENCE:261102331
LOCATION:Sporthalle Lenglern, Brandenburger Str. 13, 37120 Bovenden-Le
 nglern
GEO:51.58697000000000000000;9.87543000000000000000
SUMMARY:BL 12 Mä.: SG Lenglern - 1. VC Pöhlde II
CLASS:PUBLIC
DTSTART:20150314T140000Z
DTSTAMP:20150401T225000Z
END:VEVENT
BEGIN:VEVENT
UID:301518-2da69939ed67427dc6bf3daba21059e9
X-WR-RELCALID:301518-2da69939ed67427dc6bf3daba21059e9
ORGANIZER:Volleyball
SEQUENCE:261102331
LOCATION:Sporthalle Lenglern, Brandenburger Str. 13, 37120 Bovenden-Le
 nglern
GEO:51.58697000000000000000;9.87543000000000000000
SUMMARY:BL 12 Mä.: SG Lenglern - TSV Nesselröden
CLASS:PUBLIC
DTSTART:20150314T140000Z
DTSTAMP:20150401T225000Z
END:VEVENT
BEGIN:VEVENT
UID:301519-2da69939ed67427dc6bf3daba21059e9
X-WR-RELCALID:301519-2da69939ed67427dc6bf3daba21059e9
ORGANIZER:Volleyball
SEQUENCE:261102331
LOCATION:Turnhalle Pöhlde, Potsdamer Str. 32, 37412 Pöhlde
GEO:51.61319000000000000000;10.31733000000000000000
SUMMARY:BL 12 Mä.: 1. VC Pöhlde - ASC 46 Göttingen III
CLASS:PUBLIC
DTSTART:20150321T140000Z
DTSTAMP:20150401T225000Z
END:VEVENT
BEGIN:VEVENT
UID:301520-2da69939ed67427dc6bf3daba21059e9
X-WR-RELCALID:301520-2da69939ed67427dc6bf3daba21059e9
ORGANIZER:Volleyball
SEQUENCE:261102331
LOCATION:Turnhalle Pöhlde, Potsdamer Str. 32, 37412 Pöhlde
GEO:51.61319000000000000000;10.31733000000000000000
SUMMARY:BL 12 Mä.: 1. VC Pöhlde - SG Lenglern
CLASS:PUBLIC
DTSTART:20150321T140000Z
DTSTAMP:20150401T225000Z
END:VEVENT
BEGIN:VEVENT
UID:301521-2da69939ed67427dc6bf3daba21059e9
X-WR-RELCALID:301521-2da69939ed67427dc6bf3daba21059e9
ORGANIZER:Volleyball
SEQUENCE:261102331
LOCATION:Max-Planck-Gymnasium, Bühlstraße, 37073 Göttingen
GEO:51.53721800000000000000;9.94201180000000000000
SUMMARY:BL 12 Mä.: ASC 46 Göttingen IV - MTV 05 Hedemünden
CLASS:PUBLIC
DTSTART:20150321T140000Z
DTSTAMP:20150401T225000Z
END:VEVENT
BEGIN:VEVENT
UID:301522-2da69939ed67427dc6bf3daba21059e9
X-WR-RELCALID:301522-2da69939ed67427dc6bf3daba21059e9
ORGANIZER:Volleyball
SEQUENCE:261102331
LOCATION:Max-Planck-Gymnasium, Bühlstraße, 37073 Göttingen
GEO:51.53721800000000000000;9.94201180000000000000
SUMMARY:BL 12 Mä.: ASC 46 Göttingen IV - TSV Nesselröden
CLASS:PUBLIC
DTSTART:20150321T140000Z
DTSTAMP:20150401T225000Z
END:VEVENT
END:VCALENDAR