BEGIN:VCALENDAR
VERSION:2.0
PRODID:VSD-Portal-www.volley.de
METHOD:PUBLISH
BEGIN:VEVENT
UID:301329-2da69939ed67427dc6bf3daba21059e9
X-WR-RELCALID:301329-2da69939ed67427dc6bf3daba21059e9
ORGANIZER:Volleyball
SEQUENCE:261122240
LOCATION:Bereitschaftspolizei Hannover, Tannenbergallee 11, 30163 Hann
 over
GEO:52.40125610000000000000;9.74827280000000000000
SUMMARY:BL 10 Mä.: PSV Hannover II - TSV Bodenstedt
CLASS:PUBLIC
DTSTART:20141018T130000Z
DTSTAMP:20150331T143000Z
END:VEVENT
BEGIN:VEVENT
UID:301330-2da69939ed67427dc6bf3daba21059e9
X-WR-RELCALID:301330-2da69939ed67427dc6bf3daba21059e9
ORGANIZER:Volleyball
SEQUENCE:261122240
LOCATION:Bereitschaftspolizei Hannover, Tannenbergallee 11, 30163 Hann
 over
GEO:52.40125610000000000000;9.74827280000000000000
SUMMARY:BL 10 Mä.: PSV Hannover II - TuS Altwarmbüchen II
CLASS:PUBLIC
DTSTART:20141018T130000Z
DTSTAMP:20150331T143000Z
END:VEVENT
BEGIN:VEVENT
UID:301353-2da69939ed67427dc6bf3daba21059e9
X-WR-RELCALID:301353-2da69939ed67427dc6bf3daba21059e9
ORGANIZER:Volleyball
SEQUENCE:261122240
LOCATION:Bereitschaftspolizei Hannover, Tannenbergallee 11, 30163 Hann
 over
GEO:52.40125610000000000000;9.74827280000000000000
SUMMARY:BL 10 Mä.: PSV Hannover II - SG STV/MTV Salzgitter III
CLASS:PUBLIC
DTSTART:20141213T140000Z
DTSTAMP:20150331T143000Z
END:VEVENT
BEGIN:VEVENT
UID:301354-2da69939ed67427dc6bf3daba21059e9
X-WR-RELCALID:301354-2da69939ed67427dc6bf3daba21059e9
ORGANIZER:Volleyball
SEQUENCE:261122240
LOCATION:Bereitschaftspolizei Hannover, Tannenbergallee 11, 30163 Hann
 over
GEO:52.40125610000000000000;9.74827280000000000000
SUMMARY:BL 10 Mä.: PSV Hannover II - TSV Burgdorf II
CLASS:PUBLIC
DTSTART:20141213T140000Z
DTSTAMP:20150331T143000Z
END:VEVENT
BEGIN:VEVENT
UID:301383-2da69939ed67427dc6bf3daba21059e9
X-WR-RELCALID:301383-2da69939ed67427dc6bf3daba21059e9
ORGANIZER:Volleyball
SEQUENCE:261122240
LOCATION:Bereitschaftspolizei Hannover, Tannenbergallee 11, 30163 Hann
 over
GEO:52.40125610000000000000;9.74827280000000000000
SUMMARY:BL 10 Mä.: PSV Hannover II - MTV Stederdorf
CLASS:PUBLIC
DTSTART:20150314T140100Z
DTSTAMP:20150331T143000Z
END:VEVENT
BEGIN:VEVENT
UID:301367-2da69939ed67427dc6bf3daba21059e9
X-WR-RELCALID:301367-2da69939ed67427dc6bf3daba21059e9
ORGANIZER:Volleyball
SEQUENCE:261122240
LOCATION:Bereitschaftspolizei Hannover, Tannenbergallee 11, 30163 Hann
 over
GEO:52.40125610000000000000;9.74827280000000000000
SUMMARY:BL 10 Mä.: PSV Hannover II - TSV Arminia Vöhrum
CLASS:PUBLIC
DTSTART:20150314T160000Z
DTSTAMP:20150331T143000Z
END:VEVENT
END:VCALENDAR