BEGIN:VCALENDAR
VERSION:2.0
PRODID:VSD-Portal-www.volley.de
METHOD:PUBLISH
BEGIN:VEVENT
UID:299557-2da69939ed67427dc6bf3daba21059e9
X-WR-RELCALID:299557-2da69939ed67427dc6bf3daba21059e9
ORGANIZER:Volleyball
SEQUENCE:261092332
LOCATION:Sporthalle Weende, James-Franck-Ring, 37077 Göttingen
GEO:51.57180250000000000000;9.93104630000000000000
SUMMARY:VL 3 Mä.: Tuspo Weende - Grün-Weiß Vallstedt
CLASS:PUBLIC
DTSTART:20141011T120000Z
DTSTAMP:20150331T140000Z
END:VEVENT
BEGIN:VEVENT
UID:299562-2da69939ed67427dc6bf3daba21059e9
X-WR-RELCALID:299562-2da69939ed67427dc6bf3daba21059e9
ORGANIZER:Volleyball
SEQUENCE:261092332
LOCATION:Sporthalle II an der Berliner Straße 47, Berliner Straße, 381
 59 Vechelde
GEO:52.25858990000000000000;10.36920500000000000000
SUMMARY:VL 3 Mä.: Grün-Weiß Vallstedt - SC Langenhagen
CLASS:PUBLIC
DTSTART:20141018T130000Z
DTSTAMP:20150331T140000Z
END:VEVENT
BEGIN:VEVENT
UID:299563-2da69939ed67427dc6bf3daba21059e9
X-WR-RELCALID:299563-2da69939ed67427dc6bf3daba21059e9
ORGANIZER:Volleyball
SEQUENCE:261092332
LOCATION:Sporthalle II an der Berliner Straße 47, Berliner Straße, 381
 59 Vechelde
GEO:52.25858990000000000000;10.36920500000000000000
SUMMARY:VL 3 Mä.: Grün-Weiß Vallstedt - VfL Wolfsburg
CLASS:PUBLIC
DTSTART:20141018T130000Z
DTSTAMP:20150331T140000Z
END:VEVENT
BEGIN:VEVENT
UID:299568-2da69939ed67427dc6bf3daba21059e9
X-WR-RELCALID:299568-2da69939ed67427dc6bf3daba21059e9
ORGANIZER:Volleyball
SEQUENCE:261092332
LOCATION:Gymnasium im Schloss, Am Seeligerpark 1, 38304 Wolfenbüttel
GEO:52.16164880000000000000;10.52779300000000000000
SUMMARY:VL 3 Mä.: Wolfenbütteler VC - Grün-Weiß Vallstedt
CLASS:PUBLIC
DTSTART:20141025T120000Z
DTSTAMP:20150331T140000Z
END:VEVENT
BEGIN:VEVENT
UID:299572-2da69939ed67427dc6bf3daba21059e9
X-WR-RELCALID:299572-2da69939ed67427dc6bf3daba21059e9
ORGANIZER:Volleyball
SEQUENCE:261092332
LOCATION:TU-Sporthalle, Beethovenstr. 16, 38106 Braunschweig
GEO:52.27931200000000000000;10.54437500000000000000
SUMMARY:VL 3 Mä.: USC Braunschweig IV - Grün-Weiß Vallstedt
CLASS:PUBLIC
DTSTART:20141108T130000Z
DTSTAMP:20150331T140000Z
END:VEVENT
BEGIN:VEVENT
UID:299574-2da69939ed67427dc6bf3daba21059e9
X-WR-RELCALID:299574-2da69939ed67427dc6bf3daba21059e9
ORGANIZER:Volleyball
SEQUENCE:261092332
LOCATION:Sporthalle II an der Berliner Straße 47, Berliner Straße, 381
 59 Vechelde
GEO:52.25858990000000000000;10.36920500000000000000
SUMMARY:VL 3 Mä.: Grün-Weiß Vallstedt - TSV Giesen III
CLASS:PUBLIC
DTSTART:20141115T140000Z
DTSTAMP:20150331T140000Z
END:VEVENT
BEGIN:VEVENT
UID:299575-2da69939ed67427dc6bf3daba21059e9
X-WR-RELCALID:299575-2da69939ed67427dc6bf3daba21059e9
ORGANIZER:Volleyball
SEQUENCE:261092332
LOCATION:Sporthalle II an der Berliner Straße 47, Berliner Straße, 381
 59 Vechelde
GEO:52.25858990000000000000;10.36920500000000000000
SUMMARY:VL 3 Mä.: Grün-Weiß Vallstedt - VSG Hannover II
CLASS:PUBLIC
DTSTART:20141115T140000Z
DTSTAMP:20150331T140000Z
END:VEVENT
BEGIN:VEVENT
UID:299586-2da69939ed67427dc6bf3daba21059e9
X-WR-RELCALID:299586-2da69939ed67427dc6bf3daba21059e9
ORGANIZER:Volleyball
SEQUENCE:261092332
LOCATION:Wilhelm-Bracke-GS (IGS), Alsterplatz 1, 38120 Braunschweig
GEO:52.25147000000000000000;10.47803000000000000000
SUMMARY:VL 3 Mä.: FC Wenden - Grün-Weiß Vallstedt
CLASS:PUBLIC
DTSTART:20141129T140000Z
DTSTAMP:20150331T140000Z
END:VEVENT
BEGIN:VEVENT
UID:299592-2da69939ed67427dc6bf3daba21059e9
X-WR-RELCALID:299592-2da69939ed67427dc6bf3daba21059e9
ORGANIZER:Volleyball
SEQUENCE:261092332
LOCATION:Sporthalle Clauthal-Zellerfeld, Berliner Str. 12, 38678 Claus
 thal-Zellerfeld
GEO:51.81112000000000000000;10.33249000000000000000
SUMMARY:VL 3 Mä.: USC Clausthal-Zellerfeld - Grün-Weiß Vallstedt
CLASS:PUBLIC
DTSTART:20141206T140000Z
DTSTAMP:20150331T140000Z
END:VEVENT
BEGIN:VEVENT
UID:299599-2da69939ed67427dc6bf3daba21059e9
X-WR-RELCALID:299599-2da69939ed67427dc6bf3daba21059e9
ORGANIZER:Volleyball
SEQUENCE:261092332
LOCATION:Gymnasium im Schloss, Am Seeligerpark 1, 38304 Wolfenbüttel
GEO:52.16164880000000000000;10.52779300000000000000
SUMMARY:VL 3 Mä.: Wolfenbütteler VC - Grün-Weiß Vallstedt
CLASS:PUBLIC
DTSTART:20141221T100000Z
DTSTAMP:20150331T140000Z
END:VEVENT
BEGIN:VEVENT
UID:299604-2da69939ed67427dc6bf3daba21059e9
X-WR-RELCALID:299604-2da69939ed67427dc6bf3daba21059e9
ORGANIZER:Volleyball
SEQUENCE:261092332
LOCATION:Sporthalle II an der Berliner Straße 47, Berliner Straße, 381
 59 Vechelde
GEO:52.25858990000000000000;10.36920500000000000000
SUMMARY:VL 3 Mä.: Grün-Weiß Vallstedt - VfL Wolfsburg
CLASS:PUBLIC
DTSTART:20150110T140000Z
DTSTAMP:20150331T140000Z
END:VEVENT
BEGIN:VEVENT
UID:299605-2da69939ed67427dc6bf3daba21059e9
X-WR-RELCALID:299605-2da69939ed67427dc6bf3daba21059e9
ORGANIZER:Volleyball
SEQUENCE:261092332
LOCATION:Sporthalle II an der Berliner Straße 47, Berliner Straße, 381
 59 Vechelde
GEO:52.25858990000000000000;10.36920500000000000000
SUMMARY:VL 3 Mä.: Grün-Weiß Vallstedt - USC Braunschweig IV
CLASS:PUBLIC
DTSTART:20150110T140000Z
DTSTAMP:20150331T140000Z
END:VEVENT
BEGIN:VEVENT
UID:299613-2da69939ed67427dc6bf3daba21059e9
X-WR-RELCALID:299613-2da69939ed67427dc6bf3daba21059e9
ORGANIZER:Volleyball
SEQUENCE:261092332
LOCATION:Erich-Kästner-Schule (Halle 1), Marktstr. 33, 30880 Laatzen
GEO:52.30749000000000000000;9.81789000000000000000
SUMMARY:VL 3 Mä.: VSG Hannover II - Grün-Weiß Vallstedt
CLASS:PUBLIC
DTSTART:20150131T130000Z
DTSTAMP:20150331T140000Z
END:VEVENT
BEGIN:VEVENT
UID:299623-2da69939ed67427dc6bf3daba21059e9
X-WR-RELCALID:299623-2da69939ed67427dc6bf3daba21059e9
ORGANIZER:Volleyball
SEQUENCE:261092332
LOCATION:Schulzentrum Langenhagen, Konrad-Adenauer-Straße, 30853 Lange
 nhagen
GEO:52.44027720000000000000;9.74483090000000000000
SUMMARY:VL 3 Mä.: SC Langenhagen - Grün-Weiß Vallstedt
CLASS:PUBLIC
DTSTART:20150214T140000Z
DTSTAMP:20150331T140000Z
END:VEVENT
BEGIN:VEVENT
UID:299624-2da69939ed67427dc6bf3daba21059e9
X-WR-RELCALID:299624-2da69939ed67427dc6bf3daba21059e9
ORGANIZER:Volleyball
SEQUENCE:261092332
LOCATION:Sporthalle II an der Berliner Straße 47, Berliner Straße, 381
 59 Vechelde
GEO:52.25858990000000000000;10.36920500000000000000
SUMMARY:VL 3 Mä.: Grün-Weiß Vallstedt - USC Clausthal-Zellerfeld
CLASS:PUBLIC
DTSTART:20150221T140000Z
DTSTAMP:20150331T140000Z
END:VEVENT
BEGIN:VEVENT
UID:299625-2da69939ed67427dc6bf3daba21059e9
X-WR-RELCALID:299625-2da69939ed67427dc6bf3daba21059e9
ORGANIZER:Volleyball
SEQUENCE:261092332
LOCATION:Sporthalle II an der Berliner Straße 47, Berliner Straße, 381
 59 Vechelde
GEO:52.25858990000000000000;10.36920500000000000000
SUMMARY:VL 3 Mä.: Grün-Weiß Vallstedt - FC Wenden
CLASS:PUBLIC
DTSTART:20150221T140000Z
DTSTAMP:20150331T140000Z
END:VEVENT
BEGIN:VEVENT
UID:299635-2da69939ed67427dc6bf3daba21059e9
X-WR-RELCALID:299635-2da69939ed67427dc6bf3daba21059e9
ORGANIZER:Volleyball
SEQUENCE:261092332
LOCATION:Sporthalle Giesen, Emmerker Straße 6, 31180 Giesen
GEO:52.19292310000000000000;9.87982920000000000000
SUMMARY:VL 3 Mä.: TSV Giesen III - Grün-Weiß Vallstedt
CLASS:PUBLIC
DTSTART:20150308T090000Z
DTSTAMP:20150331T140000Z
END:VEVENT
BEGIN:VEVENT
UID:299638-2da69939ed67427dc6bf3daba21059e9
X-WR-RELCALID:299638-2da69939ed67427dc6bf3daba21059e9
ORGANIZER:Volleyball
SEQUENCE:261092332
LOCATION:Sporthalle Weende, James-Franck-Ring, 37077 Göttingen
GEO:51.57180250000000000000;9.93104630000000000000
SUMMARY:VL 3 Mä.: Tuspo Weende - Grün-Weiß Vallstedt
CLASS:PUBLIC
DTSTART:20150321T130000Z
DTSTAMP:20150331T140000Z
END:VEVENT
END:VCALENDAR