BEGIN:VCALENDAR
VERSION:2.0
PRODID:VSD-Portal-www.volley.de
METHOD:PUBLISH
BEGIN:VEVENT
UID:299183-2da69939ed67427dc6bf3daba21059e9
X-WR-RELCALID:299183-2da69939ed67427dc6bf3daba21059e9
ORGANIZER:Volleyball
SEQUENCE:261140321
LOCATION:Uhlandhalle, Uhlandstr. 2, 27753 Delmenhorst
GEO:53.05817000000000000000;8.61867000000000000000
SUMMARY:VL 2 Fr.: VG Delmenhorst-Stenum - Buxtehuder SV
CLASS:PUBLIC
DTSTART:20141115T140000Z
DTSTAMP:20150331T140000Z
END:VEVENT
BEGIN:VEVENT
UID:299184-2da69939ed67427dc6bf3daba21059e9
X-WR-RELCALID:299184-2da69939ed67427dc6bf3daba21059e9
ORGANIZER:Volleyball
SEQUENCE:261140321
LOCATION:Uhlandhalle, Uhlandstr. 2, 27753 Delmenhorst
GEO:53.05817000000000000000;8.61867000000000000000
SUMMARY:VL 2 Fr.: VG Delmenhorst-Stenum - TV Vahrendorf
CLASS:PUBLIC
DTSTART:20141115T140000Z
DTSTAMP:20150331T140000Z
END:VEVENT
BEGIN:VEVENT
UID:299195-2da69939ed67427dc6bf3daba21059e9
X-WR-RELCALID:299195-2da69939ed67427dc6bf3daba21059e9
ORGANIZER:Volleyball
SEQUENCE:261140321
LOCATION:Blücherweghalle, Blücherweg, 27755 Delmenhorst
GEO:53.02598640000000000000;8.62489560000000000000
SUMMARY:VL 2 Fr.: VG Delmenhorst-Stenum - VfL Wildeshausen
CLASS:PUBLIC
DTSTART:20141206T140000Z
DTSTAMP:20150331T140000Z
END:VEVENT
BEGIN:VEVENT
UID:299196-2da69939ed67427dc6bf3daba21059e9
X-WR-RELCALID:299196-2da69939ed67427dc6bf3daba21059e9
ORGANIZER:Volleyball
SEQUENCE:261140321
LOCATION:Blücherweghalle, Blücherweg, 27755 Delmenhorst
GEO:53.02598640000000000000;8.62489560000000000000
SUMMARY:VL 2 Fr.: VG Delmenhorst-Stenum - SV Arminia Rechterfeld
CLASS:PUBLIC
DTSTART:20141206T140000Z
DTSTAMP:20150331T140000Z
END:VEVENT
BEGIN:VEVENT
UID:299213-2da69939ed67427dc6bf3daba21059e9
X-WR-RELCALID:299213-2da69939ed67427dc6bf3daba21059e9
ORGANIZER:Volleyball
SEQUENCE:261140321
LOCATION:Blücherweghalle, Blücherweg, 27755 Delmenhorst
GEO:53.02598640000000000000;8.62489560000000000000
SUMMARY:VL 2 Fr.: VG Delmenhorst-Stenum - TSV Bremervörde
CLASS:PUBLIC
DTSTART:20150124T140000Z
DTSTAMP:20150331T140000Z
END:VEVENT
BEGIN:VEVENT
UID:299214-2da69939ed67427dc6bf3daba21059e9
X-WR-RELCALID:299214-2da69939ed67427dc6bf3daba21059e9
ORGANIZER:Volleyball
SEQUENCE:261140321
LOCATION:Blücherweghalle, Blücherweg, 27755 Delmenhorst
GEO:53.02598640000000000000;8.62489560000000000000
SUMMARY:VL 2 Fr.: VG Delmenhorst-Stenum - TV Bremen-Walle 1875
CLASS:PUBLIC
DTSTART:20150124T140000Z
DTSTAMP:20150331T140000Z
END:VEVENT
BEGIN:VEVENT
UID:299237-2da69939ed67427dc6bf3daba21059e9
X-WR-RELCALID:299237-2da69939ed67427dc6bf3daba21059e9
ORGANIZER:Volleyball
SEQUENCE:261140321
LOCATION:Blücherweghalle, Blücherweg, 27755 Delmenhorst
GEO:53.02598640000000000000;8.62489560000000000000
SUMMARY:VL 2 Fr.: VG Delmenhorst-Stenum - BC Cuxhaven
CLASS:PUBLIC
DTSTART:20150321T140000Z
DTSTAMP:20150331T140000Z
END:VEVENT
BEGIN:VEVENT
UID:299238-2da69939ed67427dc6bf3daba21059e9
X-WR-RELCALID:299238-2da69939ed67427dc6bf3daba21059e9
ORGANIZER:Volleyball
SEQUENCE:261140321
LOCATION:Blücherweghalle, Blücherweg, 27755 Delmenhorst
GEO:53.02598640000000000000;8.62489560000000000000
SUMMARY:VL 2 Fr.: VG Delmenhorst-Stenum - BTS Neustadt II
CLASS:PUBLIC
DTSTART:20150321T140000Z
DTSTAMP:20150331T140000Z
END:VEVENT
END:VCALENDAR