BEGIN:VCALENDAR
VERSION:2.0
PRODID:VSD-Portal-www.volley.de
METHOD:PUBLISH
BEGIN:VEVENT
UID:298870-2da69939ed67427dc6bf3daba21059e9
X-WR-RELCALID:298870-2da69939ed67427dc6bf3daba21059e9
ORGANIZER:Volleyball
SEQUENCE:261101623
LOCATION:TU-Sporthalle, Beethovenstr. 16, 38106 Braunschweig
GEO:52.27931200000000000000;10.54437500000000000000
SUMMARY:OL 2 Mä.: USC Braunschweig III - ASC 46 Göttingen II
CLASS:PUBLIC
DTSTART:20141004T120000Z
DTSTAMP:20150330T211500Z
END:VEVENT
BEGIN:VEVENT
UID:298871-2da69939ed67427dc6bf3daba21059e9
X-WR-RELCALID:298871-2da69939ed67427dc6bf3daba21059e9
ORGANIZER:Volleyball
SEQUENCE:261101623
LOCATION:TU-Sporthalle, Beethovenstr. 16, 38106 Braunschweig
GEO:52.27931200000000000000;10.54437500000000000000
SUMMARY:OL 2 Mä.: USC Braunschweig III - PSV Hannover
CLASS:PUBLIC
DTSTART:20141004T120000Z
DTSTAMP:20150330T211500Z
END:VEVENT
BEGIN:VEVENT
UID:298872-2da69939ed67427dc6bf3daba21059e9
X-WR-RELCALID:298872-2da69939ed67427dc6bf3daba21059e9
ORGANIZER:Volleyball
SEQUENCE:261101623
LOCATION:Freie Waldorfschule (neue Halle), Rudolf-von-Bennigsen-Ufer 7
 0, 30173 Hannover
GEO:52.35146620000000000000;9.74888090000000000000
SUMMARY:OL 2 Mä.: GfL Hannover II - DJK Kolping Northeim
CLASS:PUBLIC
DTSTART:20141005T080000Z
DTSTAMP:20150330T211500Z
END:VEVENT
BEGIN:VEVENT
UID:298873-2da69939ed67427dc6bf3daba21059e9
X-WR-RELCALID:298873-2da69939ed67427dc6bf3daba21059e9
ORGANIZER:Volleyball
SEQUENCE:261101623
LOCATION:Freie Waldorfschule (neue Halle), Rudolf-von-Bennigsen-Ufer 7
 0, 30173 Hannover
GEO:52.35146620000000000000;9.74888090000000000000
SUMMARY:OL 2 Mä.: GfL Hannover II - MTV 48 Hildesheim
CLASS:PUBLIC
DTSTART:20141005T080000Z
DTSTAMP:20150330T211500Z
END:VEVENT
BEGIN:VEVENT
UID:298874-2da69939ed67427dc6bf3daba21059e9
X-WR-RELCALID:298874-2da69939ed67427dc6bf3daba21059e9
ORGANIZER:Volleyball
SEQUENCE:261101623
LOCATION:Nordertorschule, Rohrsener Straße, 31582 Nienburg
GEO:52.65120350000000000000;9.20814860000000000000
SUMMARY:OL 2 Mä.: VC Nienburg - VSG Düngen/Holle/Bodenburg
CLASS:PUBLIC
DTSTART:20141005T110000Z
DTSTAMP:20150330T211500Z
END:VEVENT
BEGIN:VEVENT
UID:298875-2da69939ed67427dc6bf3daba21059e9
X-WR-RELCALID:298875-2da69939ed67427dc6bf3daba21059e9
ORGANIZER:Volleyball
SEQUENCE:261101623
LOCATION:Nordertorschule, Rohrsener Straße, 31582 Nienburg
GEO:52.65120350000000000000;9.20814860000000000000
SUMMARY:OL 2 Mä.: VC Nienburg - MTV Gifhorn
CLASS:PUBLIC
DTSTART:20141005T110000Z
DTSTAMP:20150330T211500Z
END:VEVENT
BEGIN:VEVENT
UID:298876-2da69939ed67427dc6bf3daba21059e9
X-WR-RELCALID:298876-2da69939ed67427dc6bf3daba21059e9
ORGANIZER:Volleyball
SEQUENCE:261101623
LOCATION:BBS Northeim, Sudheimerstraße, 37154 Northeim
GEO:51.69105870000000000000;9.99626580000000000000
SUMMARY:OL 2 Mä.: DJK Kolping Northeim - VC Nienburg
CLASS:PUBLIC
DTSTART:20141011T140000Z
DTSTAMP:20150330T211500Z
END:VEVENT
BEGIN:VEVENT
UID:298877-2da69939ed67427dc6bf3daba21059e9
X-WR-RELCALID:298877-2da69939ed67427dc6bf3daba21059e9
ORGANIZER:Volleyball
SEQUENCE:261101623
LOCATION:BBS Northeim, Sudheimerstraße, 37154 Northeim
GEO:51.69105870000000000000;9.99626580000000000000
SUMMARY:OL 2 Mä.: DJK Kolping Northeim - ASC 46 Göttingen II
CLASS:PUBLIC
DTSTART:20141011T140000Z
DTSTAMP:20150330T211500Z
END:VEVENT
BEGIN:VEVENT
UID:298878-2da69939ed67427dc6bf3daba21059e9
X-WR-RELCALID:298878-2da69939ed67427dc6bf3daba21059e9
ORGANIZER:Volleyball
SEQUENCE:261101623
LOCATION:Bereitschaftspolizei Hannover, Tannenbergallee 11, 30163 Hann
 over
GEO:52.40125610000000000000;9.74827280000000000000
SUMMARY:OL 2 Mä.: PSV Hannover - GfL Hannover II
CLASS:PUBLIC
DTSTART:20141018T130000Z
DTSTAMP:20150330T211500Z
END:VEVENT
BEGIN:VEVENT
UID:298879-2da69939ed67427dc6bf3daba21059e9
X-WR-RELCALID:298879-2da69939ed67427dc6bf3daba21059e9
ORGANIZER:Volleyball
SEQUENCE:261101623
LOCATION:Bereitschaftspolizei Hannover, Tannenbergallee 11, 30163 Hann
 over
GEO:52.40125610000000000000;9.74827280000000000000
SUMMARY:OL 2 Mä.: PSV Hannover - VSG Düngen/Holle/Bodenburg
CLASS:PUBLIC
DTSTART:20141018T130000Z
DTSTAMP:20150330T211500Z
END:VEVENT
BEGIN:VEVENT
UID:298880-2da69939ed67427dc6bf3daba21059e9
X-WR-RELCALID:298880-2da69939ed67427dc6bf3daba21059e9
ORGANIZER:Volleyball
SEQUENCE:261101623
LOCATION:Sporthalle Flutmulde, Winkeler Straße 2, 38518 Gifhorn
GEO:52.48040000000000000000;10.53702000000000000000
SUMMARY:OL 2 Mä.: MTV Gifhorn - MTV 48 Hildesheim
CLASS:PUBLIC
DTSTART:20141026T110000Z
DTSTAMP:20150330T211500Z
END:VEVENT
BEGIN:VEVENT
UID:298881-2da69939ed67427dc6bf3daba21059e9
X-WR-RELCALID:298881-2da69939ed67427dc6bf3daba21059e9
ORGANIZER:Volleyball
SEQUENCE:261101623
LOCATION:Sporthalle Flutmulde, Winkeler Straße 2, 38518 Gifhorn
GEO:52.48040000000000000000;10.53702000000000000000
SUMMARY:OL 2 Mä.: MTV Gifhorn - USC Braunschweig III
CLASS:PUBLIC
DTSTART:20141026T110000Z
DTSTAMP:20150330T211500Z
END:VEVENT
BEGIN:VEVENT
UID:298882-2da69939ed67427dc6bf3daba21059e9
X-WR-RELCALID:298882-2da69939ed67427dc6bf3daba21059e9
ORGANIZER:Volleyball
SEQUENCE:261101623
LOCATION:Max-Planck-Gymnasium, Bühlstraße, 37073 Göttingen
GEO:51.53721800000000000000;9.94201180000000000000
SUMMARY:OL 2 Mä.: ASC 46 Göttingen II - MTV Gifhorn
CLASS:PUBLIC
DTSTART:20141115T140000Z
DTSTAMP:20150330T211500Z
END:VEVENT
BEGIN:VEVENT
UID:298883-2da69939ed67427dc6bf3daba21059e9
X-WR-RELCALID:298883-2da69939ed67427dc6bf3daba21059e9
ORGANIZER:Volleyball
SEQUENCE:261101623
LOCATION:Max-Planck-Gymnasium, Bühlstraße, 37073 Göttingen
GEO:51.53721800000000000000;9.94201180000000000000
SUMMARY:OL 2 Mä.: ASC 46 Göttingen II - GfL Hannover II
CLASS:PUBLIC
DTSTART:20141115T140000Z
DTSTAMP:20150330T211500Z
END:VEVENT
BEGIN:VEVENT
UID:298884-2da69939ed67427dc6bf3daba21059e9
X-WR-RELCALID:298884-2da69939ed67427dc6bf3daba21059e9
ORGANIZER:Volleyball
SEQUENCE:261101623
LOCATION:Robert-Bosch-Gesamtschule, Richthofenstraße, 31137 Hildesheim
 
GEO:52.16669720000000000000;9.94625030000000000000
SUMMARY:OL 2 Mä.: MTV 48 Hildesheim - PSV Hannover
CLASS:PUBLIC
DTSTART:20141115T140000Z
DTSTAMP:20150330T211500Z
END:VEVENT
BEGIN:VEVENT
UID:298885-2da69939ed67427dc6bf3daba21059e9
X-WR-RELCALID:298885-2da69939ed67427dc6bf3daba21059e9
ORGANIZER:Volleyball
SEQUENCE:261101623
LOCATION:Robert-Bosch-Gesamtschule, Richthofenstraße, 31137 Hildesheim
 
GEO:52.16669720000000000000;9.94625030000000000000
SUMMARY:OL 2 Mä.: MTV 48 Hildesheim - VC Nienburg
CLASS:PUBLIC
DTSTART:20141115T140000Z
DTSTAMP:20150330T211500Z
END:VEVENT
BEGIN:VEVENT
UID:298888-2da69939ed67427dc6bf3daba21059e9
X-WR-RELCALID:298888-2da69939ed67427dc6bf3daba21059e9
ORGANIZER:Volleyball
SEQUENCE:261101623
LOCATION:Nordertorschule, Rohrsener Straße, 31582 Nienburg
GEO:52.65120350000000000000;9.20814860000000000000
SUMMARY:OL 2 Mä.: VC Nienburg - ASC 46 Göttingen II
CLASS:PUBLIC
DTSTART:20141122T140000Z
DTSTAMP:20150330T211500Z
END:VEVENT
BEGIN:VEVENT
UID:298889-2da69939ed67427dc6bf3daba21059e9
X-WR-RELCALID:298889-2da69939ed67427dc6bf3daba21059e9
ORGANIZER:Volleyball
SEQUENCE:261101623
LOCATION:Nordertorschule, Rohrsener Straße, 31582 Nienburg
GEO:52.65120350000000000000;9.20814860000000000000
SUMMARY:OL 2 Mä.: VC Nienburg - USC Braunschweig III
CLASS:PUBLIC
DTSTART:20141122T140000Z
DTSTAMP:20150330T211500Z
END:VEVENT
BEGIN:VEVENT
UID:298890-2da69939ed67427dc6bf3daba21059e9
X-WR-RELCALID:298890-2da69939ed67427dc6bf3daba21059e9
ORGANIZER:Volleyball
SEQUENCE:261101623
LOCATION:Sporthalle Flutmulde, Winkeler Straße 2, 38518 Gifhorn
GEO:52.48040000000000000000;10.53702000000000000000
SUMMARY:OL 2 Mä.: MTV Gifhorn - GfL Hannover II
CLASS:PUBLIC
DTSTART:20141122T150000Z
DTSTAMP:20150330T211500Z
END:VEVENT
BEGIN:VEVENT
UID:298891-2da69939ed67427dc6bf3daba21059e9
X-WR-RELCALID:298891-2da69939ed67427dc6bf3daba21059e9
ORGANIZER:Volleyball
SEQUENCE:261101623
LOCATION:Sporthalle Flutmulde, Winkeler Straße 2, 38518 Gifhorn
GEO:52.48040000000000000000;10.53702000000000000000
SUMMARY:OL 2 Mä.: MTV Gifhorn - PSV Hannover
CLASS:PUBLIC
DTSTART:20141122T150000Z
DTSTAMP:20150330T211500Z
END:VEVENT
BEGIN:VEVENT
UID:298892-2da69939ed67427dc6bf3daba21059e9
X-WR-RELCALID:298892-2da69939ed67427dc6bf3daba21059e9
ORGANIZER:Volleyball
SEQUENCE:261101623
LOCATION:Robert-Bosch-Gesamtschule, Richthofenstraße, 31137 Hildesheim
 
GEO:52.16669720000000000000;9.94625030000000000000
SUMMARY:OL 2 Mä.: MTV 48 Hildesheim - DJK Kolping Northeim
CLASS:PUBLIC
DTSTART:20141130T110000Z
DTSTAMP:20150330T211500Z
END:VEVENT
BEGIN:VEVENT
UID:298893-2da69939ed67427dc6bf3daba21059e9
X-WR-RELCALID:298893-2da69939ed67427dc6bf3daba21059e9
ORGANIZER:Volleyball
SEQUENCE:261101623
LOCATION:Robert-Bosch-Gesamtschule, Richthofenstraße, 31137 Hildesheim
 
GEO:52.16669720000000000000;9.94625030000000000000
SUMMARY:OL 2 Mä.: MTV 48 Hildesheim - VSG Düngen/Holle/Bodenburg
CLASS:PUBLIC
DTSTART:20141130T110000Z
DTSTAMP:20150330T211500Z
END:VEVENT
BEGIN:VEVENT
UID:298894-2da69939ed67427dc6bf3daba21059e9
X-WR-RELCALID:298894-2da69939ed67427dc6bf3daba21059e9
ORGANIZER:Volleyball
SEQUENCE:261101623
LOCATION:Max-Planck-Gymnasium, Bühlstraße, 37073 Göttingen
GEO:51.53721800000000000000;9.94201180000000000000
SUMMARY:OL 2 Mä.: ASC 46 Göttingen II - PSV Hannover
CLASS:PUBLIC
DTSTART:20141206T140000Z
DTSTAMP:20150330T211500Z
END:VEVENT
BEGIN:VEVENT
UID:298895-2da69939ed67427dc6bf3daba21059e9
X-WR-RELCALID:298895-2da69939ed67427dc6bf3daba21059e9
ORGANIZER:Volleyball
SEQUENCE:261101623
LOCATION:Max-Planck-Gymnasium, Bühlstraße, 37073 Göttingen
GEO:51.53721800000000000000;9.94201180000000000000
SUMMARY:OL 2 Mä.: ASC 46 Göttingen II - MTV 48 Hildesheim
CLASS:PUBLIC
DTSTART:20141206T140000Z
DTSTAMP:20150330T211500Z
END:VEVENT
BEGIN:VEVENT
UID:298896-2da69939ed67427dc6bf3daba21059e9
X-WR-RELCALID:298896-2da69939ed67427dc6bf3daba21059e9
ORGANIZER:Volleyball
SEQUENCE:261101623
LOCATION:Sporthalle Corvinianum I, Wieterstraße, 37154 Northeim
GEO:51.70345080000000000000;10.00151200000000000000
SUMMARY:OL 2 Mä.: DJK Kolping Northeim - USC Braunschweig III
CLASS:PUBLIC
DTSTART:20141206T150000Z
DTSTAMP:20150330T211500Z
END:VEVENT
BEGIN:VEVENT
UID:298897-2da69939ed67427dc6bf3daba21059e9
X-WR-RELCALID:298897-2da69939ed67427dc6bf3daba21059e9
ORGANIZER:Volleyball
SEQUENCE:261101623
LOCATION:Sporthalle Corvinianum I, Wieterstraße, 37154 Northeim
GEO:51.70345080000000000000;10.00151200000000000000
SUMMARY:OL 2 Mä.: DJK Kolping Northeim - MTV Gifhorn
CLASS:PUBLIC
DTSTART:20141206T150000Z
DTSTAMP:20150330T211500Z
END:VEVENT
BEGIN:VEVENT
UID:298898-2da69939ed67427dc6bf3daba21059e9
X-WR-RELCALID:298898-2da69939ed67427dc6bf3daba21059e9
ORGANIZER:Volleyball
SEQUENCE:261101623
LOCATION:Freie Waldorfschule (neue Halle), Rudolf-von-Bennigsen-Ufer 7
 0, 30173 Hannover
GEO:52.35146620000000000000;9.74888090000000000000
SUMMARY:OL 2 Mä.: GfL Hannover II - VSG Düngen/Holle/Bodenburg
CLASS:PUBLIC
DTSTART:20141207T090000Z
DTSTAMP:20150330T211500Z
END:VEVENT
BEGIN:VEVENT
UID:298899-2da69939ed67427dc6bf3daba21059e9
X-WR-RELCALID:298899-2da69939ed67427dc6bf3daba21059e9
ORGANIZER:Volleyball
SEQUENCE:261101623
LOCATION:Freie Waldorfschule (neue Halle), Rudolf-von-Bennigsen-Ufer 7
 0, 30173 Hannover
GEO:52.35146620000000000000;9.74888090000000000000
SUMMARY:OL 2 Mä.: GfL Hannover II - VC Nienburg
CLASS:PUBLIC
DTSTART:20141207T090000Z
DTSTAMP:20150330T211500Z
END:VEVENT
BEGIN:VEVENT
UID:298900-2da69939ed67427dc6bf3daba21059e9
X-WR-RELCALID:298900-2da69939ed67427dc6bf3daba21059e9
ORGANIZER:Volleyball
SEQUENCE:261101623
LOCATION:TU-Sporthalle, Beethovenstr. 16, 38106 Braunschweig
GEO:52.27931200000000000000;10.54437500000000000000
SUMMARY:OL 2 Mä.: USC Braunschweig III - MTV 48 Hildesheim
CLASS:PUBLIC
DTSTART:20141213T140000Z
DTSTAMP:20150330T211500Z
END:VEVENT
BEGIN:VEVENT
UID:298901-2da69939ed67427dc6bf3daba21059e9
X-WR-RELCALID:298901-2da69939ed67427dc6bf3daba21059e9
ORGANIZER:Volleyball
SEQUENCE:261101623
LOCATION:TU-Sporthalle, Beethovenstr. 16, 38106 Braunschweig
GEO:52.27931200000000000000;10.54437500000000000000
SUMMARY:OL 2 Mä.: USC Braunschweig III - GfL Hannover II
CLASS:PUBLIC
DTSTART:20141213T140000Z
DTSTAMP:20150330T211500Z
END:VEVENT
BEGIN:VEVENT
UID:298904-2da69939ed67427dc6bf3daba21059e9
X-WR-RELCALID:298904-2da69939ed67427dc6bf3daba21059e9
ORGANIZER:Volleyball
SEQUENCE:261101623
LOCATION:Sporthalle am Moldberg, Am Moldberg 1, 31188 Holle
GEO:52.08865110000000000000;10.15868740000000000000
SUMMARY:OL 2 Mä.: VSG Düngen/Holle/Bodenburg - MTV Gifhorn
CLASS:PUBLIC
DTSTART:20141220T140000Z
DTSTAMP:20150330T211500Z
END:VEVENT
BEGIN:VEVENT
UID:298905-2da69939ed67427dc6bf3daba21059e9
X-WR-RELCALID:298905-2da69939ed67427dc6bf3daba21059e9
ORGANIZER:Volleyball
SEQUENCE:261101623
LOCATION:Sporthalle am Moldberg, Am Moldberg 1, 31188 Holle
GEO:52.08865110000000000000;10.15868740000000000000
SUMMARY:OL 2 Mä.: VSG Düngen/Holle/Bodenburg - ASC 46 Göttingen II
CLASS:PUBLIC
DTSTART:20141220T140000Z
DTSTAMP:20150330T211500Z
END:VEVENT
BEGIN:VEVENT
UID:298902-2da69939ed67427dc6bf3daba21059e9
X-WR-RELCALID:298902-2da69939ed67427dc6bf3daba21059e9
ORGANIZER:Volleyball
SEQUENCE:261101623
LOCATION:Bereitschaftspolizei Hannover, Tannenbergallee 11, 30163 Hann
 over
GEO:52.40125610000000000000;9.74827280000000000000
SUMMARY:OL 2 Mä.: PSV Hannover - VC Nienburg
CLASS:PUBLIC
DTSTART:20141220T140000Z
DTSTAMP:20150330T211500Z
END:VEVENT
BEGIN:VEVENT
UID:298903-2da69939ed67427dc6bf3daba21059e9
X-WR-RELCALID:298903-2da69939ed67427dc6bf3daba21059e9
ORGANIZER:Volleyball
SEQUENCE:261101623
LOCATION:Bereitschaftspolizei Hannover, Tannenbergallee 11, 30163 Hann
 over
GEO:52.40125610000000000000;9.74827280000000000000
SUMMARY:OL 2 Mä.: PSV Hannover - DJK Kolping Northeim
CLASS:PUBLIC
DTSTART:20141220T140000Z
DTSTAMP:20150330T211500Z
END:VEVENT
BEGIN:VEVENT
UID:298906-2da69939ed67427dc6bf3daba21059e9
X-WR-RELCALID:298906-2da69939ed67427dc6bf3daba21059e9
ORGANIZER:Volleyball
SEQUENCE:261101623
LOCATION:Sporthalle Corvinianum I, Wieterstraße, 37154 Northeim
GEO:51.70345080000000000000;10.00151200000000000000
SUMMARY:OL 2 Mä.: DJK Kolping Northeim - PSV Hannover
CLASS:PUBLIC
DTSTART:20150111T090000Z
DTSTAMP:20150330T211500Z
END:VEVENT
BEGIN:VEVENT
UID:298907-2da69939ed67427dc6bf3daba21059e9
X-WR-RELCALID:298907-2da69939ed67427dc6bf3daba21059e9
ORGANIZER:Volleyball
SEQUENCE:261101623
LOCATION:Sporthalle Corvinianum I, Wieterstraße, 37154 Northeim
GEO:51.70345080000000000000;10.00151200000000000000
SUMMARY:OL 2 Mä.: DJK Kolping Northeim - GfL Hannover II
CLASS:PUBLIC
DTSTART:20150111T090000Z
DTSTAMP:20150330T211500Z
END:VEVENT
BEGIN:VEVENT
UID:298908-2da69939ed67427dc6bf3daba21059e9
X-WR-RELCALID:298908-2da69939ed67427dc6bf3daba21059e9
ORGANIZER:Volleyball
SEQUENCE:261101623
LOCATION:Max-Planck-Gymnasium, Bühlstraße, 37073 Göttingen
GEO:51.53721800000000000000;9.94201180000000000000
SUMMARY:OL 2 Mä.: ASC 46 Göttingen II - VC Nienburg
CLASS:PUBLIC
DTSTART:20150117T140000Z
DTSTAMP:20150330T211500Z
END:VEVENT
BEGIN:VEVENT
UID:298909-2da69939ed67427dc6bf3daba21059e9
X-WR-RELCALID:298909-2da69939ed67427dc6bf3daba21059e9
ORGANIZER:Volleyball
SEQUENCE:261101623
LOCATION:Max-Planck-Gymnasium, Bühlstraße, 37073 Göttingen
GEO:51.53721800000000000000;9.94201180000000000000
SUMMARY:OL 2 Mä.: ASC 46 Göttingen II - VSG Düngen/Holle/Bodenburg
CLASS:PUBLIC
DTSTART:20150117T140000Z
DTSTAMP:20150330T211500Z
END:VEVENT
BEGIN:VEVENT
UID:298910-2da69939ed67427dc6bf3daba21059e9
X-WR-RELCALID:298910-2da69939ed67427dc6bf3daba21059e9
ORGANIZER:Volleyball
SEQUENCE:261101623
LOCATION:TU-Sporthalle, Beethovenstr. 16, 38106 Braunschweig
GEO:52.27931200000000000000;10.54437500000000000000
SUMMARY:OL 2 Mä.: USC Braunschweig III - VC Nienburg
CLASS:PUBLIC
DTSTART:20150124T130000Z
DTSTAMP:20150330T211500Z
END:VEVENT
BEGIN:VEVENT
UID:298911-2da69939ed67427dc6bf3daba21059e9
X-WR-RELCALID:298911-2da69939ed67427dc6bf3daba21059e9
ORGANIZER:Volleyball
SEQUENCE:261101623
LOCATION:TU-Sporthalle, Beethovenstr. 16, 38106 Braunschweig
GEO:52.27931200000000000000;10.54437500000000000000
SUMMARY:OL 2 Mä.: USC Braunschweig III - DJK Kolping Northeim
CLASS:PUBLIC
DTSTART:20150124T130000Z
DTSTAMP:20150330T211500Z
END:VEVENT
BEGIN:VEVENT
UID:298912-2da69939ed67427dc6bf3daba21059e9
X-WR-RELCALID:298912-2da69939ed67427dc6bf3daba21059e9
ORGANIZER:Volleyball
SEQUENCE:261101623
LOCATION:Lutherschule, An der Lutherkirche 18, 30167 Hannover
GEO:52.38695500000000000000;9.72255700000000000000
SUMMARY:OL 2 Mä.: GfL Hannover II - MTV Gifhorn
CLASS:PUBLIC
DTSTART:20150124T130000Z
DTSTAMP:20150330T211500Z
END:VEVENT
BEGIN:VEVENT
UID:298913-2da69939ed67427dc6bf3daba21059e9
X-WR-RELCALID:298913-2da69939ed67427dc6bf3daba21059e9
ORGANIZER:Volleyball
SEQUENCE:261101623
LOCATION:Lutherschule, An der Lutherkirche 18, 30167 Hannover
GEO:52.38695500000000000000;9.72255700000000000000
SUMMARY:OL 2 Mä.: GfL Hannover II - ASC 46 Göttingen II
CLASS:PUBLIC
DTSTART:20150124T130000Z
DTSTAMP:20150330T211500Z
END:VEVENT
BEGIN:VEVENT
UID:298914-2da69939ed67427dc6bf3daba21059e9
X-WR-RELCALID:298914-2da69939ed67427dc6bf3daba21059e9
ORGANIZER:Volleyball
SEQUENCE:261101623
LOCATION:Sporthalle am Moldberg, Am Moldberg 1, 31188 Holle
GEO:52.08865110000000000000;10.15868740000000000000
SUMMARY:OL 2 Mä.: VSG Düngen/Holle/Bodenburg - PSV Hannover
CLASS:PUBLIC
DTSTART:20150124T140000Z
DTSTAMP:20150330T211500Z
END:VEVENT
BEGIN:VEVENT
UID:298915-2da69939ed67427dc6bf3daba21059e9
X-WR-RELCALID:298915-2da69939ed67427dc6bf3daba21059e9
ORGANIZER:Volleyball
SEQUENCE:261101623
LOCATION:Sporthalle am Moldberg, Am Moldberg 1, 31188 Holle
GEO:52.08865110000000000000;10.15868740000000000000
SUMMARY:OL 2 Mä.: VSG Düngen/Holle/Bodenburg - MTV 48 Hildesheim
CLASS:PUBLIC
DTSTART:20150124T140000Z
DTSTAMP:20150330T211500Z
END:VEVENT
BEGIN:VEVENT
UID:298916-2da69939ed67427dc6bf3daba21059e9
X-WR-RELCALID:298916-2da69939ed67427dc6bf3daba21059e9
ORGANIZER:Volleyball
SEQUENCE:261101623
LOCATION:Bereitschaftspolizei Hannover, Tannenbergallee 11, 30163 Hann
 over
GEO:52.40125610000000000000;9.74827280000000000000
SUMMARY:OL 2 Mä.: PSV Hannover - USC Braunschweig III
CLASS:PUBLIC
DTSTART:20150207T140000Z
DTSTAMP:20150330T211500Z
END:VEVENT
BEGIN:VEVENT
UID:298917-2da69939ed67427dc6bf3daba21059e9
X-WR-RELCALID:298917-2da69939ed67427dc6bf3daba21059e9
ORGANIZER:Volleyball
SEQUENCE:261101623
LOCATION:Bereitschaftspolizei Hannover, Tannenbergallee 11, 30163 Hann
 over
GEO:52.40125610000000000000;9.74827280000000000000
SUMMARY:OL 2 Mä.: PSV Hannover - ASC 46 Göttingen II
CLASS:PUBLIC
DTSTART:20150207T140000Z
DTSTAMP:20150330T211500Z
END:VEVENT
BEGIN:VEVENT
UID:298920-2da69939ed67427dc6bf3daba21059e9
X-WR-RELCALID:298920-2da69939ed67427dc6bf3daba21059e9
ORGANIZER:Volleyball
SEQUENCE:261101623
LOCATION:Sporthalle Flutmulde, Winkeler Straße 2, 38518 Gifhorn
GEO:52.48040000000000000000;10.53702000000000000000
SUMMARY:OL 2 Mä.: MTV Gifhorn - VSG Düngen/Holle/Bodenburg
CLASS:PUBLIC
DTSTART:20150208T110000Z
DTSTAMP:20150330T211500Z
END:VEVENT
BEGIN:VEVENT
UID:298921-2da69939ed67427dc6bf3daba21059e9
X-WR-RELCALID:298921-2da69939ed67427dc6bf3daba21059e9
ORGANIZER:Volleyball
SEQUENCE:261101623
LOCATION:Sporthalle Flutmulde, Winkeler Straße 2, 38518 Gifhorn
GEO:52.48040000000000000000;10.53702000000000000000
SUMMARY:OL 2 Mä.: MTV Gifhorn - DJK Kolping Northeim
CLASS:PUBLIC
DTSTART:20150208T110000Z
DTSTAMP:20150330T211500Z
END:VEVENT
BEGIN:VEVENT
UID:298918-2da69939ed67427dc6bf3daba21059e9
X-WR-RELCALID:298918-2da69939ed67427dc6bf3daba21059e9
ORGANIZER:Volleyball
SEQUENCE:261101623
LOCATION:Nordertorschule, Rohrsener Straße, 31582 Nienburg
GEO:52.65120350000000000000;9.20814860000000000000
SUMMARY:OL 2 Mä.: VC Nienburg - GfL Hannover II
CLASS:PUBLIC
DTSTART:20150215T110000Z
DTSTAMP:20150330T211500Z
END:VEVENT
BEGIN:VEVENT
UID:298919-2da69939ed67427dc6bf3daba21059e9
X-WR-RELCALID:298919-2da69939ed67427dc6bf3daba21059e9
ORGANIZER:Volleyball
SEQUENCE:261101623
LOCATION:Nordertorschule, Rohrsener Straße, 31582 Nienburg
GEO:52.65120350000000000000;9.20814860000000000000
SUMMARY:OL 2 Mä.: VC Nienburg - MTV 48 Hildesheim
CLASS:PUBLIC
DTSTART:20150215T110000Z
DTSTAMP:20150330T211500Z
END:VEVENT
BEGIN:VEVENT
UID:298922-2da69939ed67427dc6bf3daba21059e9
X-WR-RELCALID:298922-2da69939ed67427dc6bf3daba21059e9
ORGANIZER:Volleyball
SEQUENCE:261101623
LOCATION:Sporthalle Corvinianum I, Wieterstraße, 37154 Northeim
GEO:51.70345080000000000000;10.00151200000000000000
SUMMARY:OL 2 Mä.: DJK Kolping Northeim - MTV 48 Hildesheim
CLASS:PUBLIC
DTSTART:20150221T140000Z
DTSTAMP:20150330T211500Z
END:VEVENT
BEGIN:VEVENT
UID:298923-2da69939ed67427dc6bf3daba21059e9
X-WR-RELCALID:298923-2da69939ed67427dc6bf3daba21059e9
ORGANIZER:Volleyball
SEQUENCE:261101623
LOCATION:Sporthalle Corvinianum I, Wieterstraße, 37154 Northeim
GEO:51.70345080000000000000;10.00151200000000000000
SUMMARY:OL 2 Mä.: DJK Kolping Northeim - VSG Düngen/Holle/Bodenburg
CLASS:PUBLIC
DTSTART:20150221T140000Z
DTSTAMP:20150330T211500Z
END:VEVENT
BEGIN:VEVENT
UID:298924-2da69939ed67427dc6bf3daba21059e9
X-WR-RELCALID:298924-2da69939ed67427dc6bf3daba21059e9
ORGANIZER:Volleyball
SEQUENCE:261101623
LOCATION:Freie Waldorfschule (neue Halle), Rudolf-von-Bennigsen-Ufer 7
 0, 30173 Hannover
GEO:52.35146620000000000000;9.74888090000000000000
SUMMARY:OL 2 Mä.: GfL Hannover II - USC Braunschweig III
CLASS:PUBLIC
DTSTART:20150222T090000Z
DTSTAMP:20150330T211500Z
END:VEVENT
BEGIN:VEVENT
UID:298925-2da69939ed67427dc6bf3daba21059e9
X-WR-RELCALID:298925-2da69939ed67427dc6bf3daba21059e9
ORGANIZER:Volleyball
SEQUENCE:261101623
LOCATION:Freie Waldorfschule (neue Halle), Rudolf-von-Bennigsen-Ufer 7
 0, 30173 Hannover
GEO:52.35146620000000000000;9.74888090000000000000
SUMMARY:OL 2 Mä.: GfL Hannover II - PSV Hannover
CLASS:PUBLIC
DTSTART:20150222T090000Z
DTSTAMP:20150330T211500Z
END:VEVENT
BEGIN:VEVENT
UID:298926-2da69939ed67427dc6bf3daba21059e9
X-WR-RELCALID:298926-2da69939ed67427dc6bf3daba21059e9
ORGANIZER:Volleyball
SEQUENCE:261101623
LOCATION:Sporthalle Flutmulde, Winkeler Straße 2, 38518 Gifhorn
GEO:52.48040000000000000000;10.53702000000000000000
SUMMARY:OL 2 Mä.: MTV Gifhorn - ASC 46 Göttingen II
CLASS:PUBLIC
DTSTART:20150222T110000Z
DTSTAMP:20150330T211500Z
END:VEVENT
BEGIN:VEVENT
UID:298927-2da69939ed67427dc6bf3daba21059e9
X-WR-RELCALID:298927-2da69939ed67427dc6bf3daba21059e9
ORGANIZER:Volleyball
SEQUENCE:261101623
LOCATION:Sporthalle Flutmulde, Winkeler Straße 2, 38518 Gifhorn
GEO:52.48040000000000000000;10.53702000000000000000
SUMMARY:OL 2 Mä.: MTV Gifhorn - VC Nienburg
CLASS:PUBLIC
DTSTART:20150222T110000Z
DTSTAMP:20150330T211500Z
END:VEVENT
BEGIN:VEVENT
UID:298886-2da69939ed67427dc6bf3daba21059e9
X-WR-RELCALID:298886-2da69939ed67427dc6bf3daba21059e9
ORGANIZER:Volleyball
SEQUENCE:261101623
LOCATION:Sporthalle Sothenberg, Am Mühlenbusch, 31162 Bad Salzdetfurth
 
GEO:52.06580700000000000000;10.01600550000000000000
SUMMARY:OL 2 Mä.: VSG Düngen/Holle/Bodenburg - USC Braunschweig III
CLASS:PUBLIC
DTSTART:20150228T140000Z
DTSTAMP:20150330T211500Z
END:VEVENT
BEGIN:VEVENT
UID:298887-2da69939ed67427dc6bf3daba21059e9
X-WR-RELCALID:298887-2da69939ed67427dc6bf3daba21059e9
ORGANIZER:Volleyball
SEQUENCE:261101623
LOCATION:Sporthalle Sothenberg, Am Mühlenbusch, 31162 Bad Salzdetfurth
 
GEO:52.06580700000000000000;10.01600550000000000000
SUMMARY:OL 2 Mä.: VSG Düngen/Holle/Bodenburg - DJK Kolping Northeim
CLASS:PUBLIC
DTSTART:20150228T140000Z
DTSTAMP:20150330T211500Z
END:VEVENT
BEGIN:VEVENT
UID:298928-2da69939ed67427dc6bf3daba21059e9
X-WR-RELCALID:298928-2da69939ed67427dc6bf3daba21059e9
ORGANIZER:Volleyball
SEQUENCE:261101623
LOCATION:Robert-Bosch-Gesamtschule, Richthofenstraße, 31137 Hildesheim
 
GEO:52.16669720000000000000;9.94625030000000000000
SUMMARY:OL 2 Mä.: MTV 48 Hildesheim - MTV Gifhorn
CLASS:PUBLIC
DTSTART:20150307T140000Z
DTSTAMP:20150330T211500Z
END:VEVENT
BEGIN:VEVENT
UID:298929-2da69939ed67427dc6bf3daba21059e9
X-WR-RELCALID:298929-2da69939ed67427dc6bf3daba21059e9
ORGANIZER:Volleyball
SEQUENCE:261101623
LOCATION:Robert-Bosch-Gesamtschule, Richthofenstraße, 31137 Hildesheim
 
GEO:52.16669720000000000000;9.94625030000000000000
SUMMARY:OL 2 Mä.: MTV 48 Hildesheim - USC Braunschweig III
CLASS:PUBLIC
DTSTART:20150307T140000Z
DTSTAMP:20150330T211500Z
END:VEVENT
BEGIN:VEVENT
UID:298930-2da69939ed67427dc6bf3daba21059e9
X-WR-RELCALID:298930-2da69939ed67427dc6bf3daba21059e9
ORGANIZER:Volleyball
SEQUENCE:261101623
LOCATION:Max-Planck-Gymnasium, Bühlstraße, 37073 Göttingen
GEO:51.53721800000000000000;9.94201180000000000000
SUMMARY:OL 2 Mä.: ASC 46 Göttingen II - DJK Kolping Northeim
CLASS:PUBLIC
DTSTART:20150314T140000Z
DTSTAMP:20150330T211500Z
END:VEVENT
BEGIN:VEVENT
UID:298931-2da69939ed67427dc6bf3daba21059e9
X-WR-RELCALID:298931-2da69939ed67427dc6bf3daba21059e9
ORGANIZER:Volleyball
SEQUENCE:261101623
LOCATION:Max-Planck-Gymnasium, Bühlstraße, 37073 Göttingen
GEO:51.53721800000000000000;9.94201180000000000000
SUMMARY:OL 2 Mä.: ASC 46 Göttingen II - USC Braunschweig III
CLASS:PUBLIC
DTSTART:20150314T140000Z
DTSTAMP:20150330T211500Z
END:VEVENT
BEGIN:VEVENT
UID:298934-2da69939ed67427dc6bf3daba21059e9
X-WR-RELCALID:298934-2da69939ed67427dc6bf3daba21059e9
ORGANIZER:Volleyball
SEQUENCE:261101623
LOCATION:Sporthalle am Moldberg, Am Moldberg 1, 31188 Holle
GEO:52.08865110000000000000;10.15868740000000000000
SUMMARY:OL 2 Mä.: VSG Düngen/Holle/Bodenburg - GfL Hannover II
CLASS:PUBLIC
DTSTART:20150314T140000Z
DTSTAMP:20150330T211500Z
END:VEVENT
BEGIN:VEVENT
UID:298935-2da69939ed67427dc6bf3daba21059e9
X-WR-RELCALID:298935-2da69939ed67427dc6bf3daba21059e9
ORGANIZER:Volleyball
SEQUENCE:261101623
LOCATION:Sporthalle am Moldberg, Am Moldberg 1, 31188 Holle
GEO:52.08865110000000000000;10.15868740000000000000
SUMMARY:OL 2 Mä.: VSG Düngen/Holle/Bodenburg - VC Nienburg
CLASS:PUBLIC
DTSTART:20150314T140000Z
DTSTAMP:20150330T211500Z
END:VEVENT
BEGIN:VEVENT
UID:298932-2da69939ed67427dc6bf3daba21059e9
X-WR-RELCALID:298932-2da69939ed67427dc6bf3daba21059e9
ORGANIZER:Volleyball
SEQUENCE:261101623
LOCATION:Bereitschaftspolizei Hannover, Tannenbergallee 11, 30163 Hann
 over
GEO:52.40125610000000000000;9.74827280000000000000
SUMMARY:OL 2 Mä.: PSV Hannover - MTV 48 Hildesheim
CLASS:PUBLIC
DTSTART:20150314T140000Z
DTSTAMP:20150330T211500Z
END:VEVENT
BEGIN:VEVENT
UID:298933-2da69939ed67427dc6bf3daba21059e9
X-WR-RELCALID:298933-2da69939ed67427dc6bf3daba21059e9
ORGANIZER:Volleyball
SEQUENCE:261101623
LOCATION:Bereitschaftspolizei Hannover, Tannenbergallee 11, 30163 Hann
 over
GEO:52.40125610000000000000;9.74827280000000000000
SUMMARY:OL 2 Mä.: PSV Hannover - MTV Gifhorn
CLASS:PUBLIC
DTSTART:20150314T140000Z
DTSTAMP:20150330T211500Z
END:VEVENT
BEGIN:VEVENT
UID:298936-2da69939ed67427dc6bf3daba21059e9
X-WR-RELCALID:298936-2da69939ed67427dc6bf3daba21059e9
ORGANIZER:Volleyball
SEQUENCE:261101623
LOCATION:Nordertorschule, Rohrsener Straße, 31582 Nienburg
GEO:52.65120350000000000000;9.20814860000000000000
SUMMARY:OL 2 Mä.: VC Nienburg - DJK Kolping Northeim
CLASS:PUBLIC
DTSTART:20150321T130000Z
DTSTAMP:20150330T211500Z
END:VEVENT
BEGIN:VEVENT
UID:298937-2da69939ed67427dc6bf3daba21059e9
X-WR-RELCALID:298937-2da69939ed67427dc6bf3daba21059e9
ORGANIZER:Volleyball
SEQUENCE:261101623
LOCATION:Nordertorschule, Rohrsener Straße, 31582 Nienburg
GEO:52.65120350000000000000;9.20814860000000000000
SUMMARY:OL 2 Mä.: VC Nienburg - PSV Hannover
CLASS:PUBLIC
DTSTART:20150321T130000Z
DTSTAMP:20150330T211500Z
END:VEVENT
BEGIN:VEVENT
UID:298938-2da69939ed67427dc6bf3daba21059e9
X-WR-RELCALID:298938-2da69939ed67427dc6bf3daba21059e9
ORGANIZER:Volleyball
SEQUENCE:261101623
LOCATION:Robert-Bosch-Gesamtschule, Richthofenstraße, 31137 Hildesheim
 
GEO:52.16669720000000000000;9.94625030000000000000
SUMMARY:OL 2 Mä.: MTV 48 Hildesheim - ASC 46 Göttingen II
CLASS:PUBLIC
DTSTART:20150321T140000Z
DTSTAMP:20150330T211500Z
END:VEVENT
BEGIN:VEVENT
UID:298939-2da69939ed67427dc6bf3daba21059e9
X-WR-RELCALID:298939-2da69939ed67427dc6bf3daba21059e9
ORGANIZER:Volleyball
SEQUENCE:261101623
LOCATION:Robert-Bosch-Gesamtschule, Richthofenstraße, 31137 Hildesheim
 
GEO:52.16669720000000000000;9.94625030000000000000
SUMMARY:OL 2 Mä.: MTV 48 Hildesheim - GfL Hannover II
CLASS:PUBLIC
DTSTART:20150321T140000Z
DTSTAMP:20150330T211500Z
END:VEVENT
BEGIN:VEVENT
UID:298940-2da69939ed67427dc6bf3daba21059e9
X-WR-RELCALID:298940-2da69939ed67427dc6bf3daba21059e9
ORGANIZER:Volleyball
SEQUENCE:261101623
LOCATION:TU-Sporthalle, Beethovenstr. 16, 38106 Braunschweig
GEO:52.27931200000000000000;10.54437500000000000000
SUMMARY:OL 2 Mä.: USC Braunschweig III - VSG Düngen/Holle/Bodenburg
CLASS:PUBLIC
DTSTART:20150321T140000Z
DTSTAMP:20150330T211500Z
END:VEVENT
BEGIN:VEVENT
UID:298941-2da69939ed67427dc6bf3daba21059e9
X-WR-RELCALID:298941-2da69939ed67427dc6bf3daba21059e9
ORGANIZER:Volleyball
SEQUENCE:261101623
LOCATION:TU-Sporthalle, Beethovenstr. 16, 38106 Braunschweig
GEO:52.27931200000000000000;10.54437500000000000000
SUMMARY:OL 2 Mä.: USC Braunschweig III - MTV Gifhorn
CLASS:PUBLIC
DTSTART:20150321T140000Z
DTSTAMP:20150330T211500Z
END:VEVENT
END:VCALENDAR