BEGIN:VCALENDAR
VERSION:2.0
PRODID:VSD-Portal-www.volley.de
METHOD:PUBLISH
BEGIN:VEVENT
UID:308753-2da69939ed67427dc6bf3daba21059e9
X-WR-RELCALID:308753-2da69939ed67427dc6bf3daba21059e9
ORGANIZER:Volleyball
SEQUENCE:261112138
SUMMARY:RLNO Fr.: USV Potsdam - TSV Tempelhof/Mariendorf
CLASS:PUBLIC
DTSTART;VALUE=DATE:20140913
DTSTAMP:20150322T011000Z
DTEND;VALUE=DATE:20140914
END:VEVENT
BEGIN:VEVENT
UID:308756-2da69939ed67427dc6bf3daba21059e9
X-WR-RELCALID:308756-2da69939ed67427dc6bf3daba21059e9
ORGANIZER:Volleyball
SEQUENCE:261112138
SUMMARY:RLNO Fr.: SG Rotation Prenzlauer Berg - USV Potsdam
CLASS:PUBLIC
DTSTART;VALUE=DATE:20140920
DTSTAMP:20150322T011000Z
DTEND;VALUE=DATE:20140921
END:VEVENT
BEGIN:VEVENT
UID:308763-2da69939ed67427dc6bf3daba21059e9
X-WR-RELCALID:308763-2da69939ed67427dc6bf3daba21059e9
ORGANIZER:Volleyball
SEQUENCE:261112138
SUMMARY:RLNO Fr.: USV Potsdam - SF Brandenburg 94
CLASS:PUBLIC
DTSTART;VALUE=DATE:20140927
DTSTAMP:20150322T011000Z
DTEND;VALUE=DATE:20140928
END:VEVENT
BEGIN:VEVENT
UID:308764-2da69939ed67427dc6bf3daba21059e9
X-WR-RELCALID:308764-2da69939ed67427dc6bf3daba21059e9
ORGANIZER:Volleyball
SEQUENCE:261112138
SUMMARY:RLNO Fr.: Blankenburger VF 91 - USV Potsdam
CLASS:PUBLIC
DTSTART;VALUE=DATE:20141005
DTSTAMP:20150322T011000Z
DTEND;VALUE=DATE:20141006
END:VEVENT
BEGIN:VEVENT
UID:308773-2da69939ed67427dc6bf3daba21059e9
X-WR-RELCALID:308773-2da69939ed67427dc6bf3daba21059e9
ORGANIZER:Volleyball
SEQUENCE:261112138
SUMMARY:RLNO Fr.: USV Potsdam - VfK Berlin-Südwest
CLASS:PUBLIC
DTSTART;VALUE=DATE:20141011
DTSTAMP:20150322T011000Z
DTEND;VALUE=DATE:20141012
END:VEVENT
BEGIN:VEVENT
UID:308777-2da69939ed67427dc6bf3daba21059e9
X-WR-RELCALID:308777-2da69939ed67427dc6bf3daba21059e9
ORGANIZER:Volleyball
SEQUENCE:261112138
SUMMARY:RLNO Fr.: Marzahner VC - USV Potsdam
CLASS:PUBLIC
DTSTART;VALUE=DATE:20141101
DTSTAMP:20150322T011000Z
DTEND;VALUE=DATE:20141102
END:VEVENT
BEGIN:VEVENT
UID:308783-2da69939ed67427dc6bf3daba21059e9
X-WR-RELCALID:308783-2da69939ed67427dc6bf3daba21059e9
ORGANIZER:Volleyball
SEQUENCE:261112138
SUMMARY:RLNO Fr.: USV Potsdam - Berliner VV
CLASS:PUBLIC
DTSTART;VALUE=DATE:20141108
DTSTAMP:20150322T011000Z
DTEND;VALUE=DATE:20141109
END:VEVENT
BEGIN:VEVENT
UID:308785-2da69939ed67427dc6bf3daba21059e9
X-WR-RELCALID:308785-2da69939ed67427dc6bf3daba21059e9
ORGANIZER:Volleyball
SEQUENCE:261112138
SUMMARY:RLNO Fr.: SV Energie Cottbus - USV Potsdam
CLASS:PUBLIC
DTSTART;VALUE=DATE:20141115
DTSTAMP:20150322T011000Z
DTEND;VALUE=DATE:20141116
END:VEVENT
BEGIN:VEVENT
UID:308793-2da69939ed67427dc6bf3daba21059e9
X-WR-RELCALID:308793-2da69939ed67427dc6bf3daba21059e9
ORGANIZER:Volleyball
SEQUENCE:261112138
SUMMARY:RLNO Fr.: USV Potsdam - USC Magdeburg
CLASS:PUBLIC
DTSTART;VALUE=DATE:20141122
DTSTAMP:20150322T011000Z
DTEND;VALUE=DATE:20141123
END:VEVENT
BEGIN:VEVENT
UID:308798-2da69939ed67427dc6bf3daba21059e9
X-WR-RELCALID:308798-2da69939ed67427dc6bf3daba21059e9
ORGANIZER:Volleyball
SEQUENCE:261112138
SUMMARY:RLNO Fr.: TSV Tempelhof/Mariendorf - USV Potsdam
CLASS:PUBLIC
DTSTART;VALUE=DATE:20141207
DTSTAMP:20150322T011000Z
DTEND;VALUE=DATE:20141208
END:VEVENT
BEGIN:VEVENT
UID:308801-2da69939ed67427dc6bf3daba21059e9
X-WR-RELCALID:308801-2da69939ed67427dc6bf3daba21059e9
ORGANIZER:Volleyball
SEQUENCE:261112138
SUMMARY:RLNO Fr.: USV Potsdam - SG Rotation Prenzlauer Berg
CLASS:PUBLIC
DTSTART;VALUE=DATE:20141213
DTSTAMP:20150322T011000Z
DTEND;VALUE=DATE:20141214
END:VEVENT
BEGIN:VEVENT
UID:308808-2da69939ed67427dc6bf3daba21059e9
X-WR-RELCALID:308808-2da69939ed67427dc6bf3daba21059e9
ORGANIZER:Volleyball
SEQUENCE:261112138
SUMMARY:RLNO Fr.: SF Brandenburg 94 - USV Potsdam
CLASS:PUBLIC
DTSTART;VALUE=DATE:20150110
DTSTAMP:20150322T011000Z
DTEND;VALUE=DATE:20150111
END:VEVENT
BEGIN:VEVENT
UID:308809-2da69939ed67427dc6bf3daba21059e9
X-WR-RELCALID:308809-2da69939ed67427dc6bf3daba21059e9
ORGANIZER:Volleyball
SEQUENCE:261112138
SUMMARY:RLNO Fr.: USV Potsdam - Blankenburger VF 91
CLASS:PUBLIC
DTSTART;VALUE=DATE:20150117
DTSTAMP:20150322T011000Z
DTEND;VALUE=DATE:20150118
END:VEVENT
BEGIN:VEVENT
UID:308818-2da69939ed67427dc6bf3daba21059e9
X-WR-RELCALID:308818-2da69939ed67427dc6bf3daba21059e9
ORGANIZER:Volleyball
SEQUENCE:261112138
SUMMARY:RLNO Fr.: VfK Berlin-Südwest - USV Potsdam
CLASS:PUBLIC
DTSTART;VALUE=DATE:20150124
DTSTAMP:20150322T011000Z
DTEND;VALUE=DATE:20150125
END:VEVENT
BEGIN:VEVENT
UID:308822-2da69939ed67427dc6bf3daba21059e9
X-WR-RELCALID:308822-2da69939ed67427dc6bf3daba21059e9
ORGANIZER:Volleyball
SEQUENCE:261112138
SUMMARY:RLNO Fr.: USV Potsdam - Marzahner VC
CLASS:PUBLIC
DTSTART;VALUE=DATE:20150214
DTSTAMP:20150322T011000Z
DTEND;VALUE=DATE:20150215
END:VEVENT
BEGIN:VEVENT
UID:308828-2da69939ed67427dc6bf3daba21059e9
X-WR-RELCALID:308828-2da69939ed67427dc6bf3daba21059e9
ORGANIZER:Volleyball
SEQUENCE:261112138
SUMMARY:RLNO Fr.: Berliner VV - USV Potsdam
CLASS:PUBLIC
DTSTART;VALUE=DATE:20150222
DTSTAMP:20150322T011000Z
DTEND;VALUE=DATE:20150223
END:VEVENT
BEGIN:VEVENT
UID:308830-2da69939ed67427dc6bf3daba21059e9
X-WR-RELCALID:308830-2da69939ed67427dc6bf3daba21059e9
ORGANIZER:Volleyball
SEQUENCE:261112138
SUMMARY:RLNO Fr.: USV Potsdam - SV Energie Cottbus
CLASS:PUBLIC
DTSTART;VALUE=DATE:20150307
DTSTAMP:20150322T011000Z
DTEND;VALUE=DATE:20150308
END:VEVENT
BEGIN:VEVENT
UID:308838-2da69939ed67427dc6bf3daba21059e9
X-WR-RELCALID:308838-2da69939ed67427dc6bf3daba21059e9
ORGANIZER:Volleyball
SEQUENCE:261112138
SUMMARY:RLNO Fr.: USC Magdeburg - USV Potsdam
CLASS:PUBLIC
DTSTART;VALUE=DATE:20150321
DTSTAMP:20150322T011000Z
DTEND;VALUE=DATE:20150322
END:VEVENT
END:VCALENDAR