BEGIN:VCALENDAR
VERSION:2.0
PRODID:VSD-Portal-www.volley.de
METHOD:PUBLISH
BEGIN:VEVENT
UID:297717-2da69939ed67427dc6bf3daba21059e9
X-WR-RELCALID:297717-2da69939ed67427dc6bf3daba21059e9
ORGANIZER:Volleyball
SEQUENCE:261112211
LOCATION:4800 / Lehrer-Paul-Bester-Halle, GS I  , Dorfaue 17-19  , 155
 66 Schöneiche
GEO:52.48101240000000000000;13.70219460000000000000
SUMMARY:3. L N Mä.: TSGL Schöneiche - USC Magdeburg
CLASS:PUBLIC
DTSTART:20140920T170000Z
DTSTAMP:20150325T124500Z
END:VEVENT
BEGIN:VEVENT
UID:297720-2da69939ed67427dc6bf3daba21059e9
X-WR-RELCALID:297720-2da69939ed67427dc6bf3daba21059e9
ORGANIZER:Volleyball
SEQUENCE:261112211
LOCATION:Universitätssporthalle 3, Johann-Gottlob-Nathusius-Ring, 3910
 6 Magdeburg
GEO:52.13950000000000000000;11.65027000000000000000
SUMMARY:3. L N Mä.: USC Magdeburg - 1. VC Norderstedt
CLASS:PUBLIC
DTSTART:20140928T140000Z
DTSTAMP:20150325T124500Z
END:VEVENT
BEGIN:VEVENT
UID:297721-2da69939ed67427dc6bf3daba21059e9
X-WR-RELCALID:297721-2da69939ed67427dc6bf3daba21059e9
ORGANIZER:Volleyball
SEQUENCE:261112211
LOCATION:Jahnhalle, Richard-Köhn Str. 75, 25421 Pinneberg
GEO:53.64636000000000000000;9.79387000000000000000
SUMMARY:3. L N Mä.: VfL Pinneberg - USC Magdeburg
CLASS:PUBLIC
DTSTART:20141004T160000Z
DTSTAMP:20150325T124500Z
END:VEVENT
BEGIN:VEVENT
UID:297730-2da69939ed67427dc6bf3daba21059e9
X-WR-RELCALID:297730-2da69939ed67427dc6bf3daba21059e9
ORGANIZER:Volleyball
SEQUENCE:261112211
LOCATION:Universitätssporthalle 3, Johann-Gottlob-Nathusius-Ring, 3910
 6 Magdeburg
GEO:52.13950000000000000000;11.65027000000000000000
SUMMARY:3. L N Mä.: USC Magdeburg - Berliner VV
CLASS:PUBLIC
DTSTART:20141019T140000Z
DTSTAMP:20150325T124500Z
END:VEVENT
BEGIN:VEVENT
UID:297734-2da69939ed67427dc6bf3daba21059e9
X-WR-RELCALID:297734-2da69939ed67427dc6bf3daba21059e9
ORGANIZER:Volleyball
SEQUENCE:261112211
LOCATION:Turnhalle Am Schützenplatz, Am Schützenplatz, 16269 Wriezen
GEO:52.72003900000000000000;14.13192720000000000000
SUMMARY:3. L N Mä.: TKC Wriezen - USC Magdeburg
CLASS:PUBLIC
DTSTART:20141101T183000Z
DTSTAMP:20150325T124500Z
END:VEVENT
BEGIN:VEVENT
UID:297738-2da69939ed67427dc6bf3daba21059e9
X-WR-RELCALID:297738-2da69939ed67427dc6bf3daba21059e9
ORGANIZER:Volleyball
SEQUENCE:261112211
LOCATION:Universitätssporthalle 3, Johann-Gottlob-Nathusius-Ring, 3910
 6 Magdeburg
GEO:52.13950000000000000000;11.65027000000000000000
SUMMARY:3. L N Mä.: USC Magdeburg - Oststeinbeker SV
CLASS:PUBLIC
DTSTART:20141109T150000Z
DTSTAMP:20150325T124500Z
END:VEVENT
BEGIN:VEVENT
UID:297743-2da69939ed67427dc6bf3daba21059e9
X-WR-RELCALID:297743-2da69939ed67427dc6bf3daba21059e9
ORGANIZER:Volleyball
SEQUENCE:261112211
LOCATION:Universitätssporthalle 3, Johann-Gottlob-Nathusius-Ring, 3910
 6 Magdeburg
GEO:52.13950000000000000000;11.65027000000000000000
SUMMARY:3. L N Mä.: USC Magdeburg - SV Warnemünde
CLASS:PUBLIC
DTSTART:20141122T170000Z
DTSTAMP:20150325T124500Z
END:VEVENT
BEGIN:VEVENT
UID:297751-2da69939ed67427dc6bf3daba21059e9
X-WR-RELCALID:297751-2da69939ed67427dc6bf3daba21059e9
ORGANIZER:Volleyball
SEQUENCE:261112211
LOCATION:ARENA Rostock, Tschaikowskistr. 45, 18069 Rostock
GEO:54.08901900000000000000;12.08770600000000000000
SUMMARY:3. L N Mä.: SV Warnemünde - USC Magdeburg
CLASS:PUBLIC
DTSTART:20141207T150000Z
DTSTAMP:20150325T124500Z
END:VEVENT
BEGIN:VEVENT
UID:297756-2da69939ed67427dc6bf3daba21059e9
X-WR-RELCALID:297756-2da69939ed67427dc6bf3daba21059e9
ORGANIZER:Volleyball
SEQUENCE:261112211
LOCATION:Universitätssporthalle 3, Johann-Gottlob-Nathusius-Ring, 3910
 6 Magdeburg
GEO:52.13950000000000000000;11.65027000000000000000
SUMMARY:3. L N Mä.: USC Magdeburg - TSGL Schöneiche
CLASS:PUBLIC
DTSTART:20141214T150000Z
DTSTAMP:20150325T124500Z
END:VEVENT
BEGIN:VEVENT
UID:297757-2da69939ed67427dc6bf3daba21059e9
X-WR-RELCALID:297757-2da69939ed67427dc6bf3daba21059e9
ORGANIZER:Volleyball
SEQUENCE:261112211
LOCATION:Moorbek-Halle, Moorbekstr., 22846 Norderstedt
GEO:53.71732990000000000000;9.99610190000000000000
SUMMARY:3. L N Mä.: 1. VC Norderstedt - USC Magdeburg
CLASS:PUBLIC
DTSTART:20150111T140000Z
DTSTAMP:20150325T124500Z
END:VEVENT
BEGIN:VEVENT
UID:297760-2da69939ed67427dc6bf3daba21059e9
X-WR-RELCALID:297760-2da69939ed67427dc6bf3daba21059e9
ORGANIZER:Volleyball
SEQUENCE:261112211
LOCATION:Sportforum Berlin - Halle 3, Weißenseer Weg 53, 13053 Berlin
GEO:52.53846000000000000000;13.47390000000000000000
SUMMARY:3. L N Mä.: VCO Berlin 2 - USC Magdeburg
CLASS:PUBLIC
DTSTART:20150117T170000Z
DTSTAMP:20150325T124500Z
END:VEVENT
BEGIN:VEVENT
UID:297764-2da69939ed67427dc6bf3daba21059e9
X-WR-RELCALID:297764-2da69939ed67427dc6bf3daba21059e9
ORGANIZER:Volleyball
SEQUENCE:261112211
LOCATION:Universitätssporthalle 3, Johann-Gottlob-Nathusius-Ring, 3910
 6 Magdeburg
GEO:52.13950000000000000000;11.65027000000000000000
SUMMARY:3. L N Mä.: USC Magdeburg - VfL Pinneberg
CLASS:PUBLIC
DTSTART:20150118T150000Z
DTSTAMP:20150325T124500Z
END:VEVENT
BEGIN:VEVENT
UID:297768-2da69939ed67427dc6bf3daba21059e9
X-WR-RELCALID:297768-2da69939ed67427dc6bf3daba21059e9
ORGANIZER:Volleyball
SEQUENCE:261112211
LOCATION:Anton-Saefkow- Halle, Anton-Saefkow-Platz 5, 10369 Berlin
GEO:52.53007000000000000000;13.47447200000000000000
SUMMARY:3. L N Mä.: Berliner VV - USC Magdeburg
CLASS:PUBLIC
DTSTART:20150124T180000Z
DTSTAMP:20150325T124500Z
END:VEVENT
BEGIN:VEVENT
UID:297771-2da69939ed67427dc6bf3daba21059e9
X-WR-RELCALID:297771-2da69939ed67427dc6bf3daba21059e9
ORGANIZER:Volleyball
SEQUENCE:261112211
LOCATION:Universitätssporthalle 3, Johann-Gottlob-Nathusius-Ring, 3910
 6 Magdeburg
GEO:52.13950000000000000000;11.65027000000000000000
SUMMARY:3. L N Mä.: USC Magdeburg - TKC Wriezen
CLASS:PUBLIC
DTSTART:20150208T150000Z
DTSTAMP:20150325T124500Z
END:VEVENT
BEGIN:VEVENT
UID:297774-2da69939ed67427dc6bf3daba21059e9
X-WR-RELCALID:297774-2da69939ed67427dc6bf3daba21059e9
ORGANIZER:Volleyball
SEQUENCE:261112211
LOCATION:Walter-Ruckert Halle, Meessen 32, 22113 Oststeinbek
GEO:53.54911400000000000000;10.16476280000000000000
SUMMARY:3. L N Mä.: Oststeinbeker SV - USC Magdeburg
CLASS:PUBLIC
DTSTART:20150221T183000Z
DTSTAMP:20150325T124500Z
END:VEVENT
BEGIN:VEVENT
UID:297785-2da69939ed67427dc6bf3daba21059e9
X-WR-RELCALID:297785-2da69939ed67427dc6bf3daba21059e9
ORGANIZER:Volleyball
SEQUENCE:261112211
LOCATION:Universitätssporthalle 3, Johann-Gottlob-Nathusius-Ring, 3910
 6 Magdeburg
GEO:52.13950000000000000000;11.65027000000000000000
SUMMARY:3. L N Mä.: USC Magdeburg - VCO Berlin 2
CLASS:PUBLIC
DTSTART:20150321T170000Z
DTSTAMP:20150325T124500Z
END:VEVENT
END:VCALENDAR