BEGIN:VCALENDAR
VERSION:2.0
PRODID:VSD-Portal-www.volley.de
METHOD:PUBLISH
BEGIN:VEVENT
UID:297722-2da69939ed67427dc6bf3daba21059e9
X-WR-RELCALID:297722-2da69939ed67427dc6bf3daba21059e9
ORGANIZER:Volleyball
SEQUENCE:261112210
LOCATION:Turnhalle Am Schützenplatz, Am Schützenplatz, 16269 Wriezen
GEO:52.72003900000000000000;14.13192720000000000000
SUMMARY:3. L N Mä.: TKC Wriezen - TSGL Schöneiche
CLASS:PUBLIC
DTSTART:20141004T173000Z
DTSTAMP:20150325T124500Z
END:VEVENT
BEGIN:VEVENT
UID:297734-2da69939ed67427dc6bf3daba21059e9
X-WR-RELCALID:297734-2da69939ed67427dc6bf3daba21059e9
ORGANIZER:Volleyball
SEQUENCE:261112210
LOCATION:Turnhalle Am Schützenplatz, Am Schützenplatz, 16269 Wriezen
GEO:52.72003900000000000000;14.13192720000000000000
SUMMARY:3. L N Mä.: TKC Wriezen - USC Magdeburg
CLASS:PUBLIC
DTSTART:20141101T183000Z
DTSTAMP:20150325T124500Z
END:VEVENT
BEGIN:VEVENT
UID:297746-2da69939ed67427dc6bf3daba21059e9
X-WR-RELCALID:297746-2da69939ed67427dc6bf3daba21059e9
ORGANIZER:Volleyball
SEQUENCE:261112210
LOCATION:Turnhalle Am Schützenplatz, Am Schützenplatz, 16269 Wriezen
GEO:52.72003900000000000000;14.13192720000000000000
SUMMARY:3. L N Mä.: TKC Wriezen - 1. VC Norderstedt
CLASS:PUBLIC
DTSTART:20141122T183000Z
DTSTAMP:20150325T124500Z
END:VEVENT
BEGIN:VEVENT
UID:297750-2da69939ed67427dc6bf3daba21059e9
X-WR-RELCALID:297750-2da69939ed67427dc6bf3daba21059e9
ORGANIZER:Volleyball
SEQUENCE:261112210
LOCATION:Turnhalle Am Schützenplatz, Am Schützenplatz, 16269 Wriezen
GEO:52.72003900000000000000;14.13192720000000000000
SUMMARY:3. L N Mä.: TKC Wriezen - Berliner VV
CLASS:PUBLIC
DTSTART:20141206T183000Z
DTSTAMP:20150325T124500Z
END:VEVENT
BEGIN:VEVENT
UID:297753-2da69939ed67427dc6bf3daba21059e9
X-WR-RELCALID:297753-2da69939ed67427dc6bf3daba21059e9
ORGANIZER:Volleyball
SEQUENCE:261112210
LOCATION:Turnhalle Am Schützenplatz, Am Schützenplatz, 16269 Wriezen
GEO:52.72003900000000000000;14.13192720000000000000
SUMMARY:3. L N Mä.: TKC Wriezen - Oststeinbeker SV
CLASS:PUBLIC
DTSTART:20141213T183000Z
DTSTAMP:20150325T124500Z
END:VEVENT
BEGIN:VEVENT
UID:297766-2da69939ed67427dc6bf3daba21059e9
X-WR-RELCALID:297766-2da69939ed67427dc6bf3daba21059e9
ORGANIZER:Volleyball
SEQUENCE:261112210
LOCATION:Turnhalle Am Schützenplatz, Am Schützenplatz, 16269 Wriezen
GEO:52.72003900000000000000;14.13192720000000000000
SUMMARY:3. L N Mä.: TKC Wriezen - VfL Pinneberg
CLASS:PUBLIC
DTSTART:20150124T183000Z
DTSTAMP:20150325T124500Z
END:VEVENT
BEGIN:VEVENT
UID:297773-2da69939ed67427dc6bf3daba21059e9
X-WR-RELCALID:297773-2da69939ed67427dc6bf3daba21059e9
ORGANIZER:Volleyball
SEQUENCE:261112210
LOCATION:Turnhalle Am Schützenplatz, Am Schützenplatz, 16269 Wriezen
GEO:52.72003900000000000000;14.13192720000000000000
SUMMARY:3. L N Mä.: TKC Wriezen - VCO Berlin 2
CLASS:PUBLIC
DTSTART:20150214T183000Z
DTSTAMP:20150325T124500Z
END:VEVENT
BEGIN:VEVENT
UID:297781-2da69939ed67427dc6bf3daba21059e9
X-WR-RELCALID:297781-2da69939ed67427dc6bf3daba21059e9
ORGANIZER:Volleyball
SEQUENCE:261112210
LOCATION:Turnhalle Am Schützenplatz, Am Schützenplatz, 16269 Wriezen
GEO:52.72003900000000000000;14.13192720000000000000
SUMMARY:3. L N Mä.: TKC Wriezen - SV Warnemünde
CLASS:PUBLIC
DTSTART:20150307T183000Z
DTSTAMP:20150325T124500Z
END:VEVENT
END:VCALENDAR