BEGIN:VCALENDAR
VERSION:2.0
PRODID:VSD-Portal-www.volley.de
METHOD:PUBLISH
BEGIN:VEVENT
UID:294105-2da69939ed67427dc6bf3daba21059e9
X-WR-RELCALID:294105-2da69939ed67427dc6bf3daba21059e9
ORGANIZER:Volleyball
SEQUENCE:261142147
SUMMARY:BL B Mä.: Polizei SV I - TSV Spandau III
CLASS:PUBLIC
DTSTART;VALUE=DATE:20040911
DTSTAMP:20140607T184800Z
DTEND;VALUE=DATE:20040912
END:VEVENT
BEGIN:VEVENT
UID:294098-2da69939ed67427dc6bf3daba21059e9
X-WR-RELCALID:294098-2da69939ed67427dc6bf3daba21059e9
ORGANIZER:Volleyball
SEQUENCE:261142147
SUMMARY:BL B Mä.: SCC in Marzahn III - TSV Spandau III
CLASS:PUBLIC
DTSTART;VALUE=DATE:20040911
DTSTAMP:20140607T184800Z
DTEND;VALUE=DATE:20040912
END:VEVENT
BEGIN:VEVENT
UID:294093-2da69939ed67427dc6bf3daba21059e9
X-WR-RELCALID:294093-2da69939ed67427dc6bf3daba21059e9
ORGANIZER:Volleyball
SEQUENCE:261142147
SUMMARY:BL B Mä.: TSV Spandau III - Friedenauer TSC II
CLASS:PUBLIC
DTSTART;VALUE=DATE:20040925
DTSTAMP:20140607T184800Z
DTEND;VALUE=DATE:20040926
END:VEVENT
BEGIN:VEVENT
UID:294094-2da69939ed67427dc6bf3daba21059e9
X-WR-RELCALID:294094-2da69939ed67427dc6bf3daba21059e9
ORGANIZER:Volleyball
SEQUENCE:261142147
SUMMARY:BL B Mä.: TSV Spandau III - SV Ludwig Renn
CLASS:PUBLIC
DTSTART;VALUE=DATE:20040925
DTSTAMP:20140607T184800Z
DTEND;VALUE=DATE:20040926
END:VEVENT
BEGIN:VEVENT
UID:294083-2da69939ed67427dc6bf3daba21059e9
X-WR-RELCALID:294083-2da69939ed67427dc6bf3daba21059e9
ORGANIZER:Volleyball
SEQUENCE:261142147
SUMMARY:BL B Mä.: DJK Westen I - TSV Spandau III
CLASS:PUBLIC
DTSTART;VALUE=DATE:20041017
DTSTAMP:20140607T184800Z
DTEND;VALUE=DATE:20041018
END:VEVENT
BEGIN:VEVENT
UID:294082-2da69939ed67427dc6bf3daba21059e9
X-WR-RELCALID:294082-2da69939ed67427dc6bf3daba21059e9
ORGANIZER:Volleyball
SEQUENCE:261142147
SUMMARY:BL B Mä.: BSC Marzahn - TSV Spandau III
CLASS:PUBLIC
DTSTART;VALUE=DATE:20041017
DTSTAMP:20140607T184800Z
DTEND;VALUE=DATE:20041018
END:VEVENT
BEGIN:VEVENT
UID:294070-2da69939ed67427dc6bf3daba21059e9
X-WR-RELCALID:294070-2da69939ed67427dc6bf3daba21059e9
ORGANIZER:Volleyball
SEQUENCE:261142147
SUMMARY:BL B Mä.: TSV Spandau III - Friedenauer TSC I
CLASS:PUBLIC
DTSTART;VALUE=DATE:20041030
DTSTAMP:20140607T184800Z
DTEND;VALUE=DATE:20041031
END:VEVENT
BEGIN:VEVENT
UID:294064-2da69939ed67427dc6bf3daba21059e9
X-WR-RELCALID:294064-2da69939ed67427dc6bf3daba21059e9
ORGANIZER:Volleyball
SEQUENCE:261142147
SUMMARY:BL B Mä.: TSV Spandau III - Berliner TSC IV
CLASS:PUBLIC
DTSTART;VALUE=DATE:20041030
DTSTAMP:20140607T184800Z
DTEND;VALUE=DATE:20041031
END:VEVENT
BEGIN:VEVENT
UID:294060-2da69939ed67427dc6bf3daba21059e9
X-WR-RELCALID:294060-2da69939ed67427dc6bf3daba21059e9
ORGANIZER:Volleyball
SEQUENCE:261142147
SUMMARY:BL B Mä.: TSV Spandau III - TuS Hohenschönhausen
CLASS:PUBLIC
DTSTART;VALUE=DATE:20041114
DTSTAMP:20140607T184800Z
DTEND;VALUE=DATE:20041115
END:VEVENT
BEGIN:VEVENT
UID:294057-2da69939ed67427dc6bf3daba21059e9
X-WR-RELCALID:294057-2da69939ed67427dc6bf3daba21059e9
ORGANIZER:Volleyball
SEQUENCE:261142147
SUMMARY:BL B Mä.: Polizei SV II - TSV Spandau III
CLASS:PUBLIC
DTSTART;VALUE=DATE:20041114
DTSTAMP:20140607T184800Z
DTEND;VALUE=DATE:20041115
END:VEVENT
BEGIN:VEVENT
UID:294038-2da69939ed67427dc6bf3daba21059e9
X-WR-RELCALID:294038-2da69939ed67427dc6bf3daba21059e9
ORGANIZER:Volleyball
SEQUENCE:261142147
SUMMARY:BL B Mä.: TSV Spandau III - TSV Wedding I
CLASS:PUBLIC
DTSTART;VALUE=DATE:20041127
DTSTAMP:20140607T184800Z
DTEND;VALUE=DATE:20041128
END:VEVENT
BEGIN:VEVENT
UID:294037-2da69939ed67427dc6bf3daba21059e9
X-WR-RELCALID:294037-2da69939ed67427dc6bf3daba21059e9
ORGANIZER:Volleyball
SEQUENCE:261142147
SUMMARY:BL B Mä.: TSV Spandau III - TuS Hohenschönhausen
CLASS:PUBLIC
DTSTART;VALUE=DATE:20041127
DTSTAMP:20140607T184800Z
DTEND;VALUE=DATE:20041128
END:VEVENT
BEGIN:VEVENT
UID:294036-2da69939ed67427dc6bf3daba21059e9
X-WR-RELCALID:294036-2da69939ed67427dc6bf3daba21059e9
ORGANIZER:Volleyball
SEQUENCE:261142147
SUMMARY:BL B Mä.: Polizei SV II - TSV Spandau III
CLASS:PUBLIC
DTSTART;VALUE=DATE:20041211
DTSTAMP:20140607T184800Z
DTEND;VALUE=DATE:20041212
END:VEVENT
BEGIN:VEVENT
UID:294028-2da69939ed67427dc6bf3daba21059e9
X-WR-RELCALID:294028-2da69939ed67427dc6bf3daba21059e9
ORGANIZER:Volleyball
SEQUENCE:261142147
SUMMARY:BL B Mä.: TSV Wedding I - TSV Spandau III
CLASS:PUBLIC
DTSTART;VALUE=DATE:20041211
DTSTAMP:20140607T184800Z
DTEND;VALUE=DATE:20041212
END:VEVENT
BEGIN:VEVENT
UID:294021-2da69939ed67427dc6bf3daba21059e9
X-WR-RELCALID:294021-2da69939ed67427dc6bf3daba21059e9
ORGANIZER:Volleyball
SEQUENCE:261142147
SUMMARY:BL B Mä.: Berliner TSC IV - TSV Spandau III
CLASS:PUBLIC
DTSTART;VALUE=DATE:20050108
DTSTAMP:20140607T184800Z
DTEND;VALUE=DATE:20050109
END:VEVENT
BEGIN:VEVENT
UID:294016-2da69939ed67427dc6bf3daba21059e9
X-WR-RELCALID:294016-2da69939ed67427dc6bf3daba21059e9
ORGANIZER:Volleyball
SEQUENCE:261142147
SUMMARY:BL B Mä.: Polizei SV I - TSV Spandau III
CLASS:PUBLIC
DTSTART;VALUE=DATE:20050108
DTSTAMP:20140607T184800Z
DTEND;VALUE=DATE:20050109
END:VEVENT
BEGIN:VEVENT
UID:294008-2da69939ed67427dc6bf3daba21059e9
X-WR-RELCALID:294008-2da69939ed67427dc6bf3daba21059e9
ORGANIZER:Volleyball
SEQUENCE:261142147
SUMMARY:BL B Mä.: TSV Spandau III - SCC in Marzahn III
CLASS:PUBLIC
DTSTART;VALUE=DATE:20050122
DTSTAMP:20140607T184800Z
DTEND;VALUE=DATE:20050123
END:VEVENT
BEGIN:VEVENT
UID:294001-2da69939ed67427dc6bf3daba21059e9
X-WR-RELCALID:294001-2da69939ed67427dc6bf3daba21059e9
ORGANIZER:Volleyball
SEQUENCE:261142147
SUMMARY:BL B Mä.: TSV Spandau III - BSC Marzahn
CLASS:PUBLIC
DTSTART;VALUE=DATE:20050122
DTSTAMP:20140607T184800Z
DTEND;VALUE=DATE:20050123
END:VEVENT
BEGIN:VEVENT
UID:293985-2da69939ed67427dc6bf3daba21059e9
X-WR-RELCALID:293985-2da69939ed67427dc6bf3daba21059e9
ORGANIZER:Volleyball
SEQUENCE:261142147
SUMMARY:BL B Mä.: TSV Spandau III - DJK Westen I
CLASS:PUBLIC
DTSTART;VALUE=DATE:20050212
DTSTAMP:20140607T184800Z
DTEND;VALUE=DATE:20050213
END:VEVENT
BEGIN:VEVENT
UID:293984-2da69939ed67427dc6bf3daba21059e9
X-WR-RELCALID:293984-2da69939ed67427dc6bf3daba21059e9
ORGANIZER:Volleyball
SEQUENCE:261142147
SUMMARY:BL B Mä.: Friedenauer TSC I - TSV Spandau III
CLASS:PUBLIC
DTSTART;VALUE=DATE:20050212
DTSTAMP:20140607T184800Z
DTEND;VALUE=DATE:20050213
END:VEVENT
BEGIN:VEVENT
UID:293980-2da69939ed67427dc6bf3daba21059e9
X-WR-RELCALID:293980-2da69939ed67427dc6bf3daba21059e9
ORGANIZER:Volleyball
SEQUENCE:261142147
SUMMARY:BL B Mä.: Friedenauer TSC II - TSV Spandau III
CLASS:PUBLIC
DTSTART;VALUE=DATE:20050313
DTSTAMP:20140607T184800Z
DTEND;VALUE=DATE:20050314
END:VEVENT
BEGIN:VEVENT
UID:293978-2da69939ed67427dc6bf3daba21059e9
X-WR-RELCALID:293978-2da69939ed67427dc6bf3daba21059e9
ORGANIZER:Volleyball
SEQUENCE:261142147
SUMMARY:BL B Mä.: TSV Spandau III - SV Ludwig Renn
CLASS:PUBLIC
DTSTART;VALUE=DATE:20050313
DTSTAMP:20140607T184800Z
DTEND;VALUE=DATE:20050314
END:VEVENT
END:VCALENDAR