BEGIN:VCALENDAR
VERSION:2.0
PRODID:VSD-Portal-www.volley.de
METHOD:PUBLISH
BEGIN:VEVENT
UID:293837-2da69939ed67427dc6bf3daba21059e9
X-WR-RELCALID:293837-2da69939ed67427dc6bf3daba21059e9
ORGANIZER:Volleyball
SEQUENCE:261111628
SUMMARY:Ber.Liga Mä.: Füchse Berlin I - VC Rotation Mitte I
CLASS:PUBLIC
DTSTART;VALUE=DATE:20120915
DTSTAMP:20140607T184800Z
DTEND;VALUE=DATE:20120916
END:VEVENT
BEGIN:VEVENT
UID:293810-2da69939ed67427dc6bf3daba21059e9
X-WR-RELCALID:293810-2da69939ed67427dc6bf3daba21059e9
ORGANIZER:Volleyball
SEQUENCE:261111628
SUMMARY:Ber.Liga Mä.: Füchse Berlin I - DJK Westen II
CLASS:PUBLIC
DTSTART;VALUE=DATE:20120915
DTSTAMP:20140607T184800Z
DTEND;VALUE=DATE:20120916
END:VEVENT
BEGIN:VEVENT
UID:293834-2da69939ed67427dc6bf3daba21059e9
X-WR-RELCALID:293834-2da69939ed67427dc6bf3daba21059e9
ORGANIZER:Volleyball
SEQUENCE:261111628
SUMMARY:Ber.Liga Mä.: TSV Spandau I - Füchse Berlin I
CLASS:PUBLIC
DTSTART;VALUE=DATE:20120929
DTSTAMP:20140607T184800Z
DTEND;VALUE=DATE:20120930
END:VEVENT
BEGIN:VEVENT
UID:293833-2da69939ed67427dc6bf3daba21059e9
X-WR-RELCALID:293833-2da69939ed67427dc6bf3daba21059e9
ORGANIZER:Volleyball
SEQUENCE:261111628
SUMMARY:Ber.Liga Mä.: Füchse Berlin I - SG Rotation Prenzlauer Berg II
 
CLASS:PUBLIC
DTSTART;VALUE=DATE:20120929
DTSTAMP:20140607T184800Z
DTEND;VALUE=DATE:20120930
END:VEVENT
BEGIN:VEVENT
UID:293812-2da69939ed67427dc6bf3daba21059e9
X-WR-RELCALID:293812-2da69939ed67427dc6bf3daba21059e9
ORGANIZER:Volleyball
SEQUENCE:261111628
SUMMARY:Ber.Liga Mä.: Füchse Berlin I - TSV Rudow
CLASS:PUBLIC
DTSTART;VALUE=DATE:20121020
DTSTAMP:20140607T184800Z
DTEND;VALUE=DATE:20121021
END:VEVENT
BEGIN:VEVENT
UID:293814-2da69939ed67427dc6bf3daba21059e9
X-WR-RELCALID:293814-2da69939ed67427dc6bf3daba21059e9
ORGANIZER:Volleyball
SEQUENCE:261111628
SUMMARY:Ber.Liga Mä.: Füchse Berlin I - MTV Mariendorf I
CLASS:PUBLIC
DTSTART;VALUE=DATE:20121020
DTSTAMP:20140607T184800Z
DTEND;VALUE=DATE:20121021
END:VEVENT
BEGIN:VEVENT
UID:293807-2da69939ed67427dc6bf3daba21059e9
X-WR-RELCALID:293807-2da69939ed67427dc6bf3daba21059e9
ORGANIZER:Volleyball
SEQUENCE:261111628
SUMMARY:Ber.Liga Mä.: DJK Westen I - Füchse Berlin I
CLASS:PUBLIC
DTSTART;VALUE=DATE:20121103
DTSTAMP:20140607T184800Z
DTEND;VALUE=DATE:20121104
END:VEVENT
BEGIN:VEVENT
UID:293806-2da69939ed67427dc6bf3daba21059e9
X-WR-RELCALID:293806-2da69939ed67427dc6bf3daba21059e9
ORGANIZER:Volleyball
SEQUENCE:261111628
SUMMARY:Ber.Liga Mä.: TSV Spandau I - Füchse Berlin I
CLASS:PUBLIC
DTSTART;VALUE=DATE:20121103
DTSTAMP:20140607T184800Z
DTEND;VALUE=DATE:20121104
END:VEVENT
BEGIN:VEVENT
UID:293793-2da69939ed67427dc6bf3daba21059e9
X-WR-RELCALID:293793-2da69939ed67427dc6bf3daba21059e9
ORGANIZER:Volleyball
SEQUENCE:261111628
SUMMARY:Ber.Liga Mä.: Füchse Berlin I - TuS Hohenschönhausen
CLASS:PUBLIC
DTSTART;VALUE=DATE:20121117
DTSTAMP:20140607T184800Z
DTEND;VALUE=DATE:20121118
END:VEVENT
BEGIN:VEVENT
UID:293791-2da69939ed67427dc6bf3daba21059e9
X-WR-RELCALID:293791-2da69939ed67427dc6bf3daba21059e9
ORGANIZER:Volleyball
SEQUENCE:261111628
SUMMARY:Ber.Liga Mä.: SV Preußen I - Füchse Berlin I
CLASS:PUBLIC
DTSTART;VALUE=DATE:20121117
DTSTAMP:20140607T184800Z
DTEND;VALUE=DATE:20121118
END:VEVENT
BEGIN:VEVENT
UID:293783-2da69939ed67427dc6bf3daba21059e9
X-WR-RELCALID:293783-2da69939ed67427dc6bf3daba21059e9
ORGANIZER:Volleyball
SEQUENCE:261111628
SUMMARY:Ber.Liga Mä.: DJK Westen I - Füchse Berlin I
CLASS:PUBLIC
DTSTART;VALUE=DATE:20121201
DTSTAMP:20140607T184800Z
DTEND;VALUE=DATE:20121202
END:VEVENT
BEGIN:VEVENT
UID:293782-2da69939ed67427dc6bf3daba21059e9
X-WR-RELCALID:293782-2da69939ed67427dc6bf3daba21059e9
ORGANIZER:Volleyball
SEQUENCE:261111628
SUMMARY:Ber.Liga Mä.: Füchse Berlin I - BV Vorwärts II
CLASS:PUBLIC
DTSTART;VALUE=DATE:20121201
DTSTAMP:20140607T184800Z
DTEND;VALUE=DATE:20121202
END:VEVENT
BEGIN:VEVENT
UID:293769-2da69939ed67427dc6bf3daba21059e9
X-WR-RELCALID:293769-2da69939ed67427dc6bf3daba21059e9
ORGANIZER:Volleyball
SEQUENCE:261111628
SUMMARY:Ber.Liga Mä.: DJK Westen II - Füchse Berlin I
CLASS:PUBLIC
DTSTART;VALUE=DATE:20121215
DTSTAMP:20140607T184800Z
DTEND;VALUE=DATE:20121216
END:VEVENT
BEGIN:VEVENT
UID:293766-2da69939ed67427dc6bf3daba21059e9
X-WR-RELCALID:293766-2da69939ed67427dc6bf3daba21059e9
ORGANIZER:Volleyball
SEQUENCE:261111628
SUMMARY:Ber.Liga Mä.: SG Rotation Prenzlauer Berg II - Füchse Berlin I
 
CLASS:PUBLIC
DTSTART;VALUE=DATE:20121215
DTSTAMP:20140607T184800Z
DTEND;VALUE=DATE:20121216
END:VEVENT
BEGIN:VEVENT
UID:293752-2da69939ed67427dc6bf3daba21059e9
X-WR-RELCALID:293752-2da69939ed67427dc6bf3daba21059e9
ORGANIZER:Volleyball
SEQUENCE:261111628
SUMMARY:Ber.Liga Mä.: Füchse Berlin I - VC Rotation Mitte I
CLASS:PUBLIC
DTSTART;VALUE=DATE:20130119
DTSTAMP:20140607T184800Z
DTEND;VALUE=DATE:20130120
END:VEVENT
BEGIN:VEVENT
UID:293751-2da69939ed67427dc6bf3daba21059e9
X-WR-RELCALID:293751-2da69939ed67427dc6bf3daba21059e9
ORGANIZER:Volleyball
SEQUENCE:261111628
SUMMARY:Ber.Liga Mä.: Füchse Berlin I - BV Vorwärts II
CLASS:PUBLIC
DTSTART;VALUE=DATE:20130119
DTSTAMP:20140607T184800Z
DTEND;VALUE=DATE:20130120
END:VEVENT
BEGIN:VEVENT
UID:293747-2da69939ed67427dc6bf3daba21059e9
X-WR-RELCALID:293747-2da69939ed67427dc6bf3daba21059e9
ORGANIZER:Volleyball
SEQUENCE:261111628
SUMMARY:Ber.Liga Mä.: TuS Hohenschönhausen - Füchse Berlin I
CLASS:PUBLIC
DTSTART;VALUE=DATE:20130202
DTSTAMP:20140607T184800Z
DTEND;VALUE=DATE:20130203
END:VEVENT
BEGIN:VEVENT
UID:293746-2da69939ed67427dc6bf3daba21059e9
X-WR-RELCALID:293746-2da69939ed67427dc6bf3daba21059e9
ORGANIZER:Volleyball
SEQUENCE:261111628
SUMMARY:Ber.Liga Mä.: Berliner TSC I - Füchse Berlin I
CLASS:PUBLIC
DTSTART;VALUE=DATE:20130202
DTSTAMP:20140607T184800Z
DTEND;VALUE=DATE:20130203
END:VEVENT
BEGIN:VEVENT
UID:293726-2da69939ed67427dc6bf3daba21059e9
X-WR-RELCALID:293726-2da69939ed67427dc6bf3daba21059e9
ORGANIZER:Volleyball
SEQUENCE:261111628
SUMMARY:Ber.Liga Mä.: Füchse Berlin I - TSV Rudow
CLASS:PUBLIC
DTSTART;VALUE=DATE:20130223
DTSTAMP:20140607T184800Z
DTEND;VALUE=DATE:20130224
END:VEVENT
BEGIN:VEVENT
UID:293727-2da69939ed67427dc6bf3daba21059e9
X-WR-RELCALID:293727-2da69939ed67427dc6bf3daba21059e9
ORGANIZER:Volleyball
SEQUENCE:261111628
SUMMARY:Ber.Liga Mä.: Füchse Berlin I - MTV Mariendorf I
CLASS:PUBLIC
DTSTART;VALUE=DATE:20130223
DTSTAMP:20140607T184800Z
DTEND;VALUE=DATE:20130224
END:VEVENT
BEGIN:VEVENT
UID:293720-2da69939ed67427dc6bf3daba21059e9
X-WR-RELCALID:293720-2da69939ed67427dc6bf3daba21059e9
ORGANIZER:Volleyball
SEQUENCE:261111628
SUMMARY:Ber.Liga Mä.: Berliner TSC I - Füchse Berlin I
CLASS:PUBLIC
DTSTART;VALUE=DATE:20130316
DTSTAMP:20140607T184800Z
DTEND;VALUE=DATE:20130317
END:VEVENT
BEGIN:VEVENT
UID:293715-2da69939ed67427dc6bf3daba21059e9
X-WR-RELCALID:293715-2da69939ed67427dc6bf3daba21059e9
ORGANIZER:Volleyball
SEQUENCE:261111628
SUMMARY:Ber.Liga Mä.: Füchse Berlin I - SV Preußen I
CLASS:PUBLIC
DTSTART;VALUE=DATE:20130316
DTSTAMP:20140607T184800Z
DTEND;VALUE=DATE:20130317
END:VEVENT
END:VCALENDAR