BEGIN:VCALENDAR
VERSION:2.0
PRODID:VSD-Portal-www.volley.de
METHOD:PUBLISH
BEGIN:VEVENT
UID:293841-2da69939ed67427dc6bf3daba21059e9
X-WR-RELCALID:293841-2da69939ed67427dc6bf3daba21059e9
ORGANIZER:Volleyball
SEQUENCE:261120930
SUMMARY:Ber.Liga Mä.: MTV Mariendorf I - SG Rotation Prenzlauer Berg I
 I
CLASS:PUBLIC
DTSTART;VALUE=DATE:20120915
DTSTAMP:20140607T184800Z
DTEND;VALUE=DATE:20120916
END:VEVENT
BEGIN:VEVENT
UID:293839-2da69939ed67427dc6bf3daba21059e9
X-WR-RELCALID:293839-2da69939ed67427dc6bf3daba21059e9
ORGANIZER:Volleyball
SEQUENCE:261120930
SUMMARY:Ber.Liga Mä.: MTV Mariendorf I - TuS Hohenschönhausen
CLASS:PUBLIC
DTSTART;VALUE=DATE:20120915
DTSTAMP:20140607T184800Z
DTEND;VALUE=DATE:20120916
END:VEVENT
BEGIN:VEVENT
UID:293832-2da69939ed67427dc6bf3daba21059e9
X-WR-RELCALID:293832-2da69939ed67427dc6bf3daba21059e9
ORGANIZER:Volleyball
SEQUENCE:261120930
SUMMARY:Ber.Liga Mä.: DJK Westen I - MTV Mariendorf I
CLASS:PUBLIC
DTSTART;VALUE=DATE:20120929
DTSTAMP:20140607T184800Z
DTEND;VALUE=DATE:20120930
END:VEVENT
BEGIN:VEVENT
UID:293824-2da69939ed67427dc6bf3daba21059e9
X-WR-RELCALID:293824-2da69939ed67427dc6bf3daba21059e9
ORGANIZER:Volleyball
SEQUENCE:261120930
SUMMARY:Ber.Liga Mä.: MTV Mariendorf I - SV Preußen I
CLASS:PUBLIC
DTSTART;VALUE=DATE:20120929
DTSTAMP:20140607T184800Z
DTEND;VALUE=DATE:20120930
END:VEVENT
BEGIN:VEVENT
UID:293813-2da69939ed67427dc6bf3daba21059e9
X-WR-RELCALID:293813-2da69939ed67427dc6bf3daba21059e9
ORGANIZER:Volleyball
SEQUENCE:261120930
SUMMARY:Ber.Liga Mä.: TSV Rudow - MTV Mariendorf I
CLASS:PUBLIC
DTSTART;VALUE=DATE:20121020
DTSTAMP:20140607T184800Z
DTEND;VALUE=DATE:20121021
END:VEVENT
BEGIN:VEVENT
UID:293814-2da69939ed67427dc6bf3daba21059e9
X-WR-RELCALID:293814-2da69939ed67427dc6bf3daba21059e9
ORGANIZER:Volleyball
SEQUENCE:261120930
SUMMARY:Ber.Liga Mä.: Füchse Berlin I - MTV Mariendorf I
CLASS:PUBLIC
DTSTART;VALUE=DATE:20121020
DTSTAMP:20140607T184800Z
DTEND;VALUE=DATE:20121021
END:VEVENT
BEGIN:VEVENT
UID:293801-2da69939ed67427dc6bf3daba21059e9
X-WR-RELCALID:293801-2da69939ed67427dc6bf3daba21059e9
ORGANIZER:Volleyball
SEQUENCE:261120930
SUMMARY:Ber.Liga Mä.: SG Rotation Prenzlauer Berg II - MTV Mariendorf 
 I
CLASS:PUBLIC
DTSTART;VALUE=DATE:20121103
DTSTAMP:20140607T184800Z
DTEND;VALUE=DATE:20121104
END:VEVENT
BEGIN:VEVENT
UID:293799-2da69939ed67427dc6bf3daba21059e9
X-WR-RELCALID:293799-2da69939ed67427dc6bf3daba21059e9
ORGANIZER:Volleyball
SEQUENCE:261120930
SUMMARY:Ber.Liga Mä.: SV Preußen I - MTV Mariendorf I
CLASS:PUBLIC
DTSTART;VALUE=DATE:20121103
DTSTAMP:20140607T184800Z
DTEND;VALUE=DATE:20121104
END:VEVENT
BEGIN:VEVENT
UID:293796-2da69939ed67427dc6bf3daba21059e9
X-WR-RELCALID:293796-2da69939ed67427dc6bf3daba21059e9
ORGANIZER:Volleyball
SEQUENCE:261120930
SUMMARY:Ber.Liga Mä.: DJK Westen II - MTV Mariendorf I
CLASS:PUBLIC
DTSTART;VALUE=DATE:20121117
DTSTAMP:20140607T184800Z
DTEND;VALUE=DATE:20121118
END:VEVENT
BEGIN:VEVENT
UID:293795-2da69939ed67427dc6bf3daba21059e9
X-WR-RELCALID:293795-2da69939ed67427dc6bf3daba21059e9
ORGANIZER:Volleyball
SEQUENCE:261120930
SUMMARY:Ber.Liga Mä.: MTV Mariendorf I - TSV Spandau I
CLASS:PUBLIC
DTSTART;VALUE=DATE:20121117
DTSTAMP:20140607T184800Z
DTEND;VALUE=DATE:20121118
END:VEVENT
BEGIN:VEVENT
UID:293779-2da69939ed67427dc6bf3daba21059e9
X-WR-RELCALID:293779-2da69939ed67427dc6bf3daba21059e9
ORGANIZER:Volleyball
SEQUENCE:261120930
SUMMARY:Ber.Liga Mä.: MTV Mariendorf I - VC Rotation Mitte I
CLASS:PUBLIC
DTSTART;VALUE=DATE:20121201
DTSTAMP:20140607T184800Z
DTEND;VALUE=DATE:20121202
END:VEVENT
BEGIN:VEVENT
UID:293778-2da69939ed67427dc6bf3daba21059e9
X-WR-RELCALID:293778-2da69939ed67427dc6bf3daba21059e9
ORGANIZER:Volleyball
SEQUENCE:261120930
SUMMARY:Ber.Liga Mä.: MTV Mariendorf I - Berliner TSC I
CLASS:PUBLIC
DTSTART;VALUE=DATE:20121201
DTSTAMP:20140607T184800Z
DTEND;VALUE=DATE:20121202
END:VEVENT
BEGIN:VEVENT
UID:293762-2da69939ed67427dc6bf3daba21059e9
X-WR-RELCALID:293762-2da69939ed67427dc6bf3daba21059e9
ORGANIZER:Volleyball
SEQUENCE:261120930
SUMMARY:Ber.Liga Mä.: VC Rotation Mitte I - MTV Mariendorf I
CLASS:PUBLIC
DTSTART;VALUE=DATE:20121215
DTSTAMP:20140607T184800Z
DTEND;VALUE=DATE:20121216
END:VEVENT
BEGIN:VEVENT
UID:293764-2da69939ed67427dc6bf3daba21059e9
X-WR-RELCALID:293764-2da69939ed67427dc6bf3daba21059e9
ORGANIZER:Volleyball
SEQUENCE:261120930
SUMMARY:Ber.Liga Mä.: MTV Mariendorf I - TuS Hohenschönhausen
CLASS:PUBLIC
DTSTART;VALUE=DATE:20121215
DTSTAMP:20140607T184800Z
DTEND;VALUE=DATE:20121216
END:VEVENT
BEGIN:VEVENT
UID:293757-2da69939ed67427dc6bf3daba21059e9
X-WR-RELCALID:293757-2da69939ed67427dc6bf3daba21059e9
ORGANIZER:Volleyball
SEQUENCE:261120930
SUMMARY:Ber.Liga Mä.: MTV Mariendorf I - DJK Westen I
CLASS:PUBLIC
DTSTART;VALUE=DATE:20130119
DTSTAMP:20140607T184800Z
DTEND;VALUE=DATE:20130120
END:VEVENT
BEGIN:VEVENT
UID:293756-2da69939ed67427dc6bf3daba21059e9
X-WR-RELCALID:293756-2da69939ed67427dc6bf3daba21059e9
ORGANIZER:Volleyball
SEQUENCE:261120930
SUMMARY:Ber.Liga Mä.: MTV Mariendorf I - Berliner TSC I
CLASS:PUBLIC
DTSTART;VALUE=DATE:20130119
DTSTAMP:20140607T184800Z
DTEND;VALUE=DATE:20130120
END:VEVENT
BEGIN:VEVENT
UID:293744-2da69939ed67427dc6bf3daba21059e9
X-WR-RELCALID:293744-2da69939ed67427dc6bf3daba21059e9
ORGANIZER:Volleyball
SEQUENCE:261120930
SUMMARY:Ber.Liga Mä.: DJK Westen II - MTV Mariendorf I
CLASS:PUBLIC
DTSTART;VALUE=DATE:20130202
DTSTAMP:20140607T184800Z
DTEND;VALUE=DATE:20130203
END:VEVENT
BEGIN:VEVENT
UID:293739-2da69939ed67427dc6bf3daba21059e9
X-WR-RELCALID:293739-2da69939ed67427dc6bf3daba21059e9
ORGANIZER:Volleyball
SEQUENCE:261120930
SUMMARY:Ber.Liga Mä.: BV Vorwärts II - MTV Mariendorf I
CLASS:PUBLIC
DTSTART;VALUE=DATE:20130202
DTSTAMP:20140607T184800Z
DTEND;VALUE=DATE:20130203
END:VEVENT
BEGIN:VEVENT
UID:293727-2da69939ed67427dc6bf3daba21059e9
X-WR-RELCALID:293727-2da69939ed67427dc6bf3daba21059e9
ORGANIZER:Volleyball
SEQUENCE:261120930
SUMMARY:Ber.Liga Mä.: Füchse Berlin I - MTV Mariendorf I
CLASS:PUBLIC
DTSTART;VALUE=DATE:20130223
DTSTAMP:20140607T184800Z
DTEND;VALUE=DATE:20130224
END:VEVENT
BEGIN:VEVENT
UID:293725-2da69939ed67427dc6bf3daba21059e9
X-WR-RELCALID:293725-2da69939ed67427dc6bf3daba21059e9
ORGANIZER:Volleyball
SEQUENCE:261120930
SUMMARY:Ber.Liga Mä.: TSV Rudow - MTV Mariendorf I
CLASS:PUBLIC
DTSTART;VALUE=DATE:20130223
DTSTAMP:20140607T184800Z
DTEND;VALUE=DATE:20130224
END:VEVENT
BEGIN:VEVENT
UID:293724-2da69939ed67427dc6bf3daba21059e9
X-WR-RELCALID:293724-2da69939ed67427dc6bf3daba21059e9
ORGANIZER:Volleyball
SEQUENCE:261120930
SUMMARY:Ber.Liga Mä.: MTV Mariendorf I - BV Vorwärts II
CLASS:PUBLIC
DTSTART;VALUE=DATE:20130316
DTSTAMP:20140607T184800Z
DTEND;VALUE=DATE:20130317
END:VEVENT
BEGIN:VEVENT
UID:293723-2da69939ed67427dc6bf3daba21059e9
X-WR-RELCALID:293723-2da69939ed67427dc6bf3daba21059e9
ORGANIZER:Volleyball
SEQUENCE:261120930
SUMMARY:Ber.Liga Mä.: MTV Mariendorf I - TSV Spandau I
CLASS:PUBLIC
DTSTART;VALUE=DATE:20130316
DTSTAMP:20140607T184800Z
DTEND;VALUE=DATE:20130317
END:VEVENT
END:VCALENDAR