BEGIN:VCALENDAR
VERSION:2.0
PRODID:VSD-Portal-www.volley.de
METHOD:PUBLISH
BEGIN:VEVENT
UID:273085-2da69939ed67427dc6bf3daba21059e9
X-WR-RELCALID:273085-2da69939ed67427dc6bf3daba21059e9
ORGANIZER:Volleyball
SEQUENCE:261102309
SUMMARY:BKl Nord Fr.: SV Warnemünde 4 - SV Warnemünde 3
CLASS:PUBLIC
DTSTART:20080921T080500Z
DTSTAMP:20140607T184800Z
END:VEVENT
BEGIN:VEVENT
UID:273083-2da69939ed67427dc6bf3daba21059e9
X-WR-RELCALID:273083-2da69939ed67427dc6bf3daba21059e9
ORGANIZER:Volleyball
SEQUENCE:261102309
SUMMARY:BKl Nord Fr.: MSV Malchow 90 - SV Warnow 90 Rostock 3
CLASS:PUBLIC
DTSTART:20080921T083400Z
DTSTAMP:20140607T184800Z
END:VEVENT
BEGIN:VEVENT
UID:273082-2da69939ed67427dc6bf3daba21059e9
X-WR-RELCALID:273082-2da69939ed67427dc6bf3daba21059e9
ORGANIZER:Volleyball
SEQUENCE:261102309
SUMMARY:BKl Nord Fr.: MSV Malchow 90 - SV Warnemünde 4
CLASS:PUBLIC
DTSTART:20080921T101300Z
DTSTAMP:20140607T184800Z
END:VEVENT
BEGIN:VEVENT
UID:273077-2da69939ed67427dc6bf3daba21059e9
X-WR-RELCALID:273077-2da69939ed67427dc6bf3daba21059e9
ORGANIZER:Volleyball
SEQUENCE:261102309
SUMMARY:BKl Nord Fr.: SV 47 Rövershagen - SV Warnow 90 Rostock 3
CLASS:PUBLIC
DTSTART:20080921T102700Z
DTSTAMP:20140607T184800Z
END:VEVENT
BEGIN:VEVENT
UID:273078-2da69939ed67427dc6bf3daba21059e9
X-WR-RELCALID:273078-2da69939ed67427dc6bf3daba21059e9
ORGANIZER:Volleyball
SEQUENCE:261102309
SUMMARY:BKl Nord Fr.: SV 47 Rövershagen - SV Warnemünde 3
CLASS:PUBLIC
DTSTART:20080921T115500Z
DTSTAMP:20140607T184800Z
END:VEVENT
BEGIN:VEVENT
UID:273081-2da69939ed67427dc6bf3daba21059e9
X-WR-RELCALID:273081-2da69939ed67427dc6bf3daba21059e9
ORGANIZER:Volleyball
SEQUENCE:261102309
SUMMARY:BKl Nord Fr.: MSV Malchow 90 - SV 47 Rövershagen
CLASS:PUBLIC
DTSTART:20081019T080000Z
DTSTAMP:20140607T184800Z
END:VEVENT
BEGIN:VEVENT
UID:273080-2da69939ed67427dc6bf3daba21059e9
X-WR-RELCALID:273080-2da69939ed67427dc6bf3daba21059e9
ORGANIZER:Volleyball
SEQUENCE:261102309
SUMMARY:BKl Nord Fr.: SV 47 Rövershagen - SV Warnemünde 3
CLASS:PUBLIC
DTSTART:20081019T093000Z
DTSTAMP:20140607T184800Z
END:VEVENT
BEGIN:VEVENT
UID:273079-2da69939ed67427dc6bf3daba21059e9
X-WR-RELCALID:273079-2da69939ed67427dc6bf3daba21059e9
ORGANIZER:Volleyball
SEQUENCE:261102309
SUMMARY:BKl Nord Fr.: MSV Malchow 90 - SV Warnemünde 3
CLASS:PUBLIC
DTSTART:20081019T110000Z
DTSTAMP:20140607T184800Z
END:VEVENT
BEGIN:VEVENT
UID:273066-2da69939ed67427dc6bf3daba21059e9
X-WR-RELCALID:273066-2da69939ed67427dc6bf3daba21059e9
ORGANIZER:Volleyball
SEQUENCE:261102309
SUMMARY:BKl Nord Fr.: SV Warnow 90 Rostock 3 - SV Warnemünde 4
CLASS:PUBLIC
DTSTART:20081108T090000Z
DTSTAMP:20140607T184800Z
END:VEVENT
BEGIN:VEVENT
UID:273076-2da69939ed67427dc6bf3daba21059e9
X-WR-RELCALID:273076-2da69939ed67427dc6bf3daba21059e9
ORGANIZER:Volleyball
SEQUENCE:261102309
SUMMARY:BKl Nord Fr.: SV Warnemünde 4 - SV 47 Rövershagen
CLASS:PUBLIC
DTSTART:20081120T164000Z
DTSTAMP:20140607T184800Z
END:VEVENT
BEGIN:VEVENT
UID:273074-2da69939ed67427dc6bf3daba21059e9
X-WR-RELCALID:273074-2da69939ed67427dc6bf3daba21059e9
ORGANIZER:Volleyball
SEQUENCE:261102309
SUMMARY:BKl Nord Fr.: SV Warnow 90 Rostock 3 - SV 47 Rövershagen
CLASS:PUBLIC
DTSTART:20081120T175000Z
DTSTAMP:20140607T184800Z
END:VEVENT
BEGIN:VEVENT
UID:273075-2da69939ed67427dc6bf3daba21059e9
X-WR-RELCALID:273075-2da69939ed67427dc6bf3daba21059e9
ORGANIZER:Volleyball
SEQUENCE:261102309
SUMMARY:BKl Nord Fr.: SV Warnemünde 3 - SV Warnow 90 Rostock 3
CLASS:PUBLIC
DTSTART:20081207T091000Z
DTSTAMP:20140607T184800Z
END:VEVENT
BEGIN:VEVENT
UID:273071-2da69939ed67427dc6bf3daba21059e9
X-WR-RELCALID:273071-2da69939ed67427dc6bf3daba21059e9
ORGANIZER:Volleyball
SEQUENCE:261102309
SUMMARY:BKl Nord Fr.: SV Warnow 90 Rostock 3 - MSV Malchow 90
CLASS:PUBLIC
DTSTART:20081207T103000Z
DTSTAMP:20140607T184800Z
END:VEVENT
BEGIN:VEVENT
UID:273070-2da69939ed67427dc6bf3daba21059e9
X-WR-RELCALID:273070-2da69939ed67427dc6bf3daba21059e9
ORGANIZER:Volleyball
SEQUENCE:261102309
SUMMARY:BKl Nord Fr.: SV Warnemünde 4 - SV 47 Rövershagen
CLASS:PUBLIC
DTSTART:20081207T104500Z
DTSTAMP:20140607T184800Z
END:VEVENT
BEGIN:VEVENT
UID:273072-2da69939ed67427dc6bf3daba21059e9
X-WR-RELCALID:273072-2da69939ed67427dc6bf3daba21059e9
ORGANIZER:Volleyball
SEQUENCE:261102309
SUMMARY:BKl Nord Fr.: SV Warnemünde 3 - SV Warnemünde 4
CLASS:PUBLIC
DTSTART:20081207T113300Z
DTSTAMP:20140607T184800Z
END:VEVENT
BEGIN:VEVENT
UID:273069-2da69939ed67427dc6bf3daba21059e9
X-WR-RELCALID:273069-2da69939ed67427dc6bf3daba21059e9
ORGANIZER:Volleyball
SEQUENCE:261102309
SUMMARY:BKl Nord Fr.: SV 47 Rövershagen - MSV Malchow 90
CLASS:PUBLIC
DTSTART:20081207T120000Z
DTSTAMP:20140607T184800Z
END:VEVENT
BEGIN:VEVENT
UID:273068-2da69939ed67427dc6bf3daba21059e9
X-WR-RELCALID:273068-2da69939ed67427dc6bf3daba21059e9
ORGANIZER:Volleyball
SEQUENCE:261102309
SUMMARY:BKl Nord Fr.: SV Warnemünde 4 - SV Warnemünde 3
CLASS:PUBLIC
DTSTART:20090117T090000Z
DTSTAMP:20140607T184800Z
END:VEVENT
BEGIN:VEVENT
UID:273067-2da69939ed67427dc6bf3daba21059e9
X-WR-RELCALID:273067-2da69939ed67427dc6bf3daba21059e9
ORGANIZER:Volleyball
SEQUENCE:261102309
SUMMARY:BKl Nord Fr.: SV Warnemünde 3 - SV Warnow 90 Rostock 3
CLASS:PUBLIC
DTSTART:20090117T105000Z
DTSTAMP:20140607T184800Z
END:VEVENT
BEGIN:VEVENT
UID:273073-2da69939ed67427dc6bf3daba21059e9
X-WR-RELCALID:273073-2da69939ed67427dc6bf3daba21059e9
ORGANIZER:Volleyball
SEQUENCE:261102309
SUMMARY:BKl Nord Fr.: SV Warnemünde 4 - SV Warnow 90 Rostock 3
CLASS:PUBLIC
DTSTART:20090117T122800Z
DTSTAMP:20140607T184800Z
END:VEVENT
BEGIN:VEVENT
UID:273065-2da69939ed67427dc6bf3daba21059e9
X-WR-RELCALID:273065-2da69939ed67427dc6bf3daba21059e9
ORGANIZER:Volleyball
SEQUENCE:261102309
SUMMARY:BKl Nord Fr.: SV 47 Rövershagen - MSV Malchow 90
CLASS:PUBLIC
DTSTART:20090131T090000Z
DTSTAMP:20140607T184800Z
END:VEVENT
BEGIN:VEVENT
UID:273064-2da69939ed67427dc6bf3daba21059e9
X-WR-RELCALID:273064-2da69939ed67427dc6bf3daba21059e9
ORGANIZER:Volleyball
SEQUENCE:261102309
SUMMARY:BKl Nord Fr.: SV 47 Rövershagen - SV Warnemünde 3
CLASS:PUBLIC
DTSTART:20090131T103000Z
DTSTAMP:20140607T184800Z
END:VEVENT
BEGIN:VEVENT
UID:273056-2da69939ed67427dc6bf3daba21059e9
X-WR-RELCALID:273056-2da69939ed67427dc6bf3daba21059e9
ORGANIZER:Volleyball
SEQUENCE:261102309
SUMMARY:BKl Nord Fr.: MSV Malchow 90 - SV Warnemünde 4
CLASS:PUBLIC
DTSTART:20090308T090000Z
DTSTAMP:20140607T184800Z
END:VEVENT
BEGIN:VEVENT
UID:273057-2da69939ed67427dc6bf3daba21059e9
X-WR-RELCALID:273057-2da69939ed67427dc6bf3daba21059e9
ORGANIZER:Volleyball
SEQUENCE:261102309
SUMMARY:BKl Nord Fr.: SV Warnemünde 4 - SV Warnow 90 Rostock 3
CLASS:PUBLIC
DTSTART:20090308T105000Z
DTSTAMP:20140607T184800Z
END:VEVENT
BEGIN:VEVENT
UID:273063-2da69939ed67427dc6bf3daba21059e9
X-WR-RELCALID:273063-2da69939ed67427dc6bf3daba21059e9
ORGANIZER:Volleyball
SEQUENCE:261102309
SUMMARY:BKl Nord Fr.: MSV Malchow 90 - SV Warnemünde 3
CLASS:PUBLIC
DTSTART:20090308T125000Z
DTSTAMP:20140607T184800Z
END:VEVENT
BEGIN:VEVENT
UID:273058-2da69939ed67427dc6bf3daba21059e9
X-WR-RELCALID:273058-2da69939ed67427dc6bf3daba21059e9
ORGANIZER:Volleyball
SEQUENCE:261102309
SUMMARY:BKl Nord Fr.: MSV Malchow 90 - SV Warnow 90 Rostock 3
CLASS:PUBLIC
DTSTART:20090308T144000Z
DTSTAMP:20140607T184800Z
END:VEVENT
BEGIN:VEVENT
UID:273059-2da69939ed67427dc6bf3daba21059e9
X-WR-RELCALID:273059-2da69939ed67427dc6bf3daba21059e9
ORGANIZER:Volleyball
SEQUENCE:261102309
SUMMARY:BKl Nord Fr.: SV Warnow 90 Rostock 3 - SV 47 Rövershagen
CLASS:PUBLIC
DTSTART:20090322T090000Z
DTSTAMP:20140607T184800Z
END:VEVENT
BEGIN:VEVENT
UID:273060-2da69939ed67427dc6bf3daba21059e9
X-WR-RELCALID:273060-2da69939ed67427dc6bf3daba21059e9
ORGANIZER:Volleyball
SEQUENCE:261102309
SUMMARY:BKl Nord Fr.: MSV Malchow 90 - SV Warnemünde 3
CLASS:PUBLIC
DTSTART:20090322T090000Z
DTSTAMP:20140607T184800Z
END:VEVENT
BEGIN:VEVENT
UID:273061-2da69939ed67427dc6bf3daba21059e9
X-WR-RELCALID:273061-2da69939ed67427dc6bf3daba21059e9
ORGANIZER:Volleyball
SEQUENCE:261102309
SUMMARY:BKl Nord Fr.: SV Warnemünde 4 - SV 47 Rövershagen
CLASS:PUBLIC
DTSTART:20090322T103000Z
DTSTAMP:20140607T184800Z
END:VEVENT
BEGIN:VEVENT
UID:273062-2da69939ed67427dc6bf3daba21059e9
X-WR-RELCALID:273062-2da69939ed67427dc6bf3daba21059e9
ORGANIZER:Volleyball
SEQUENCE:261102309
SUMMARY:BKl Nord Fr.: SV Warnow 90 Rostock 3 - SV Warnemünde 3
CLASS:PUBLIC
DTSTART:20090322T103000Z
DTSTAMP:20140607T184800Z
END:VEVENT
BEGIN:VEVENT
UID:273084-2da69939ed67427dc6bf3daba21059e9
X-WR-RELCALID:273084-2da69939ed67427dc6bf3daba21059e9
ORGANIZER:Volleyball
SEQUENCE:261102309
SUMMARY:BKl Nord Fr.: MSV Malchow 90 - SV Warnemünde 4
CLASS:PUBLIC
DTSTART:20090322T120000Z
DTSTAMP:20140607T184800Z
END:VEVENT
END:VCALENDAR