BEGIN:VCALENDAR
VERSION:2.0
PRODID:VSD-Portal-www.volley.de
METHOD:PUBLISH
BEGIN:VEVENT
UID:272155-2da69939ed67427dc6bf3daba21059e9
X-WR-RELCALID:272155-2da69939ed67427dc6bf3daba21059e9
ORGANIZER:Volleyball
SEQUENCE:261101447
SUMMARY:OL Fr.: 1. VSV Jena 90 I - VfB Bischofferode I
CLASS:PUBLIC
DTSTART;VALUE=DATE:20120922
DTSTAMP:20140607T184800Z
DTEND;VALUE=DATE:20120923
END:VEVENT
BEGIN:VEVENT
UID:272119-2da69939ed67427dc6bf3daba21059e9
X-WR-RELCALID:272119-2da69939ed67427dc6bf3daba21059e9
ORGANIZER:Volleyball
SEQUENCE:261101447
SUMMARY:OL Fr.: VfB Bischofferode I - Kölledaer SV 90
CLASS:PUBLIC
DTSTART;VALUE=DATE:20121006
DTSTAMP:20140607T184800Z
DTEND;VALUE=DATE:20121007
END:VEVENT
BEGIN:VEVENT
UID:272120-2da69939ed67427dc6bf3daba21059e9
X-WR-RELCALID:272120-2da69939ed67427dc6bf3daba21059e9
ORGANIZER:Volleyball
SEQUENCE:261101447
SUMMARY:OL Fr.: VfB Bischofferode I - BSG Einheit Sömmerda I
CLASS:PUBLIC
DTSTART;VALUE=DATE:20121006
DTSTAMP:20140607T184800Z
DTEND;VALUE=DATE:20121007
END:VEVENT
BEGIN:VEVENT
UID:272141-2da69939ed67427dc6bf3daba21059e9
X-WR-RELCALID:272141-2da69939ed67427dc6bf3daba21059e9
ORGANIZER:Volleyball
SEQUENCE:261101447
SUMMARY:OL Fr.: USV Jena II - VfB Bischofferode I
CLASS:PUBLIC
DTSTART;VALUE=DATE:20121020
DTSTAMP:20140607T184800Z
DTEND;VALUE=DATE:20121021
END:VEVENT
BEGIN:VEVENT
UID:272183-2da69939ed67427dc6bf3daba21059e9
X-WR-RELCALID:272183-2da69939ed67427dc6bf3daba21059e9
ORGANIZER:Volleyball
SEQUENCE:261101447
SUMMARY:OL Fr.: SVC Nordhausen - VfB Bischofferode I
CLASS:PUBLIC
DTSTART;VALUE=DATE:20121020
DTSTAMP:20140607T184800Z
DTEND;VALUE=DATE:20121021
END:VEVENT
BEGIN:VEVENT
UID:272175-2da69939ed67427dc6bf3daba21059e9
X-WR-RELCALID:272175-2da69939ed67427dc6bf3daba21059e9
ORGANIZER:Volleyball
SEQUENCE:261101447
SUMMARY:OL Fr.: SV 1860 Oberweißbach I - VfB Bischofferode I
CLASS:PUBLIC
DTSTART;VALUE=DATE:20121110
DTSTAMP:20140607T184800Z
DTEND;VALUE=DATE:20121111
END:VEVENT
BEGIN:VEVENT
UID:272174-2da69939ed67427dc6bf3daba21059e9
X-WR-RELCALID:272174-2da69939ed67427dc6bf3daba21059e9
ORGANIZER:Volleyball
SEQUENCE:261101447
SUMMARY:OL Fr.: SV Fortuna Pößneck - VfB Bischofferode I
CLASS:PUBLIC
DTSTART;VALUE=DATE:20121110
DTSTAMP:20140607T184800Z
DTEND;VALUE=DATE:20121111
END:VEVENT
BEGIN:VEVENT
UID:272169-2da69939ed67427dc6bf3daba21059e9
X-WR-RELCALID:272169-2da69939ed67427dc6bf3daba21059e9
ORGANIZER:Volleyball
SEQUENCE:261101447
SUMMARY:OL Fr.: SV TU Ilmenau I - VfB Bischofferode I
CLASS:PUBLIC
DTSTART;VALUE=DATE:20121124
DTSTAMP:20140607T184800Z
DTEND;VALUE=DATE:20121125
END:VEVENT
BEGIN:VEVENT
UID:272124-2da69939ed67427dc6bf3daba21059e9
X-WR-RELCALID:272124-2da69939ed67427dc6bf3daba21059e9
ORGANIZER:Volleyball
SEQUENCE:261101447
SUMMARY:OL Fr.: SV 1860 Oberweißbach I - VfB Bischofferode I
CLASS:PUBLIC
DTSTART;VALUE=DATE:20121124
DTSTAMP:20140607T184800Z
DTEND;VALUE=DATE:20121125
END:VEVENT
BEGIN:VEVENT
UID:272139-2da69939ed67427dc6bf3daba21059e9
X-WR-RELCALID:272139-2da69939ed67427dc6bf3daba21059e9
ORGANIZER:Volleyball
SEQUENCE:261101447
SUMMARY:OL Fr.: VfB Bischofferode I - SV Fortuna Pößneck
CLASS:PUBLIC
DTSTART;VALUE=DATE:20121201
DTSTAMP:20140607T184800Z
DTEND;VALUE=DATE:20121202
END:VEVENT
BEGIN:VEVENT
UID:272150-2da69939ed67427dc6bf3daba21059e9
X-WR-RELCALID:272150-2da69939ed67427dc6bf3daba21059e9
ORGANIZER:Volleyball
SEQUENCE:261101447
SUMMARY:OL Fr.: VfB Bischofferode I - SV TU Ilmenau I
CLASS:PUBLIC
DTSTART;VALUE=DATE:20121201
DTSTAMP:20140607T184800Z
DTEND;VALUE=DATE:20121202
END:VEVENT
BEGIN:VEVENT
UID:272123-2da69939ed67427dc6bf3daba21059e9
X-WR-RELCALID:272123-2da69939ed67427dc6bf3daba21059e9
ORGANIZER:Volleyball
SEQUENCE:261101447
SUMMARY:OL Fr.: Kölledaer SV 90 - VfB Bischofferode I
CLASS:PUBLIC
DTSTART;VALUE=DATE:20130112
DTSTAMP:20140607T184800Z
DTEND;VALUE=DATE:20130113
END:VEVENT
BEGIN:VEVENT
UID:272121-2da69939ed67427dc6bf3daba21059e9
X-WR-RELCALID:272121-2da69939ed67427dc6bf3daba21059e9
ORGANIZER:Volleyball
SEQUENCE:261101447
SUMMARY:OL Fr.: VfB Bischofferode I - 1. VC Schloß Apolda
CLASS:PUBLIC
DTSTART;VALUE=DATE:20130112
DTSTAMP:20140607T184800Z
DTEND;VALUE=DATE:20130113
END:VEVENT
BEGIN:VEVENT
UID:272128-2da69939ed67427dc6bf3daba21059e9
X-WR-RELCALID:272128-2da69939ed67427dc6bf3daba21059e9
ORGANIZER:Volleyball
SEQUENCE:261101447
SUMMARY:OL Fr.: BSG Einheit Sömmerda I - VfB Bischofferode I
CLASS:PUBLIC
DTSTART;VALUE=DATE:20130126
DTSTAMP:20140607T184800Z
DTEND;VALUE=DATE:20130127
END:VEVENT
BEGIN:VEVENT
UID:272134-2da69939ed67427dc6bf3daba21059e9
X-WR-RELCALID:272134-2da69939ed67427dc6bf3daba21059e9
ORGANIZER:Volleyball
SEQUENCE:261101447
SUMMARY:OL Fr.: VfB Bischofferode I - 1. VSV Jena 90 I
CLASS:PUBLIC
DTSTART;VALUE=DATE:20130209
DTSTAMP:20140607T184800Z
DTEND;VALUE=DATE:20130210
END:VEVENT
BEGIN:VEVENT
UID:272135-2da69939ed67427dc6bf3daba21059e9
X-WR-RELCALID:272135-2da69939ed67427dc6bf3daba21059e9
ORGANIZER:Volleyball
SEQUENCE:261101447
SUMMARY:OL Fr.: VfB Bischofferode I - SV 03 Eisfeld I
CLASS:PUBLIC
DTSTART;VALUE=DATE:20130209
DTSTAMP:20140607T184800Z
DTEND;VALUE=DATE:20130210
END:VEVENT
BEGIN:VEVENT
UID:272140-2da69939ed67427dc6bf3daba21059e9
X-WR-RELCALID:272140-2da69939ed67427dc6bf3daba21059e9
ORGANIZER:Volleyball
SEQUENCE:261101447
SUMMARY:OL Fr.: 1. VC Schloß Apolda - VfB Bischofferode I
CLASS:PUBLIC
DTSTART;VALUE=DATE:20130302
DTSTAMP:20140607T184800Z
DTEND;VALUE=DATE:20130303
END:VEVENT
BEGIN:VEVENT
UID:272162-2da69939ed67427dc6bf3daba21059e9
X-WR-RELCALID:272162-2da69939ed67427dc6bf3daba21059e9
ORGANIZER:Volleyball
SEQUENCE:261101447
SUMMARY:OL Fr.: VfB Bischofferode I - SV 03 Eisfeld I
CLASS:PUBLIC
DTSTART;VALUE=DATE:20130302
DTSTAMP:20140607T184800Z
DTEND;VALUE=DATE:20130303
END:VEVENT
BEGIN:VEVENT
UID:272200-2da69939ed67427dc6bf3daba21059e9
X-WR-RELCALID:272200-2da69939ed67427dc6bf3daba21059e9
ORGANIZER:Volleyball
SEQUENCE:261101447
SUMMARY:OL Fr.: SVC Nordhausen - VfB Bischofferode I
CLASS:PUBLIC
DTSTART;VALUE=DATE:20130309
DTSTAMP:20140607T184800Z
DTEND;VALUE=DATE:20130310
END:VEVENT
BEGIN:VEVENT
UID:272201-2da69939ed67427dc6bf3daba21059e9
X-WR-RELCALID:272201-2da69939ed67427dc6bf3daba21059e9
ORGANIZER:Volleyball
SEQUENCE:261101447
SUMMARY:OL Fr.: USV Jena II - VfB Bischofferode I
CLASS:PUBLIC
DTSTART;VALUE=DATE:20130309
DTSTAMP:20140607T184800Z
DTEND;VALUE=DATE:20130310
END:VEVENT
END:VCALENDAR