BEGIN:VCALENDAR
VERSION:2.0
PRODID:VSD-Portal-www.volley.de
METHOD:PUBLISH
BEGIN:VEVENT
UID:354013-0b1cb5f82de24c98f11e829bddb1f0f9
X-WR-RELCALID:354013-0b1cb5f82de24c98f11e829bddb1f0f9
ORGANIZER:Volleyball
SEQUENCE:261110122
LOCATION:Mittelschule "Auf der Schanz", Auf der Schanz 28, 85049 Ingol
 stadt
GEO:48.76665861493262000000;11.41794647354129200000
SUMMARY:BKL1 Mä.: MTV 1881 Ingolstadt III - SV Eitensheim
CLASS:PUBLIC
DTSTART:20241109T120000Z
DTSTAMP:20241114T085800Z
END:VEVENT
BEGIN:VEVENT
UID:354014-0b1cb5f82de24c98f11e829bddb1f0f9
X-WR-RELCALID:354014-0b1cb5f82de24c98f11e829bddb1f0f9
ORGANIZER:Volleyball
SEQUENCE:261110122
LOCATION:Mittelschule "Auf der Schanz", Auf der Schanz 28, 85049 Ingol
 stadt
GEO:48.76665861493262000000;11.41794647354129200000
SUMMARY:BKL1 Mä.: MTV 1881 Ingolstadt III - VfR Garching
CLASS:PUBLIC
DTSTART:20241109T120000Z
DTSTAMP:20241109T150100Z
END:VEVENT
BEGIN:VEVENT
UID:354025-0b1cb5f82de24c98f11e829bddb1f0f9
X-WR-RELCALID:354025-0b1cb5f82de24c98f11e829bddb1f0f9
ORGANIZER:Volleyball
SEQUENCE:261110122
LOCATION:Mittelschule "Auf der Schanz", Auf der Schanz 28, 85049 Ingol
 stadt
GEO:48.76665861493262000000;11.41794647354129200000
SUMMARY:BKL1 Mä.: MTV 1881 Ingolstadt III - MTV 1881 Ingolstadt II
CLASS:PUBLIC
DTSTART:20241130T120000Z
DTSTAMP:20241130T133100Z
END:VEVENT
BEGIN:VEVENT
UID:354026-0b1cb5f82de24c98f11e829bddb1f0f9
X-WR-RELCALID:354026-0b1cb5f82de24c98f11e829bddb1f0f9
ORGANIZER:Volleyball
SEQUENCE:261110122
LOCATION:Mittelschule "Auf der Schanz", Auf der Schanz 28, 85049 Ingol
 stadt
GEO:48.76665861493262000000;11.41794647354129200000
SUMMARY:BKL1 Mä.: MTV 1881 Ingolstadt III - SC Freising III
CLASS:PUBLIC
DTSTART:20241130T120000Z
DTSTAMP:20241130T153400Z
END:VEVENT
BEGIN:VEVENT
UID:354046-0b1cb5f82de24c98f11e829bddb1f0f9
X-WR-RELCALID:354046-0b1cb5f82de24c98f11e829bddb1f0f9
ORGANIZER:Volleyball
SEQUENCE:261110122
LOCATION:Mittelschule "Auf der Schanz", Auf der Schanz 28, 85049 Ingol
 stadt
GEO:48.76665861493262000000;11.41794647354129200000
SUMMARY:BKL1 Mä.: MTV 1881 Ingolstadt III - ESV Ingolstadt
CLASS:PUBLIC
DTSTART:20250125T120000Z
DTSTAMP:20250125T134000Z
END:VEVENT
BEGIN:VEVENT
UID:354047-0b1cb5f82de24c98f11e829bddb1f0f9
X-WR-RELCALID:354047-0b1cb5f82de24c98f11e829bddb1f0f9
ORGANIZER:Volleyball
SEQUENCE:261110122
LOCATION:Mittelschule "Auf der Schanz", Auf der Schanz 28, 85049 Ingol
 stadt
GEO:48.76665861493262000000;11.41794647354129200000
SUMMARY:BKL1 Mä.: MTV 1881 Ingolstadt III - SSV Schrobenhausen
CLASS:PUBLIC
DTSTART:20250125T120000Z
DTSTAMP:20250125T153300Z
END:VEVENT
END:VCALENDAR