BEGIN:VCALENDAR
VERSION:2.0
PRODID:VSD-Portal-www.volley.de
METHOD:PUBLISH
BEGIN:VEVENT
UID:361112-0b1cb5f82de24c98f11e829bddb1f0f9
X-WR-RELCALID:361112-0b1cb5f82de24c98f11e829bddb1f0f9
ORGANIZER:Volleyball
SEQUENCE:261091814
LOCATION:Gemeindehalle Eiselfing, Pfarrer-Mördel-Weg 3, 83549 Eiselfin
 g
GEO:48.04020480000000000000;12.24298470000000000000
SUMMARY:KL7 Fr.: TSV Eiselfing III - SV Schwindegg II
CLASS:PUBLIC
DTSTART:20241012T110000Z
DTSTAMP:20241012T162300Z
END:VEVENT
BEGIN:VEVENT
UID:361113-0b1cb5f82de24c98f11e829bddb1f0f9
X-WR-RELCALID:361113-0b1cb5f82de24c98f11e829bddb1f0f9
ORGANIZER:Volleyball
SEQUENCE:261091814
LOCATION:Gemeindehalle Eiselfing, Pfarrer-Mördel-Weg 3, 83549 Eiselfin
 g
GEO:48.04020480000000000000;12.24298470000000000000
SUMMARY:KL7 Fr.: TV Obing 09 II - SV Schwindegg II
CLASS:PUBLIC
DTSTART:20241012T110000Z
DTSTAMP:20241012T185800Z
END:VEVENT
BEGIN:VEVENT
UID:350582-0b1cb5f82de24c98f11e829bddb1f0f9
X-WR-RELCALID:350582-0b1cb5f82de24c98f11e829bddb1f0f9
ORGANIZER:Volleyball
SEQUENCE:261091814
LOCATION:Schulturnhalle, Schulstraße 11, 84419 Schwindegg
GEO:48.27049293765392000000;12.25357128570556100000
SUMMARY:KL7 Fr.: SV Schwindegg II - SV Aschau
CLASS:PUBLIC
DTSTART:20241019T120000Z
DTSTAMP:20241019T131900Z
END:VEVENT
BEGIN:VEVENT
UID:350583-0b1cb5f82de24c98f11e829bddb1f0f9
X-WR-RELCALID:350583-0b1cb5f82de24c98f11e829bddb1f0f9
ORGANIZER:Volleyball
SEQUENCE:261091814
LOCATION:Schulturnhalle, Schulstraße 11, 84419 Schwindegg
GEO:48.27049293765392000000;12.25357128570556100000
SUMMARY:KL7 Fr.: SV Schwindegg II - ASV Eggstätt
CLASS:PUBLIC
DTSTART:20241019T120000Z
DTSTAMP:20241019T152100Z
END:VEVENT
BEGIN:VEVENT
UID:361108-0b1cb5f82de24c98f11e829bddb1f0f9
X-WR-RELCALID:361108-0b1cb5f82de24c98f11e829bddb1f0f9
ORGANIZER:Volleyball
SEQUENCE:261091814
LOCATION:Schulturnhalle, Schulstraße 11, 84419 Schwindegg
GEO:48.27049293765392000000;12.25357128570556100000
SUMMARY:KL7 Fr.: SV Schwindegg II - SV Aschau
CLASS:PUBLIC
DTSTART:20241109T110000Z
DTSTAMP:20241109T122100Z
END:VEVENT
BEGIN:VEVENT
UID:361109-0b1cb5f82de24c98f11e829bddb1f0f9
X-WR-RELCALID:361109-0b1cb5f82de24c98f11e829bddb1f0f9
ORGANIZER:Volleyball
SEQUENCE:261091814
LOCATION:Schulturnhalle, Schulstraße 11, 84419 Schwindegg
GEO:48.27049293765392000000;12.25357128570556100000
SUMMARY:KL7 Fr.: SV Schwindegg II - TSV Eiselfing III
CLASS:PUBLIC
DTSTART:20241109T110000Z
DTSTAMP:20241109T142800Z
END:VEVENT
BEGIN:VEVENT
UID:350735-0b1cb5f82de24c98f11e829bddb1f0f9
X-WR-RELCALID:350735-0b1cb5f82de24c98f11e829bddb1f0f9
ORGANIZER:Volleyball
SEQUENCE:261091814
LOCATION:Schul/Sporthalle, Kirchensurer Straße 20, 83530 Schnaitsee
GEO:48.06670555979618000000;12.36420158000942800000
SUMMARY:KL7 Fr.: TSV Schnaitsee II - SV Schwindegg II
CLASS:PUBLIC
DTSTART:20241123T130000Z
DTSTAMP:20241123T141200Z
END:VEVENT
BEGIN:VEVENT
UID:350737-0b1cb5f82de24c98f11e829bddb1f0f9
X-WR-RELCALID:350737-0b1cb5f82de24c98f11e829bddb1f0f9
ORGANIZER:Volleyball
SEQUENCE:261091814
LOCATION:Schul/Sporthalle, Kirchensurer Straße 20, 83530 Schnaitsee
GEO:48.06670555979618000000;12.36420158000942800000
SUMMARY:KL7 Fr.: SV Schwindegg II - TSV Mühldorf III
CLASS:PUBLIC
DTSTART:20241123T130000Z
DTSTAMP:20241123T194100Z
END:VEVENT
BEGIN:VEVENT
UID:350760-0b1cb5f82de24c98f11e829bddb1f0f9
X-WR-RELCALID:350760-0b1cb5f82de24c98f11e829bddb1f0f9
ORGANIZER:Volleyball
SEQUENCE:261091814
LOCATION:Schulturnhalle, Schulstraße 11, 84419 Schwindegg
GEO:48.27049293765392000000;12.25357128570556100000
SUMMARY:KL7 Fr.: SV Schwindegg II - ASV Eggstätt
CLASS:PUBLIC
DTSTART:20250125T130000Z
DTSTAMP:20250125T144800Z
END:VEVENT
BEGIN:VEVENT
UID:350761-0b1cb5f82de24c98f11e829bddb1f0f9
X-WR-RELCALID:350761-0b1cb5f82de24c98f11e829bddb1f0f9
ORGANIZER:Volleyball
SEQUENCE:261091814
LOCATION:Schulturnhalle, Schulstraße 11, 84419 Schwindegg
GEO:48.27049293765392000000;12.25357128570556100000
SUMMARY:KL7 Fr.: SV Schwindegg II - TSV Mühldorf IV
CLASS:PUBLIC
DTSTART:20250125T130000Z
DTSTAMP:20250125T163600Z
END:VEVENT
BEGIN:VEVENT
UID:350742-0b1cb5f82de24c98f11e829bddb1f0f9
X-WR-RELCALID:350742-0b1cb5f82de24c98f11e829bddb1f0f9
ORGANIZER:Volleyball
SEQUENCE:261091814
LOCATION:Schulturnhalle, Schulstraße 11, 84419 Schwindegg
GEO:48.27049293765392000000;12.25357128570556100000
SUMMARY:KL7 Fr.: SV Schwindegg II - SV Forsting-Pfaffing II
CLASS:PUBLIC
DTSTART:20250201T130000Z
DTSTAMP:20250201T140700Z
END:VEVENT
BEGIN:VEVENT
UID:350743-0b1cb5f82de24c98f11e829bddb1f0f9
X-WR-RELCALID:350743-0b1cb5f82de24c98f11e829bddb1f0f9
ORGANIZER:Volleyball
SEQUENCE:261091814
LOCATION:Schulturnhalle, Schulstraße 11, 84419 Schwindegg
GEO:48.27049293765392000000;12.25357128570556100000
SUMMARY:KL7 Fr.: SV Schwindegg II - TSV Schnaitsee
CLASS:PUBLIC
DTSTART:20250201T130000Z
DTSTAMP:20250201T162500Z
END:VEVENT
BEGIN:VEVENT
UID:370253-0b1cb5f82de24c98f11e829bddb1f0f9
X-WR-RELCALID:370253-0b1cb5f82de24c98f11e829bddb1f0f9
ORGANIZER:Volleyball
SEQUENCE:261091814
LOCATION:Sporthalle, Schulstraße 2, 83539 Pfaffing
GEO:48.05750300000000000000;12.11258000000000000000
SUMMARY:KL7 Fr.: SV Schwindegg II - TSV Schnaitsee II
CLASS:PUBLIC
DTSTART:20250208T130000Z
DTSTAMP:20250208T140100Z
END:VEVENT
BEGIN:VEVENT
UID:370254-0b1cb5f82de24c98f11e829bddb1f0f9
X-WR-RELCALID:370254-0b1cb5f82de24c98f11e829bddb1f0f9
ORGANIZER:Volleyball
SEQUENCE:261091814
LOCATION:Sporthalle, Schulstraße 2, 83539 Pfaffing
GEO:48.05750300000000000000;12.11258000000000000000
SUMMARY:KL7 Fr.: SV Forsting-Pfaffing II - SV Schwindegg II
CLASS:PUBLIC
DTSTART:20250208T130000Z
DTSTAMP:20250208T160400Z
END:VEVENT
BEGIN:VEVENT
UID:350772-0b1cb5f82de24c98f11e829bddb1f0f9
X-WR-RELCALID:350772-0b1cb5f82de24c98f11e829bddb1f0f9
ORGANIZER:Volleyball
SEQUENCE:261091814
LOCATION:Schul/Sporthalle, Kirchensurer Straße 20, 83530 Schnaitsee
GEO:48.06670555979618000000;12.36420158000942800000
SUMMARY:KL7 Fr.: TSV Schnaitsee - SV Schwindegg II
CLASS:PUBLIC
DTSTART:20250308T130000Z
DTSTAMP:20250308T135900Z
END:VEVENT
BEGIN:VEVENT
UID:350774-0b1cb5f82de24c98f11e829bddb1f0f9
X-WR-RELCALID:350774-0b1cb5f82de24c98f11e829bddb1f0f9
ORGANIZER:Volleyball
SEQUENCE:261091814
LOCATION:Schul/Sporthalle, Kirchensurer Straße 20, 83530 Schnaitsee
GEO:48.06670555979618000000;12.36420158000942800000
SUMMARY:KL7 Fr.: SV Schwindegg II - TV Obing 09 II
CLASS:PUBLIC
DTSTART:20250308T130000Z
DTSTAMP:20250308T190900Z
END:VEVENT
BEGIN:VEVENT
UID:350791-0b1cb5f82de24c98f11e829bddb1f0f9
X-WR-RELCALID:350791-0b1cb5f82de24c98f11e829bddb1f0f9
ORGANIZER:Volleyball
SEQUENCE:261091814
LOCATION:NUTZ-Arena an der Mittelschule, Europastr. 3, 84453 Mühldorf
GEO:48.25503000000000000000;12.51489000000000000000
SUMMARY:KL7 Fr.: TSV Mühldorf III - SV Schwindegg II
CLASS:PUBLIC
DTSTART:20250315T130000Z
DTSTAMP:20250315T164200Z
END:VEVENT
BEGIN:VEVENT
UID:350792-0b1cb5f82de24c98f11e829bddb1f0f9
X-WR-RELCALID:350792-0b1cb5f82de24c98f11e829bddb1f0f9
ORGANIZER:Volleyball
SEQUENCE:261091814
LOCATION:NUTZ-Arena an der Mittelschule, Europastr. 3, 84453 Mühldorf
GEO:48.25503000000000000000;12.51489000000000000000
SUMMARY:KL7 Fr.: TSV Mühldorf IV - SV Schwindegg II
CLASS:PUBLIC
DTSTART:20250315T130000Z
DTSTAMP:20250315T185700Z
END:VEVENT
END:VCALENDAR