BEGIN:VCALENDAR
VERSION:2.0
PRODID:VSD-Portal-www.volley.de
METHOD:PUBLISH
BEGIN:VEVENT
UID:98126-2da69939ed67427dc6bf3daba21059e9
X-WR-RELCALID:98126-2da69939ed67427dc6bf3daba21059e9
ORGANIZER:Volleyball
SEQUENCE:261100123
SUMMARY:RL NO Fr.: USV Halle - Rotation Prenzl. Berg I
CLASS:PUBLIC
DTSTART:20050917T140000Z
DTSTAMP:20140607T181400Z
END:VEVENT
BEGIN:VEVENT
UID:98131-2da69939ed67427dc6bf3daba21059e9
X-WR-RELCALID:98131-2da69939ed67427dc6bf3daba21059e9
ORGANIZER:Volleyball
SEQUENCE:261100123
SUMMARY:RL NO Fr.: Rotation Prenzl. Berg I - Köpenicker SC II
CLASS:PUBLIC
DTSTART:20050924T130000Z
DTSTAMP:20140607T181400Z
END:VEVENT
BEGIN:VEVENT
UID:98137-2da69939ed67427dc6bf3daba21059e9
X-WR-RELCALID:98137-2da69939ed67427dc6bf3daba21059e9
ORGANIZER:Volleyball
SEQUENCE:261100123
SUMMARY:RL NO Fr.: TSV Tempelhof-Mariendorf I - Rotation Prenzl. Berg 
 I
CLASS:PUBLIC
DTSTART:20051001T170000Z
DTSTAMP:20140607T181400Z
END:VEVENT
BEGIN:VEVENT
UID:98141-2da69939ed67427dc6bf3daba21059e9
X-WR-RELCALID:98141-2da69939ed67427dc6bf3daba21059e9
ORGANIZER:Volleyball
SEQUENCE:261100123
SUMMARY:RL NO Fr.: Rotation Prenzl. Berg I - WSG Potsdam-Waldstadt
CLASS:PUBLIC
DTSTART:20051015T130000Z
DTSTAMP:20140607T181400Z
END:VEVENT
BEGIN:VEVENT
UID:98146-2da69939ed67427dc6bf3daba21059e9
X-WR-RELCALID:98146-2da69939ed67427dc6bf3daba21059e9
ORGANIZER:Volleyball
SEQUENCE:261100123
SUMMARY:RL NO Fr.: Rotation Prenzl. Berg I - SV Pädagogik Schönebeck
CLASS:PUBLIC
DTSTART:20051022T130000Z
DTSTAMP:20140607T181400Z
END:VEVENT
BEGIN:VEVENT
UID:98151-2da69939ed67427dc6bf3daba21059e9
X-WR-RELCALID:98151-2da69939ed67427dc6bf3daba21059e9
ORGANIZER:Volleyball
SEQUENCE:261100123
SUMMARY:RL NO Fr.: SSV Empor 90 Wittenberge - Rotation Prenzl. Berg I
CLASS:PUBLIC
DTSTART:20051105T160000Z
DTSTAMP:20140607T181400Z
END:VEVENT
BEGIN:VEVENT
UID:98156-2da69939ed67427dc6bf3daba21059e9
X-WR-RELCALID:98156-2da69939ed67427dc6bf3daba21059e9
ORGANIZER:Volleyball
SEQUENCE:261100123
SUMMARY:RL NO Fr.: Rotation Prenzl. Berg I - VfK Südwest I
CLASS:PUBLIC
DTSTART:20051119T140000Z
DTSTAMP:20140607T181400Z
END:VEVENT
BEGIN:VEVENT
UID:98161-2da69939ed67427dc6bf3daba21059e9
X-WR-RELCALID:98161-2da69939ed67427dc6bf3daba21059e9
ORGANIZER:Volleyball
SEQUENCE:261100123
SUMMARY:RL NO Fr.: Rotation Prenzl. Berg I - Marzahner VC I
CLASS:PUBLIC
DTSTART:20051126T140000Z
DTSTAMP:20140607T181400Z
END:VEVENT
BEGIN:VEVENT
UID:98170-2da69939ed67427dc6bf3daba21059e9
X-WR-RELCALID:98170-2da69939ed67427dc6bf3daba21059e9
ORGANIZER:Volleyball
SEQUENCE:261100123
SUMMARY:RL NO Fr.: TSV Rudow I - Rotation Prenzl. Berg I
CLASS:PUBLIC
DTSTART:20051204T140000Z
DTSTAMP:20140607T181400Z
END:VEVENT
BEGIN:VEVENT
UID:98173-2da69939ed67427dc6bf3daba21059e9
X-WR-RELCALID:98173-2da69939ed67427dc6bf3daba21059e9
ORGANIZER:Volleyball
SEQUENCE:261100123
SUMMARY:RL NO Fr.: Rotation Prenzl. Berg I - USV Halle
CLASS:PUBLIC
DTSTART:20051211T110000Z
DTSTAMP:20140607T181400Z
END:VEVENT
BEGIN:VEVENT
UID:98178-2da69939ed67427dc6bf3daba21059e9
X-WR-RELCALID:98178-2da69939ed67427dc6bf3daba21059e9
ORGANIZER:Volleyball
SEQUENCE:261100123
SUMMARY:RL NO Fr.: Köpenicker SC II - Rotation Prenzl. Berg I
CLASS:PUBLIC
DTSTART:20051217T170000Z
DTSTAMP:20140607T181400Z
END:VEVENT
BEGIN:VEVENT
UID:98183-2da69939ed67427dc6bf3daba21059e9
X-WR-RELCALID:98183-2da69939ed67427dc6bf3daba21059e9
ORGANIZER:Volleyball
SEQUENCE:261100123
SUMMARY:RL NO Fr.: Rotation Prenzl. Berg I - TSV Tempelhof-Mariendorf 
 I
CLASS:PUBLIC
DTSTART:20060115T110000Z
DTSTAMP:20140607T181400Z
END:VEVENT
BEGIN:VEVENT
UID:98195-2da69939ed67427dc6bf3daba21059e9
X-WR-RELCALID:98195-2da69939ed67427dc6bf3daba21059e9
ORGANIZER:Volleyball
SEQUENCE:261100123
SUMMARY:RL NO Fr.: SV Pädagogik Schönebeck - Rotation Prenzl. Berg I
CLASS:PUBLIC
DTSTART:20060129T140000Z
DTSTAMP:20140607T181400Z
END:VEVENT
BEGIN:VEVENT
UID:98190-2da69939ed67427dc6bf3daba21059e9
X-WR-RELCALID:98190-2da69939ed67427dc6bf3daba21059e9
ORGANIZER:Volleyball
SEQUENCE:261100123
SUMMARY:RL NO Fr.: WSG Potsdam-Waldstadt - Rotation Prenzl. Berg I
CLASS:PUBLIC
DTSTART:20060204T180000Z
DTSTAMP:20140607T181400Z
END:VEVENT
BEGIN:VEVENT
UID:98196-2da69939ed67427dc6bf3daba21059e9
X-WR-RELCALID:98196-2da69939ed67427dc6bf3daba21059e9
ORGANIZER:Volleyball
SEQUENCE:261100123
SUMMARY:RL NO Fr.: Rotation Prenzl. Berg I - SSV Empor 90 Wittenberge
CLASS:PUBLIC
DTSTART:20060211T140000Z
DTSTAMP:20140607T181400Z
END:VEVENT
BEGIN:VEVENT
UID:98204-2da69939ed67427dc6bf3daba21059e9
X-WR-RELCALID:98204-2da69939ed67427dc6bf3daba21059e9
ORGANIZER:Volleyball
SEQUENCE:261100123
SUMMARY:RL NO Fr.: VfK Südwest I - Rotation Prenzl. Berg I
CLASS:PUBLIC
DTSTART:20060225T170000Z
DTSTAMP:20140607T181400Z
END:VEVENT
BEGIN:VEVENT
UID:98211-2da69939ed67427dc6bf3daba21059e9
X-WR-RELCALID:98211-2da69939ed67427dc6bf3daba21059e9
ORGANIZER:Volleyball
SEQUENCE:261100123
SUMMARY:RL NO Fr.: Marzahner VC I - Rotation Prenzl. Berg I
CLASS:PUBLIC
DTSTART:20060312T100000Z
DTSTAMP:20140607T181400Z
END:VEVENT
BEGIN:VEVENT
UID:98212-2da69939ed67427dc6bf3daba21059e9
X-WR-RELCALID:98212-2da69939ed67427dc6bf3daba21059e9
ORGANIZER:Volleyball
SEQUENCE:261100123
SUMMARY:RL NO Fr.: Rotation Prenzl. Berg I - TSV Rudow I
CLASS:PUBLIC
DTSTART:20060318T140000Z
DTSTAMP:20140607T181400Z
END:VEVENT
END:VCALENDAR