BEGIN:VCALENDAR
VERSION:2.0
PRODID:VSD-Portal-www.volley.de
METHOD:PUBLISH
BEGIN:VEVENT
UID:150679-2da69939ed67427dc6bf3daba21059e9
X-WR-RELCALID:150679-2da69939ed67427dc6bf3daba21059e9
ORGANIZER:Volleyball
SEQUENCE:261101329
SUMMARY:B2 Mä.: TSG Schwäb. Hall 2 - TSG Schwäb. Hall 3
CLASS:PUBLIC
DTSTART;VALUE=DATE:20061007
DTSTAMP:20140607T181500Z
DTEND;VALUE=DATE:20061008
END:VEVENT
BEGIN:VEVENT
UID:150680-2da69939ed67427dc6bf3daba21059e9
X-WR-RELCALID:150680-2da69939ed67427dc6bf3daba21059e9
ORGANIZER:Volleyball
SEQUENCE:261101329
SUMMARY:B2 Mä.: TSG Schwäb. Hall 2 - SG Sportschule Waldenburg 2
CLASS:PUBLIC
DTSTART;VALUE=DATE:20061007
DTSTAMP:20140607T181500Z
DTEND;VALUE=DATE:20061008
END:VEVENT
BEGIN:VEVENT
UID:150677-2da69939ed67427dc6bf3daba21059e9
X-WR-RELCALID:150677-2da69939ed67427dc6bf3daba21059e9
ORGANIZER:Volleyball
SEQUENCE:261101329
SUMMARY:B2 Mä.: TSV Crailsheim - TSV Crailsheim 2
CLASS:PUBLIC
DTSTART;VALUE=DATE:20061008
DTSTAMP:20140607T181500Z
DTEND;VALUE=DATE:20061009
END:VEVENT
BEGIN:VEVENT
UID:150678-2da69939ed67427dc6bf3daba21059e9
X-WR-RELCALID:150678-2da69939ed67427dc6bf3daba21059e9
ORGANIZER:Volleyball
SEQUENCE:261101329
SUMMARY:B2 Mä.: TSV Crailsheim - SG Weissach im Tal
CLASS:PUBLIC
DTSTART;VALUE=DATE:20061008
DTSTAMP:20140607T181500Z
DTEND;VALUE=DATE:20061009
END:VEVENT
BEGIN:VEVENT
UID:150681-2da69939ed67427dc6bf3daba21059e9
X-WR-RELCALID:150681-2da69939ed67427dc6bf3daba21059e9
ORGANIZER:Volleyball
SEQUENCE:261101329
SUMMARY:B2 Mä.: SSV Geißelhardt - TURA Untermünkheim
CLASS:PUBLIC
DTSTART;VALUE=DATE:20061008
DTSTAMP:20140607T181500Z
DTEND;VALUE=DATE:20061009
END:VEVENT
BEGIN:VEVENT
UID:150682-2da69939ed67427dc6bf3daba21059e9
X-WR-RELCALID:150682-2da69939ed67427dc6bf3daba21059e9
ORGANIZER:Volleyball
SEQUENCE:261101329
SUMMARY:B2 Mä.: SSV Geißelhardt - TV Murrhardt 2
CLASS:PUBLIC
DTSTART;VALUE=DATE:20061008
DTSTAMP:20140607T181500Z
DTEND;VALUE=DATE:20061009
END:VEVENT
BEGIN:VEVENT
UID:150688-2da69939ed67427dc6bf3daba21059e9
X-WR-RELCALID:150688-2da69939ed67427dc6bf3daba21059e9
ORGANIZER:Volleyball
SEQUENCE:261101329
SUMMARY:B2 Mä.: SG Weissach im Tal - SSV Geißelhardt
CLASS:PUBLIC
DTSTART;VALUE=DATE:20061021
DTSTAMP:20140607T181500Z
DTEND;VALUE=DATE:20061022
END:VEVENT
BEGIN:VEVENT
UID:150687-2da69939ed67427dc6bf3daba21059e9
X-WR-RELCALID:150687-2da69939ed67427dc6bf3daba21059e9
ORGANIZER:Volleyball
SEQUENCE:261101329
SUMMARY:B2 Mä.: SG Weissach im Tal - TSV Crailsheim 2
CLASS:PUBLIC
DTSTART;VALUE=DATE:20061021
DTSTAMP:20140607T181500Z
DTEND;VALUE=DATE:20061022
END:VEVENT
BEGIN:VEVENT
UID:150685-2da69939ed67427dc6bf3daba21059e9
X-WR-RELCALID:150685-2da69939ed67427dc6bf3daba21059e9
ORGANIZER:Volleyball
SEQUENCE:261101329
SUMMARY:B2 Mä.: TV Murrhardt 2 - TSG Schwäb. Hall 2
CLASS:PUBLIC
DTSTART;VALUE=DATE:20061022
DTSTAMP:20140607T181500Z
DTEND;VALUE=DATE:20061023
END:VEVENT
BEGIN:VEVENT
UID:150686-2da69939ed67427dc6bf3daba21059e9
X-WR-RELCALID:150686-2da69939ed67427dc6bf3daba21059e9
ORGANIZER:Volleyball
SEQUENCE:261101329
SUMMARY:B2 Mä.: TV Murrhardt 2 - TURA Untermünkheim
CLASS:PUBLIC
DTSTART;VALUE=DATE:20061022
DTSTAMP:20140607T181500Z
DTEND;VALUE=DATE:20061023
END:VEVENT
BEGIN:VEVENT
UID:150683-2da69939ed67427dc6bf3daba21059e9
X-WR-RELCALID:150683-2da69939ed67427dc6bf3daba21059e9
ORGANIZER:Volleyball
SEQUENCE:261101329
SUMMARY:B2 Mä.: SG Sportschule Waldenburg 2 - TSV Crailsheim
CLASS:PUBLIC
DTSTART;VALUE=DATE:20061028
DTSTAMP:20140607T181500Z
DTEND;VALUE=DATE:20061029
END:VEVENT
BEGIN:VEVENT
UID:150693-2da69939ed67427dc6bf3daba21059e9
X-WR-RELCALID:150693-2da69939ed67427dc6bf3daba21059e9
ORGANIZER:Volleyball
SEQUENCE:261101329
SUMMARY:B2 Mä.: TSG Schwäb. Hall 3 - TV Murrhardt 2
CLASS:PUBLIC
DTSTART;VALUE=DATE:20061104
DTSTAMP:20140607T181500Z
DTEND;VALUE=DATE:20061105
END:VEVENT
BEGIN:VEVENT
UID:150694-2da69939ed67427dc6bf3daba21059e9
X-WR-RELCALID:150694-2da69939ed67427dc6bf3daba21059e9
ORGANIZER:Volleyball
SEQUENCE:261101329
SUMMARY:B2 Mä.: TSG Schwäb. Hall 3 - SSV Geißelhardt
CLASS:PUBLIC
DTSTART;VALUE=DATE:20061104
DTSTAMP:20140607T181500Z
DTEND;VALUE=DATE:20061105
END:VEVENT
BEGIN:VEVENT
UID:150689-2da69939ed67427dc6bf3daba21059e9
X-WR-RELCALID:150689-2da69939ed67427dc6bf3daba21059e9
ORGANIZER:Volleyball
SEQUENCE:261101329
SUMMARY:B2 Mä.: TURA Untermünkheim - SG Weissach im Tal
CLASS:PUBLIC
DTSTART;VALUE=DATE:20061105
DTSTAMP:20140607T181500Z
DTEND;VALUE=DATE:20061106
END:VEVENT
BEGIN:VEVENT
UID:150690-2da69939ed67427dc6bf3daba21059e9
X-WR-RELCALID:150690-2da69939ed67427dc6bf3daba21059e9
ORGANIZER:Volleyball
SEQUENCE:261101329
SUMMARY:B2 Mä.: TURA Untermünkheim - TSV Crailsheim
CLASS:PUBLIC
DTSTART;VALUE=DATE:20061105
DTSTAMP:20140607T181500Z
DTEND;VALUE=DATE:20061106
END:VEVENT
BEGIN:VEVENT
UID:150691-2da69939ed67427dc6bf3daba21059e9
X-WR-RELCALID:150691-2da69939ed67427dc6bf3daba21059e9
ORGANIZER:Volleyball
SEQUENCE:261101329
SUMMARY:B2 Mä.: TSV Crailsheim 2 - SG Sportschule Waldenburg 2
CLASS:PUBLIC
DTSTART;VALUE=DATE:20061105
DTSTAMP:20140607T181500Z
DTEND;VALUE=DATE:20061106
END:VEVENT
BEGIN:VEVENT
UID:150692-2da69939ed67427dc6bf3daba21059e9
X-WR-RELCALID:150692-2da69939ed67427dc6bf3daba21059e9
ORGANIZER:Volleyball
SEQUENCE:261101329
SUMMARY:B2 Mä.: TSV Crailsheim 2 - TSG Schwäb. Hall 2
CLASS:PUBLIC
DTSTART;VALUE=DATE:20061105
DTSTAMP:20140607T181500Z
DTEND;VALUE=DATE:20061106
END:VEVENT
BEGIN:VEVENT
UID:150695-2da69939ed67427dc6bf3daba21059e9
X-WR-RELCALID:150695-2da69939ed67427dc6bf3daba21059e9
ORGANIZER:Volleyball
SEQUENCE:261101329
SUMMARY:B2 Mä.: SG Sportschule Waldenburg 2 - TURA Untermünkheim
CLASS:PUBLIC
DTSTART;VALUE=DATE:20061118
DTSTAMP:20140607T181500Z
DTEND;VALUE=DATE:20061119
END:VEVENT
BEGIN:VEVENT
UID:150696-2da69939ed67427dc6bf3daba21059e9
X-WR-RELCALID:150696-2da69939ed67427dc6bf3daba21059e9
ORGANIZER:Volleyball
SEQUENCE:261101329
SUMMARY:B2 Mä.: SG Sportschule Waldenburg 2 - TV Murrhardt 2
CLASS:PUBLIC
DTSTART;VALUE=DATE:20061118
DTSTAMP:20140607T181500Z
DTEND;VALUE=DATE:20061119
END:VEVENT
BEGIN:VEVENT
UID:150697-2da69939ed67427dc6bf3daba21059e9
X-WR-RELCALID:150697-2da69939ed67427dc6bf3daba21059e9
ORGANIZER:Volleyball
SEQUENCE:261101329
SUMMARY:B2 Mä.: TSG Schwäb. Hall 2 - SG Weissach im Tal
CLASS:PUBLIC
DTSTART;VALUE=DATE:20061119
DTSTAMP:20140607T181500Z
DTEND;VALUE=DATE:20061120
END:VEVENT
BEGIN:VEVENT
UID:150698-2da69939ed67427dc6bf3daba21059e9
X-WR-RELCALID:150698-2da69939ed67427dc6bf3daba21059e9
ORGANIZER:Volleyball
SEQUENCE:261101329
SUMMARY:B2 Mä.: TSG Schwäb. Hall 2 - TSV Crailsheim
CLASS:PUBLIC
DTSTART;VALUE=DATE:20061119
DTSTAMP:20140607T181500Z
DTEND;VALUE=DATE:20061120
END:VEVENT
BEGIN:VEVENT
UID:150699-2da69939ed67427dc6bf3daba21059e9
X-WR-RELCALID:150699-2da69939ed67427dc6bf3daba21059e9
ORGANIZER:Volleyball
SEQUENCE:261101329
SUMMARY:B2 Mä.: TSV Crailsheim 2 - SSV Geißelhardt
CLASS:PUBLIC
DTSTART;VALUE=DATE:20061119
DTSTAMP:20140607T181500Z
DTEND;VALUE=DATE:20061120
END:VEVENT
BEGIN:VEVENT
UID:150700-2da69939ed67427dc6bf3daba21059e9
X-WR-RELCALID:150700-2da69939ed67427dc6bf3daba21059e9
ORGANIZER:Volleyball
SEQUENCE:261101329
SUMMARY:B2 Mä.: TSV Crailsheim 2 - TSG Schwäb. Hall 3
CLASS:PUBLIC
DTSTART;VALUE=DATE:20061119
DTSTAMP:20140607T181500Z
DTEND;VALUE=DATE:20061120
END:VEVENT
BEGIN:VEVENT
UID:150706-2da69939ed67427dc6bf3daba21059e9
X-WR-RELCALID:150706-2da69939ed67427dc6bf3daba21059e9
ORGANIZER:Volleyball
SEQUENCE:261101329
SUMMARY:B2 Mä.: SG Weissach im Tal - TSG Schwäb. Hall 3
CLASS:PUBLIC
DTSTART;VALUE=DATE:20061202
DTSTAMP:20140607T181500Z
DTEND;VALUE=DATE:20061203
END:VEVENT
BEGIN:VEVENT
UID:150705-2da69939ed67427dc6bf3daba21059e9
X-WR-RELCALID:150705-2da69939ed67427dc6bf3daba21059e9
ORGANIZER:Volleyball
SEQUENCE:261101329
SUMMARY:B2 Mä.: SG Weissach im Tal - SG Sportschule Waldenburg 2
CLASS:PUBLIC
DTSTART;VALUE=DATE:20061202
DTSTAMP:20140607T181500Z
DTEND;VALUE=DATE:20061203
END:VEVENT
BEGIN:VEVENT
UID:150701-2da69939ed67427dc6bf3daba21059e9
X-WR-RELCALID:150701-2da69939ed67427dc6bf3daba21059e9
ORGANIZER:Volleyball
SEQUENCE:261101329
SUMMARY:B2 Mä.: TURA Untermünkheim - TSG Schwäb. Hall 2
CLASS:PUBLIC
DTSTART;VALUE=DATE:20061203
DTSTAMP:20140607T181500Z
DTEND;VALUE=DATE:20061204
END:VEVENT
BEGIN:VEVENT
UID:150702-2da69939ed67427dc6bf3daba21059e9
X-WR-RELCALID:150702-2da69939ed67427dc6bf3daba21059e9
ORGANIZER:Volleyball
SEQUENCE:261101329
SUMMARY:B2 Mä.: TURA Untermünkheim - TSV Crailsheim 2
CLASS:PUBLIC
DTSTART;VALUE=DATE:20061203
DTSTAMP:20140607T181500Z
DTEND;VALUE=DATE:20061204
END:VEVENT
BEGIN:VEVENT
UID:150703-2da69939ed67427dc6bf3daba21059e9
X-WR-RELCALID:150703-2da69939ed67427dc6bf3daba21059e9
ORGANIZER:Volleyball
SEQUENCE:261101329
SUMMARY:B2 Mä.: TSV Crailsheim - TV Murrhardt 2
CLASS:PUBLIC
DTSTART;VALUE=DATE:20061203
DTSTAMP:20140607T181500Z
DTEND;VALUE=DATE:20061204
END:VEVENT
BEGIN:VEVENT
UID:150704-2da69939ed67427dc6bf3daba21059e9
X-WR-RELCALID:150704-2da69939ed67427dc6bf3daba21059e9
ORGANIZER:Volleyball
SEQUENCE:261101329
SUMMARY:B2 Mä.: TSV Crailsheim - SSV Geißelhardt
CLASS:PUBLIC
DTSTART;VALUE=DATE:20061203
DTSTAMP:20140607T181500Z
DTEND;VALUE=DATE:20061204
END:VEVENT
BEGIN:VEVENT
UID:150684-2da69939ed67427dc6bf3daba21059e9
X-WR-RELCALID:150684-2da69939ed67427dc6bf3daba21059e9
ORGANIZER:Volleyball
SEQUENCE:261101329
SUMMARY:B2 Mä.: SG Sportschule Waldenburg 2 - TSG Schwäb. Hall 3
CLASS:PUBLIC
DTSTART;VALUE=DATE:20061208
DTSTAMP:20140607T181500Z
DTEND;VALUE=DATE:20061209
END:VEVENT
BEGIN:VEVENT
UID:150707-2da69939ed67427dc6bf3daba21059e9
X-WR-RELCALID:150707-2da69939ed67427dc6bf3daba21059e9
ORGANIZER:Volleyball
SEQUENCE:261101329
SUMMARY:B2 Mä.: SSV Geißelhardt - SG Sportschule Waldenburg 2
CLASS:PUBLIC
DTSTART;VALUE=DATE:20061216
DTSTAMP:20140607T181500Z
DTEND;VALUE=DATE:20061217
END:VEVENT
BEGIN:VEVENT
UID:150708-2da69939ed67427dc6bf3daba21059e9
X-WR-RELCALID:150708-2da69939ed67427dc6bf3daba21059e9
ORGANIZER:Volleyball
SEQUENCE:261101329
SUMMARY:B2 Mä.: SSV Geißelhardt - TSG Schwäb. Hall 2
CLASS:PUBLIC
DTSTART;VALUE=DATE:20061216
DTSTAMP:20140607T181500Z
DTEND;VALUE=DATE:20061217
END:VEVENT
BEGIN:VEVENT
UID:150711-2da69939ed67427dc6bf3daba21059e9
X-WR-RELCALID:150711-2da69939ed67427dc6bf3daba21059e9
ORGANIZER:Volleyball
SEQUENCE:261101329
SUMMARY:B2 Mä.: TSG Schwäb. Hall 3 - TSV Crailsheim
CLASS:PUBLIC
DTSTART;VALUE=DATE:20061216
DTSTAMP:20140607T181500Z
DTEND;VALUE=DATE:20061217
END:VEVENT
BEGIN:VEVENT
UID:150712-2da69939ed67427dc6bf3daba21059e9
X-WR-RELCALID:150712-2da69939ed67427dc6bf3daba21059e9
ORGANIZER:Volleyball
SEQUENCE:261101329
SUMMARY:B2 Mä.: TSG Schwäb. Hall 3 - TURA Untermünkheim
CLASS:PUBLIC
DTSTART;VALUE=DATE:20061216
DTSTAMP:20140607T181500Z
DTEND;VALUE=DATE:20061217
END:VEVENT
BEGIN:VEVENT
UID:150709-2da69939ed67427dc6bf3daba21059e9
X-WR-RELCALID:150709-2da69939ed67427dc6bf3daba21059e9
ORGANIZER:Volleyball
SEQUENCE:261101329
SUMMARY:B2 Mä.: TV Murrhardt 2 - TSV Crailsheim 2
CLASS:PUBLIC
DTSTART;VALUE=DATE:20061217
DTSTAMP:20140607T181500Z
DTEND;VALUE=DATE:20061218
END:VEVENT
BEGIN:VEVENT
UID:150710-2da69939ed67427dc6bf3daba21059e9
X-WR-RELCALID:150710-2da69939ed67427dc6bf3daba21059e9
ORGANIZER:Volleyball
SEQUENCE:261101329
SUMMARY:B2 Mä.: TV Murrhardt 2 - SG Weissach im Tal
CLASS:PUBLIC
DTSTART;VALUE=DATE:20061217
DTSTAMP:20140607T181500Z
DTEND;VALUE=DATE:20061218
END:VEVENT
BEGIN:VEVENT
UID:150713-2da69939ed67427dc6bf3daba21059e9
X-WR-RELCALID:150713-2da69939ed67427dc6bf3daba21059e9
ORGANIZER:Volleyball
SEQUENCE:261101329
SUMMARY:B2 Mä.: TURA Untermünkheim - SSV Geißelhardt
CLASS:PUBLIC
DTSTART;VALUE=DATE:20070121
DTSTAMP:20140607T181500Z
DTEND;VALUE=DATE:20070122
END:VEVENT
BEGIN:VEVENT
UID:150714-2da69939ed67427dc6bf3daba21059e9
X-WR-RELCALID:150714-2da69939ed67427dc6bf3daba21059e9
ORGANIZER:Volleyball
SEQUENCE:261101329
SUMMARY:B2 Mä.: TURA Untermünkheim - TV Murrhardt 2
CLASS:PUBLIC
DTSTART;VALUE=DATE:20070121
DTSTAMP:20140607T181500Z
DTEND;VALUE=DATE:20070122
END:VEVENT
BEGIN:VEVENT
UID:150715-2da69939ed67427dc6bf3daba21059e9
X-WR-RELCALID:150715-2da69939ed67427dc6bf3daba21059e9
ORGANIZER:Volleyball
SEQUENCE:261101329
SUMMARY:B2 Mä.: TSV Crailsheim 2 - TSV Crailsheim
CLASS:PUBLIC
DTSTART;VALUE=DATE:20070121
DTSTAMP:20140607T181500Z
DTEND;VALUE=DATE:20070122
END:VEVENT
BEGIN:VEVENT
UID:150718-2da69939ed67427dc6bf3daba21059e9
X-WR-RELCALID:150718-2da69939ed67427dc6bf3daba21059e9
ORGANIZER:Volleyball
SEQUENCE:261101329
SUMMARY:B2 Mä.: TSV Crailsheim 2 - SG Weissach im Tal
CLASS:PUBLIC
DTSTART;VALUE=DATE:20070121
DTSTAMP:20140607T181500Z
DTEND;VALUE=DATE:20070122
END:VEVENT
BEGIN:VEVENT
UID:150719-2da69939ed67427dc6bf3daba21059e9
X-WR-RELCALID:150719-2da69939ed67427dc6bf3daba21059e9
ORGANIZER:Volleyball
SEQUENCE:261101329
SUMMARY:B2 Mä.: TSG Schwäb. Hall 3 - TSG Schwäb. Hall 2
CLASS:PUBLIC
DTSTART;VALUE=DATE:20070121
DTSTAMP:20140607T181500Z
DTEND;VALUE=DATE:20070122
END:VEVENT
BEGIN:VEVENT
UID:150720-2da69939ed67427dc6bf3daba21059e9
X-WR-RELCALID:150720-2da69939ed67427dc6bf3daba21059e9
ORGANIZER:Volleyball
SEQUENCE:261101329
SUMMARY:B2 Mä.: TSG Schwäb. Hall 3 - SG Sportschule Waldenburg 2
CLASS:PUBLIC
DTSTART;VALUE=DATE:20070121
DTSTAMP:20140607T181500Z
DTEND;VALUE=DATE:20070122
END:VEVENT
BEGIN:VEVENT
UID:150717-2da69939ed67427dc6bf3daba21059e9
X-WR-RELCALID:150717-2da69939ed67427dc6bf3daba21059e9
ORGANIZER:Volleyball
SEQUENCE:261101329
SUMMARY:B2 Mä.: SG Sportschule Waldenburg 2 - TSV Crailsheim 2
CLASS:PUBLIC
DTSTART;VALUE=DATE:20070203
DTSTAMP:20140607T181500Z
DTEND;VALUE=DATE:20070204
END:VEVENT
BEGIN:VEVENT
UID:150721-2da69939ed67427dc6bf3daba21059e9
X-WR-RELCALID:150721-2da69939ed67427dc6bf3daba21059e9
ORGANIZER:Volleyball
SEQUENCE:261101329
SUMMARY:B2 Mä.: SG Sportschule Waldenburg 2 - TSG Schwäb. Hall 2
CLASS:PUBLIC
DTSTART;VALUE=DATE:20070203
DTSTAMP:20140607T181500Z
DTEND;VALUE=DATE:20070204
END:VEVENT
BEGIN:VEVENT
UID:150724-2da69939ed67427dc6bf3daba21059e9
X-WR-RELCALID:150724-2da69939ed67427dc6bf3daba21059e9
ORGANIZER:Volleyball
SEQUENCE:261101329
SUMMARY:B2 Mä.: SG Weissach im Tal - TURA Untermünkheim
CLASS:PUBLIC
DTSTART;VALUE=DATE:20070203
DTSTAMP:20140607T181500Z
DTEND;VALUE=DATE:20070204
END:VEVENT
BEGIN:VEVENT
UID:150716-2da69939ed67427dc6bf3daba21059e9
X-WR-RELCALID:150716-2da69939ed67427dc6bf3daba21059e9
ORGANIZER:Volleyball
SEQUENCE:261101329
SUMMARY:B2 Mä.: SG Weissach im Tal - TSV Crailsheim
CLASS:PUBLIC
DTSTART;VALUE=DATE:20070203
DTSTAMP:20140607T181500Z
DTEND;VALUE=DATE:20070204
END:VEVENT
BEGIN:VEVENT
UID:150722-2da69939ed67427dc6bf3daba21059e9
X-WR-RELCALID:150722-2da69939ed67427dc6bf3daba21059e9
ORGANIZER:Volleyball
SEQUENCE:261101329
SUMMARY:B2 Mä.: TV Murrhardt 2 - TSG Schwäb. Hall 3
CLASS:PUBLIC
DTSTART;VALUE=DATE:20070204
DTSTAMP:20140607T181500Z
DTEND;VALUE=DATE:20070205
END:VEVENT
BEGIN:VEVENT
UID:150723-2da69939ed67427dc6bf3daba21059e9
X-WR-RELCALID:150723-2da69939ed67427dc6bf3daba21059e9
ORGANIZER:Volleyball
SEQUENCE:261101329
SUMMARY:B2 Mä.: TV Murrhardt 2 - SSV Geißelhardt
CLASS:PUBLIC
DTSTART;VALUE=DATE:20070204
DTSTAMP:20140607T181500Z
DTEND;VALUE=DATE:20070205
END:VEVENT
BEGIN:VEVENT
UID:150729-2da69939ed67427dc6bf3daba21059e9
X-WR-RELCALID:150729-2da69939ed67427dc6bf3daba21059e9
ORGANIZER:Volleyball
SEQUENCE:261101329
SUMMARY:B2 Mä.: TSG Schwäb. Hall 2 - TV Murrhardt 2
CLASS:PUBLIC
DTSTART;VALUE=DATE:20070210
DTSTAMP:20140607T181500Z
DTEND;VALUE=DATE:20070211
END:VEVENT
BEGIN:VEVENT
UID:150730-2da69939ed67427dc6bf3daba21059e9
X-WR-RELCALID:150730-2da69939ed67427dc6bf3daba21059e9
ORGANIZER:Volleyball
SEQUENCE:261101329
SUMMARY:B2 Mä.: TSG Schwäb. Hall 2 - TSV Crailsheim 2
CLASS:PUBLIC
DTSTART;VALUE=DATE:20070210
DTSTAMP:20140607T181500Z
DTEND;VALUE=DATE:20070211
END:VEVENT
BEGIN:VEVENT
UID:150728-2da69939ed67427dc6bf3daba21059e9
X-WR-RELCALID:150728-2da69939ed67427dc6bf3daba21059e9
ORGANIZER:Volleyball
SEQUENCE:261101329
SUMMARY:B2 Mä.: TSV Crailsheim - TURA Untermünkheim
CLASS:PUBLIC
DTSTART;VALUE=DATE:20070218
DTSTAMP:20140607T181500Z
DTEND;VALUE=DATE:20070219
END:VEVENT
BEGIN:VEVENT
UID:150727-2da69939ed67427dc6bf3daba21059e9
X-WR-RELCALID:150727-2da69939ed67427dc6bf3daba21059e9
ORGANIZER:Volleyball
SEQUENCE:261101329
SUMMARY:B2 Mä.: SSV Geißelhardt - SG Weissach im Tal
CLASS:PUBLIC
DTSTART;VALUE=DATE:20070218
DTSTAMP:20140607T181500Z
DTEND;VALUE=DATE:20070219
END:VEVENT
BEGIN:VEVENT
UID:150726-2da69939ed67427dc6bf3daba21059e9
X-WR-RELCALID:150726-2da69939ed67427dc6bf3daba21059e9
ORGANIZER:Volleyball
SEQUENCE:261101329
SUMMARY:B2 Mä.: SSV Geißelhardt - TSG Schwäb. Hall 3
CLASS:PUBLIC
DTSTART;VALUE=DATE:20070218
DTSTAMP:20140607T181500Z
DTEND;VALUE=DATE:20070219
END:VEVENT
BEGIN:VEVENT
UID:150734-2da69939ed67427dc6bf3daba21059e9
X-WR-RELCALID:150734-2da69939ed67427dc6bf3daba21059e9
ORGANIZER:Volleyball
SEQUENCE:261101329
SUMMARY:B2 Mä.: SG Sportschule Waldenburg 2 - SSV Geißelhardt
CLASS:PUBLIC
DTSTART;VALUE=DATE:20070303
DTSTAMP:20140607T181500Z
DTEND;VALUE=DATE:20070304
END:VEVENT
BEGIN:VEVENT
UID:150735-2da69939ed67427dc6bf3daba21059e9
X-WR-RELCALID:150735-2da69939ed67427dc6bf3daba21059e9
ORGANIZER:Volleyball
SEQUENCE:261101329
SUMMARY:B2 Mä.: SG Sportschule Waldenburg 2 - SG Weissach im Tal
CLASS:PUBLIC
DTSTART;VALUE=DATE:20070303
DTSTAMP:20140607T181500Z
DTEND;VALUE=DATE:20070304
END:VEVENT
BEGIN:VEVENT
UID:150733-2da69939ed67427dc6bf3daba21059e9
X-WR-RELCALID:150733-2da69939ed67427dc6bf3daba21059e9
ORGANIZER:Volleyball
SEQUENCE:261101329
SUMMARY:B2 Mä.: TSV Crailsheim - TSG Schwäb. Hall 3
CLASS:PUBLIC
DTSTART;VALUE=DATE:20070304
DTSTAMP:20140607T181500Z
DTEND;VALUE=DATE:20070305
END:VEVENT
BEGIN:VEVENT
UID:150732-2da69939ed67427dc6bf3daba21059e9
X-WR-RELCALID:150732-2da69939ed67427dc6bf3daba21059e9
ORGANIZER:Volleyball
SEQUENCE:261101329
SUMMARY:B2 Mä.: TSV Crailsheim - TSG Schwäb. Hall 2
CLASS:PUBLIC
DTSTART;VALUE=DATE:20070304
DTSTAMP:20140607T181500Z
DTEND;VALUE=DATE:20070305
END:VEVENT
BEGIN:VEVENT
UID:150736-2da69939ed67427dc6bf3daba21059e9
X-WR-RELCALID:150736-2da69939ed67427dc6bf3daba21059e9
ORGANIZER:Volleyball
SEQUENCE:261101329
SUMMARY:B2 Mä.: TSV Crailsheim 2 - TV Murrhardt 2
CLASS:PUBLIC
DTSTART;VALUE=DATE:20070304
DTSTAMP:20140607T181500Z
DTEND;VALUE=DATE:20070305
END:VEVENT
BEGIN:VEVENT
UID:150737-2da69939ed67427dc6bf3daba21059e9
X-WR-RELCALID:150737-2da69939ed67427dc6bf3daba21059e9
ORGANIZER:Volleyball
SEQUENCE:261101329
SUMMARY:B2 Mä.: TSV Crailsheim 2 - TURA Untermünkheim
CLASS:PUBLIC
DTSTART;VALUE=DATE:20070304
DTSTAMP:20140607T181500Z
DTEND;VALUE=DATE:20070305
END:VEVENT
BEGIN:VEVENT
UID:150740-2da69939ed67427dc6bf3daba21059e9
X-WR-RELCALID:150740-2da69939ed67427dc6bf3daba21059e9
ORGANIZER:Volleyball
SEQUENCE:261101329
SUMMARY:B2 Mä.: SSV Geißelhardt - TSV Crailsheim 2
CLASS:PUBLIC
DTSTART;VALUE=DATE:20070317
DTSTAMP:20140607T181500Z
DTEND;VALUE=DATE:20070318
END:VEVENT
BEGIN:VEVENT
UID:150741-2da69939ed67427dc6bf3daba21059e9
X-WR-RELCALID:150741-2da69939ed67427dc6bf3daba21059e9
ORGANIZER:Volleyball
SEQUENCE:261101329
SUMMARY:B2 Mä.: SSV Geißelhardt - TSV Crailsheim
CLASS:PUBLIC
DTSTART;VALUE=DATE:20070317
DTSTAMP:20140607T181500Z
DTEND;VALUE=DATE:20070318
END:VEVENT
BEGIN:VEVENT
UID:150742-2da69939ed67427dc6bf3daba21059e9
X-WR-RELCALID:150742-2da69939ed67427dc6bf3daba21059e9
ORGANIZER:Volleyball
SEQUENCE:261101329
SUMMARY:B2 Mä.: SG Weissach im Tal - TSG Schwäb. Hall 2
CLASS:PUBLIC
DTSTART;VALUE=DATE:20070317
DTSTAMP:20140607T181500Z
DTEND;VALUE=DATE:20070318
END:VEVENT
BEGIN:VEVENT
UID:150745-2da69939ed67427dc6bf3daba21059e9
X-WR-RELCALID:150745-2da69939ed67427dc6bf3daba21059e9
ORGANIZER:Volleyball
SEQUENCE:261101329
SUMMARY:B2 Mä.: SG Weissach im Tal - TV Murrhardt 2
CLASS:PUBLIC
DTSTART;VALUE=DATE:20070317
DTSTAMP:20140607T181500Z
DTEND;VALUE=DATE:20070318
END:VEVENT
BEGIN:VEVENT
UID:150738-2da69939ed67427dc6bf3daba21059e9
X-WR-RELCALID:150738-2da69939ed67427dc6bf3daba21059e9
ORGANIZER:Volleyball
SEQUENCE:261101329
SUMMARY:B2 Mä.: TURA Untermünkheim - SG Sportschule Waldenburg 2
CLASS:PUBLIC
DTSTART;VALUE=DATE:20070318
DTSTAMP:20140607T181500Z
DTEND;VALUE=DATE:20070319
END:VEVENT
BEGIN:VEVENT
UID:150739-2da69939ed67427dc6bf3daba21059e9
X-WR-RELCALID:150739-2da69939ed67427dc6bf3daba21059e9
ORGANIZER:Volleyball
SEQUENCE:261101329
SUMMARY:B2 Mä.: TURA Untermünkheim - TSG Schwäb. Hall 3
CLASS:PUBLIC
DTSTART;VALUE=DATE:20070318
DTSTAMP:20140607T181500Z
DTEND;VALUE=DATE:20070319
END:VEVENT
BEGIN:VEVENT
UID:150731-2da69939ed67427dc6bf3daba21059e9
X-WR-RELCALID:150731-2da69939ed67427dc6bf3daba21059e9
ORGANIZER:Volleyball
SEQUENCE:261101329
SUMMARY:B2 Mä.: TSV Crailsheim - SG Sportschule Waldenburg 2
CLASS:PUBLIC
DTSTART;VALUE=DATE:20070328
DTSTAMP:20140607T181500Z
DTEND;VALUE=DATE:20070329
END:VEVENT
BEGIN:VEVENT
UID:150746-2da69939ed67427dc6bf3daba21059e9
X-WR-RELCALID:150746-2da69939ed67427dc6bf3daba21059e9
ORGANIZER:Volleyball
SEQUENCE:261101329
SUMMARY:B2 Mä.: TSG Schwäb. Hall 2 - TURA Untermünkheim
CLASS:PUBLIC
DTSTART;VALUE=DATE:20070331
DTSTAMP:20140607T181500Z
DTEND;VALUE=DATE:20070401
END:VEVENT
BEGIN:VEVENT
UID:150744-2da69939ed67427dc6bf3daba21059e9
X-WR-RELCALID:150744-2da69939ed67427dc6bf3daba21059e9
ORGANIZER:Volleyball
SEQUENCE:261101329
SUMMARY:B2 Mä.: TSG Schwäb. Hall 2 - SSV Geißelhardt
CLASS:PUBLIC
DTSTART;VALUE=DATE:20070331
DTSTAMP:20140607T181500Z
DTEND;VALUE=DATE:20070401
END:VEVENT
BEGIN:VEVENT
UID:150743-2da69939ed67427dc6bf3daba21059e9
X-WR-RELCALID:150743-2da69939ed67427dc6bf3daba21059e9
ORGANIZER:Volleyball
SEQUENCE:261101329
SUMMARY:B2 Mä.: TV Murrhardt 2 - TSV Crailsheim
CLASS:PUBLIC
DTSTART;VALUE=DATE:20070331
DTSTAMP:20140607T181500Z
DTEND;VALUE=DATE:20070401
END:VEVENT
BEGIN:VEVENT
UID:150747-2da69939ed67427dc6bf3daba21059e9
X-WR-RELCALID:150747-2da69939ed67427dc6bf3daba21059e9
ORGANIZER:Volleyball
SEQUENCE:261101329
SUMMARY:B2 Mä.: TV Murrhardt 2 - SG Sportschule Waldenburg 2
CLASS:PUBLIC
DTSTART;VALUE=DATE:20070331
DTSTAMP:20140607T181500Z
DTEND;VALUE=DATE:20070401
END:VEVENT
BEGIN:VEVENT
UID:150748-2da69939ed67427dc6bf3daba21059e9
X-WR-RELCALID:150748-2da69939ed67427dc6bf3daba21059e9
ORGANIZER:Volleyball
SEQUENCE:261101329
SUMMARY:B2 Mä.: TSG Schwäb. Hall 3 - SG Weissach im Tal
CLASS:PUBLIC
DTSTART;VALUE=DATE:20070331
DTSTAMP:20140607T181500Z
DTEND;VALUE=DATE:20070401
END:VEVENT
BEGIN:VEVENT
UID:150725-2da69939ed67427dc6bf3daba21059e9
X-WR-RELCALID:150725-2da69939ed67427dc6bf3daba21059e9
ORGANIZER:Volleyball
SEQUENCE:261101329
SUMMARY:B2 Mä.: TSG Schwäb. Hall 3 - TSV Crailsheim 2
CLASS:PUBLIC
DTSTART;VALUE=DATE:20070331
DTSTAMP:20140607T181500Z
DTEND;VALUE=DATE:20070401
END:VEVENT
END:VCALENDAR