BEGIN:VCALENDAR
VERSION:2.0
PRODID:VSD-Portal-www.volley.de
METHOD:PUBLISH
BEGIN:VEVENT
UID:148421-2da69939ed67427dc6bf3daba21059e9
X-WR-RELCALID:148421-2da69939ed67427dc6bf3daba21059e9
ORGANIZER:Volleyball
SEQUENCE:261100104
SUMMARY:KL Mä.: VC Süd Ost I - VfL Lichtenrade
CLASS:PUBLIC
DTSTART;VALUE=DATE:20060923
DTSTAMP:20140607T181500Z
DTEND;VALUE=DATE:20060924
END:VEVENT
BEGIN:VEVENT
UID:148426-2da69939ed67427dc6bf3daba21059e9
X-WR-RELCALID:148426-2da69939ed67427dc6bf3daba21059e9
ORGANIZER:Volleyball
SEQUENCE:261100104
SUMMARY:KL Mä.: VC Süd Ost I - VC Süd Ost II
CLASS:PUBLIC
DTSTART;VALUE=DATE:20060923
DTSTAMP:20140607T181500Z
DTEND;VALUE=DATE:20060924
END:VEVENT
BEGIN:VEVENT
UID:148432-2da69939ed67427dc6bf3daba21059e9
X-WR-RELCALID:148432-2da69939ed67427dc6bf3daba21059e9
ORGANIZER:Volleyball
SEQUENCE:261100104
SUMMARY:KL Mä.: BV Vorwärts III - VC Süd Ost I
CLASS:PUBLIC
DTSTART;VALUE=DATE:20061029
DTSTAMP:20140607T181500Z
DTEND;VALUE=DATE:20061030
END:VEVENT
BEGIN:VEVENT
UID:148433-2da69939ed67427dc6bf3daba21059e9
X-WR-RELCALID:148433-2da69939ed67427dc6bf3daba21059e9
ORGANIZER:Volleyball
SEQUENCE:261100104
SUMMARY:KL Mä.: TSV GutsMuths - VC Süd Ost I
CLASS:PUBLIC
DTSTART;VALUE=DATE:20061029
DTSTAMP:20140607T181500Z
DTEND;VALUE=DATE:20061030
END:VEVENT
BEGIN:VEVENT
UID:148446-2da69939ed67427dc6bf3daba21059e9
X-WR-RELCALID:148446-2da69939ed67427dc6bf3daba21059e9
ORGANIZER:Volleyball
SEQUENCE:261100104
SUMMARY:KL Mä.: VC Süd Ost I - VfK Südwest III
CLASS:PUBLIC
DTSTART;VALUE=DATE:20061111
DTSTAMP:20140607T181500Z
DTEND;VALUE=DATE:20061112
END:VEVENT
BEGIN:VEVENT
UID:148448-2da69939ed67427dc6bf3daba21059e9
X-WR-RELCALID:148448-2da69939ed67427dc6bf3daba21059e9
ORGANIZER:Volleyball
SEQUENCE:261100104
SUMMARY:KL Mä.: VC Süd Ost I - Hellersdorfer AC
CLASS:PUBLIC
DTSTART;VALUE=DATE:20061111
DTSTAMP:20140607T181500Z
DTEND;VALUE=DATE:20061112
END:VEVENT
BEGIN:VEVENT
UID:148452-2da69939ed67427dc6bf3daba21059e9
X-WR-RELCALID:148452-2da69939ed67427dc6bf3daba21059e9
ORGANIZER:Volleyball
SEQUENCE:261100104
SUMMARY:KL Mä.: VC Süd Ost I - Polizei SV IV
CLASS:PUBLIC
DTSTART;VALUE=DATE:20061125
DTSTAMP:20140607T181500Z
DTEND;VALUE=DATE:20061126
END:VEVENT
BEGIN:VEVENT
UID:148455-2da69939ed67427dc6bf3daba21059e9
X-WR-RELCALID:148455-2da69939ed67427dc6bf3daba21059e9
ORGANIZER:Volleyball
SEQUENCE:261100104
SUMMARY:KL Mä.: Berliner TSC V - VC Süd Ost I
CLASS:PUBLIC
DTSTART;VALUE=DATE:20061125
DTSTAMP:20140607T181500Z
DTEND;VALUE=DATE:20061126
END:VEVENT
BEGIN:VEVENT
UID:148460-2da69939ed67427dc6bf3daba21059e9
X-WR-RELCALID:148460-2da69939ed67427dc6bf3daba21059e9
ORGANIZER:Volleyball
SEQUENCE:261100104
SUMMARY:KL Mä.: VC Süd Ost I - Berliner TSC V
CLASS:PUBLIC
DTSTART;VALUE=DATE:20061209
DTSTAMP:20140607T181500Z
DTEND;VALUE=DATE:20061210
END:VEVENT
BEGIN:VEVENT
UID:148463-2da69939ed67427dc6bf3daba21059e9
X-WR-RELCALID:148463-2da69939ed67427dc6bf3daba21059e9
ORGANIZER:Volleyball
SEQUENCE:261100104
SUMMARY:KL Mä.: BV Vorwärts III - VC Süd Ost I
CLASS:PUBLIC
DTSTART;VALUE=DATE:20061209
DTSTAMP:20140607T181500Z
DTEND;VALUE=DATE:20061210
END:VEVENT
BEGIN:VEVENT
UID:148467-2da69939ed67427dc6bf3daba21059e9
X-WR-RELCALID:148467-2da69939ed67427dc6bf3daba21059e9
ORGANIZER:Volleyball
SEQUENCE:261100104
SUMMARY:KL Mä.: VC Süd Ost I - VfK Südwest III
CLASS:PUBLIC
DTSTART;VALUE=DATE:20070113
DTSTAMP:20140607T181500Z
DTEND;VALUE=DATE:20070114
END:VEVENT
BEGIN:VEVENT
UID:148470-2da69939ed67427dc6bf3daba21059e9
X-WR-RELCALID:148470-2da69939ed67427dc6bf3daba21059e9
ORGANIZER:Volleyball
SEQUENCE:261100104
SUMMARY:KL Mä.: VC Süd Ost II - VC Süd Ost I
CLASS:PUBLIC
DTSTART;VALUE=DATE:20070113
DTSTAMP:20140607T181500Z
DTEND;VALUE=DATE:20070114
END:VEVENT
BEGIN:VEVENT
UID:148477-2da69939ed67427dc6bf3daba21059e9
X-WR-RELCALID:148477-2da69939ed67427dc6bf3daba21059e9
ORGANIZER:Volleyball
SEQUENCE:261100104
SUMMARY:KL Mä.: VfL Lichtenrade - VC Süd Ost I
CLASS:PUBLIC
DTSTART;VALUE=DATE:20070127
DTSTAMP:20140607T181500Z
DTEND;VALUE=DATE:20070128
END:VEVENT
BEGIN:VEVENT
UID:148482-2da69939ed67427dc6bf3daba21059e9
X-WR-RELCALID:148482-2da69939ed67427dc6bf3daba21059e9
ORGANIZER:Volleyball
SEQUENCE:261100104
SUMMARY:KL Mä.: Hellersdorfer AC - VC Süd Ost I
CLASS:PUBLIC
DTSTART;VALUE=DATE:20070127
DTSTAMP:20140607T181500Z
DTEND;VALUE=DATE:20070128
END:VEVENT
BEGIN:VEVENT
UID:148489-2da69939ed67427dc6bf3daba21059e9
X-WR-RELCALID:148489-2da69939ed67427dc6bf3daba21059e9
ORGANIZER:Volleyball
SEQUENCE:261100104
SUMMARY:KL Mä.: VC Süd Ost I - Polizei SV IV
CLASS:PUBLIC
DTSTART;VALUE=DATE:20070224
DTSTAMP:20140607T181500Z
DTEND;VALUE=DATE:20070225
END:VEVENT
BEGIN:VEVENT
UID:148491-2da69939ed67427dc6bf3daba21059e9
X-WR-RELCALID:148491-2da69939ed67427dc6bf3daba21059e9
ORGANIZER:Volleyball
SEQUENCE:261100104
SUMMARY:KL Mä.: VC Süd Ost I - TSV GutsMuths
CLASS:PUBLIC
DTSTART;VALUE=DATE:20070224
DTSTAMP:20140607T181500Z
DTEND;VALUE=DATE:20070225
END:VEVENT
END:VCALENDAR