BEGIN:VCALENDAR
VERSION:2.0
PRODID:VSD-Portal-www.volley.de
METHOD:PUBLISH
BEGIN:VEVENT
UID:146270-2da69939ed67427dc6bf3daba21059e9
X-WR-RELCALID:146270-2da69939ed67427dc6bf3daba21059e9
ORGANIZER:Volleyball
SEQUENCE:261141539
SUMMARY:A 1 Mä.: SV Remshalden - TB Cannstatt
CLASS:PUBLIC
DTSTART;VALUE=DATE:20061007
DTSTAMP:20140607T181500Z
DTEND;VALUE=DATE:20061008
END:VEVENT
BEGIN:VEVENT
UID:146269-2da69939ed67427dc6bf3daba21059e9
X-WR-RELCALID:146269-2da69939ed67427dc6bf3daba21059e9
ORGANIZER:Volleyball
SEQUENCE:261141539
SUMMARY:A 1 Mä.: SV Remshalden - TSV Bernhausen
CLASS:PUBLIC
DTSTART;VALUE=DATE:20061007
DTSTAMP:20140607T181500Z
DTEND;VALUE=DATE:20061008
END:VEVENT
BEGIN:VEVENT
UID:146264-2da69939ed67427dc6bf3daba21059e9
X-WR-RELCALID:146264-2da69939ed67427dc6bf3daba21059e9
ORGANIZER:Volleyball
SEQUENCE:261141539
SUMMARY:A 1 Mä.: SG Schorndorf 2 - SV Remshalden
CLASS:PUBLIC
DTSTART;VALUE=DATE:20061021
DTSTAMP:20140607T181500Z
DTEND;VALUE=DATE:20061022
END:VEVENT
BEGIN:VEVENT
UID:146260-2da69939ed67427dc6bf3daba21059e9
X-WR-RELCALID:146260-2da69939ed67427dc6bf3daba21059e9
ORGANIZER:Volleyball
SEQUENCE:261141539
SUMMARY:A 1 Mä.: SV Fellbach 5 - SV Remshalden
CLASS:PUBLIC
DTSTART;VALUE=DATE:20061105
DTSTAMP:20140607T181500Z
DTEND;VALUE=DATE:20061106
END:VEVENT
BEGIN:VEVENT
UID:146252-2da69939ed67427dc6bf3daba21059e9
X-WR-RELCALID:146252-2da69939ed67427dc6bf3daba21059e9
ORGANIZER:Volleyball
SEQUENCE:261141539
SUMMARY:A 1 Mä.: TV Weiler - SV Remshalden
CLASS:PUBLIC
DTSTART;VALUE=DATE:20061119
DTSTAMP:20140607T181500Z
DTEND;VALUE=DATE:20061120
END:VEVENT
BEGIN:VEVENT
UID:146246-2da69939ed67427dc6bf3daba21059e9
X-WR-RELCALID:146246-2da69939ed67427dc6bf3daba21059e9
ORGANIZER:Volleyball
SEQUENCE:261141539
SUMMARY:A 1 Mä.: SV Remshalden - SSF Stuttgart
CLASS:PUBLIC
DTSTART;VALUE=DATE:20061203
DTSTAMP:20140607T181500Z
DTEND;VALUE=DATE:20061204
END:VEVENT
BEGIN:VEVENT
UID:146245-2da69939ed67427dc6bf3daba21059e9
X-WR-RELCALID:146245-2da69939ed67427dc6bf3daba21059e9
ORGANIZER:Volleyball
SEQUENCE:261141539
SUMMARY:A 1 Mä.: SV Remshalden - TV Oeffingen/TV Kornwestheim
CLASS:PUBLIC
DTSTART;VALUE=DATE:20061203
DTSTAMP:20140607T181500Z
DTEND;VALUE=DATE:20061204
END:VEVENT
BEGIN:VEVENT
UID:146238-2da69939ed67427dc6bf3daba21059e9
X-WR-RELCALID:146238-2da69939ed67427dc6bf3daba21059e9
ORGANIZER:Volleyball
SEQUENCE:261141539
SUMMARY:A 1 Mä.: TSV Leinfelden - SV Remshalden
CLASS:PUBLIC
DTSTART;VALUE=DATE:20061217
DTSTAMP:20140607T181500Z
DTEND;VALUE=DATE:20061218
END:VEVENT
BEGIN:VEVENT
UID:146236-2da69939ed67427dc6bf3daba21059e9
X-WR-RELCALID:146236-2da69939ed67427dc6bf3daba21059e9
ORGANIZER:Volleyball
SEQUENCE:261141539
SUMMARY:A 1 Mä.: SV Remshalden - SG Schorndorf 2
CLASS:PUBLIC
DTSTART;VALUE=DATE:20070120
DTSTAMP:20140607T181500Z
DTEND;VALUE=DATE:20070121
END:VEVENT
BEGIN:VEVENT
UID:146235-2da69939ed67427dc6bf3daba21059e9
X-WR-RELCALID:146235-2da69939ed67427dc6bf3daba21059e9
ORGANIZER:Volleyball
SEQUENCE:261141539
SUMMARY:A 1 Mä.: SV Remshalden - SV Fellbach 5
CLASS:PUBLIC
DTSTART;VALUE=DATE:20070120
DTSTAMP:20140607T181500Z
DTEND;VALUE=DATE:20070121
END:VEVENT
BEGIN:VEVENT
UID:146225-2da69939ed67427dc6bf3daba21059e9
X-WR-RELCALID:146225-2da69939ed67427dc6bf3daba21059e9
ORGANIZER:Volleyball
SEQUENCE:261141539
SUMMARY:A 1 Mä.: TSV Bernhausen - SV Remshalden
CLASS:PUBLIC
DTSTART;VALUE=DATE:20070203
DTSTAMP:20140607T181500Z
DTEND;VALUE=DATE:20070204
END:VEVENT
BEGIN:VEVENT
UID:146222-2da69939ed67427dc6bf3daba21059e9
X-WR-RELCALID:146222-2da69939ed67427dc6bf3daba21059e9
ORGANIZER:Volleyball
SEQUENCE:261141539
SUMMARY:A 1 Mä.: TB Cannstatt - SV Remshalden
CLASS:PUBLIC
DTSTART;VALUE=DATE:20070217
DTSTAMP:20140607T181500Z
DTEND;VALUE=DATE:20070218
END:VEVENT
BEGIN:VEVENT
UID:146218-2da69939ed67427dc6bf3daba21059e9
X-WR-RELCALID:146218-2da69939ed67427dc6bf3daba21059e9
ORGANIZER:Volleyball
SEQUENCE:261141539
SUMMARY:A 1 Mä.: SV Remshalden - TSV Leinfelden
CLASS:PUBLIC
DTSTART;VALUE=DATE:20070304
DTSTAMP:20140607T181500Z
DTEND;VALUE=DATE:20070305
END:VEVENT
BEGIN:VEVENT
UID:146217-2da69939ed67427dc6bf3daba21059e9
X-WR-RELCALID:146217-2da69939ed67427dc6bf3daba21059e9
ORGANIZER:Volleyball
SEQUENCE:261141539
SUMMARY:A 1 Mä.: SV Remshalden - TV Weiler
CLASS:PUBLIC
DTSTART;VALUE=DATE:20070304
DTSTAMP:20140607T181500Z
DTEND;VALUE=DATE:20070305
END:VEVENT
BEGIN:VEVENT
UID:146207-2da69939ed67427dc6bf3daba21059e9
X-WR-RELCALID:146207-2da69939ed67427dc6bf3daba21059e9
ORGANIZER:Volleyball
SEQUENCE:261141539
SUMMARY:A 1 Mä.: TV Oeffingen/TV Kornwestheim - SV Remshalden
CLASS:PUBLIC
DTSTART;VALUE=DATE:20070318
DTSTAMP:20140607T181500Z
DTEND;VALUE=DATE:20070319
END:VEVENT
BEGIN:VEVENT
UID:146204-2da69939ed67427dc6bf3daba21059e9
X-WR-RELCALID:146204-2da69939ed67427dc6bf3daba21059e9
ORGANIZER:Volleyball
SEQUENCE:261141539
SUMMARY:A 1 Mä.: SSF Stuttgart - SV Remshalden
CLASS:PUBLIC
DTSTART;VALUE=DATE:20070331
DTSTAMP:20140607T181500Z
DTEND;VALUE=DATE:20070401
END:VEVENT
END:VCALENDAR