BEGIN:VCALENDAR
VERSION:2.0
PRODID:VSD-Portal-www.volley.de
METHOD:PUBLISH
BEGIN:VEVENT
UID:145657-2da69939ed67427dc6bf3daba21059e9
X-WR-RELCALID:145657-2da69939ed67427dc6bf3daba21059e9
ORGANIZER:Volleyball
SEQUENCE:261090505
SUMMARY:B1+2 Mä.: TV Altdorf 2 - TV Altdorf
CLASS:PUBLIC
DTSTART;VALUE=DATE:20061007
DTSTAMP:20140607T181500Z
DTEND;VALUE=DATE:20061008
END:VEVENT
BEGIN:VEVENT
UID:145629-2da69939ed67427dc6bf3daba21059e9
X-WR-RELCALID:145629-2da69939ed67427dc6bf3daba21059e9
ORGANIZER:Volleyball
SEQUENCE:261090505
SUMMARY:B1+2 Mä.: TV Altdorf 2 - TSV Waldenbuch
CLASS:PUBLIC
DTSTART;VALUE=DATE:20061007
DTSTAMP:20140607T181500Z
DTEND;VALUE=DATE:20061008
END:VEVENT
BEGIN:VEVENT
UID:145630-2da69939ed67427dc6bf3daba21059e9
X-WR-RELCALID:145630-2da69939ed67427dc6bf3daba21059e9
ORGANIZER:Volleyball
SEQUENCE:261090505
SUMMARY:B1+2 Mä.: VfL Dettenhausen 2 - TV Darmsheim
CLASS:PUBLIC
DTSTART;VALUE=DATE:20061007
DTSTAMP:20140607T181500Z
DTEND;VALUE=DATE:20061008
END:VEVENT
BEGIN:VEVENT
UID:145631-2da69939ed67427dc6bf3daba21059e9
X-WR-RELCALID:145631-2da69939ed67427dc6bf3daba21059e9
ORGANIZER:Volleyball
SEQUENCE:261090505
SUMMARY:B1+2 Mä.: VfL Dettenhausen 2 - GSV Maichingen 2
CLASS:PUBLIC
DTSTART;VALUE=DATE:20061007
DTSTAMP:20140607T181500Z
DTEND;VALUE=DATE:20061008
END:VEVENT
BEGIN:VEVENT
UID:145632-2da69939ed67427dc6bf3daba21059e9
X-WR-RELCALID:145632-2da69939ed67427dc6bf3daba21059e9
ORGANIZER:Volleyball
SEQUENCE:261090505
SUMMARY:B1+2 Mä.: TV Darmsheim - TSV Waldenbuch
CLASS:PUBLIC
DTSTART;VALUE=DATE:20061021
DTSTAMP:20140607T181500Z
DTEND;VALUE=DATE:20061022
END:VEVENT
BEGIN:VEVENT
UID:145633-2da69939ed67427dc6bf3daba21059e9
X-WR-RELCALID:145633-2da69939ed67427dc6bf3daba21059e9
ORGANIZER:Volleyball
SEQUENCE:261090505
SUMMARY:B1+2 Mä.: TV Darmsheim - VC Mönsheim
CLASS:PUBLIC
DTSTART;VALUE=DATE:20061021
DTSTAMP:20140607T181500Z
DTEND;VALUE=DATE:20061022
END:VEVENT
BEGIN:VEVENT
UID:145634-2da69939ed67427dc6bf3daba21059e9
X-WR-RELCALID:145634-2da69939ed67427dc6bf3daba21059e9
ORGANIZER:Volleyball
SEQUENCE:261090505
SUMMARY:B1+2 Mä.: GSV Maichingen 2 - TV Altdorf
CLASS:PUBLIC
DTSTART;VALUE=DATE:20061022
DTSTAMP:20140607T181500Z
DTEND;VALUE=DATE:20061023
END:VEVENT
BEGIN:VEVENT
UID:145635-2da69939ed67427dc6bf3daba21059e9
X-WR-RELCALID:145635-2da69939ed67427dc6bf3daba21059e9
ORGANIZER:Volleyball
SEQUENCE:261090505
SUMMARY:B1+2 Mä.: GSV Maichingen 2 - TV Altdorf 2
CLASS:PUBLIC
DTSTART;VALUE=DATE:20061022
DTSTAMP:20140607T181500Z
DTEND;VALUE=DATE:20061023
END:VEVENT
BEGIN:VEVENT
UID:145636-2da69939ed67427dc6bf3daba21059e9
X-WR-RELCALID:145636-2da69939ed67427dc6bf3daba21059e9
ORGANIZER:Volleyball
SEQUENCE:261090505
SUMMARY:B1+2 Mä.: TV Altdorf - TSV Waldenbuch
CLASS:PUBLIC
DTSTART;VALUE=DATE:20061104
DTSTAMP:20140607T181500Z
DTEND;VALUE=DATE:20061105
END:VEVENT
BEGIN:VEVENT
UID:145637-2da69939ed67427dc6bf3daba21059e9
X-WR-RELCALID:145637-2da69939ed67427dc6bf3daba21059e9
ORGANIZER:Volleyball
SEQUENCE:261090505
SUMMARY:B1+2 Mä.: TV Altdorf - VfL Dettenhausen 2
CLASS:PUBLIC
DTSTART;VALUE=DATE:20061104
DTSTAMP:20140607T181500Z
DTEND;VALUE=DATE:20061105
END:VEVENT
BEGIN:VEVENT
UID:145638-2da69939ed67427dc6bf3daba21059e9
X-WR-RELCALID:145638-2da69939ed67427dc6bf3daba21059e9
ORGANIZER:Volleyball
SEQUENCE:261090505
SUMMARY:B1+2 Mä.: VC Mönsheim - GSV Maichingen 2
CLASS:PUBLIC
DTSTART;VALUE=DATE:20061104
DTSTAMP:20140607T181500Z
DTEND;VALUE=DATE:20061105
END:VEVENT
BEGIN:VEVENT
UID:145639-2da69939ed67427dc6bf3daba21059e9
X-WR-RELCALID:145639-2da69939ed67427dc6bf3daba21059e9
ORGANIZER:Volleyball
SEQUENCE:261090505
SUMMARY:B1+2 Mä.: VC Mönsheim - TV Altdorf 2
CLASS:PUBLIC
DTSTART;VALUE=DATE:20061104
DTSTAMP:20140607T181500Z
DTEND;VALUE=DATE:20061105
END:VEVENT
BEGIN:VEVENT
UID:145640-2da69939ed67427dc6bf3daba21059e9
X-WR-RELCALID:145640-2da69939ed67427dc6bf3daba21059e9
ORGANIZER:Volleyball
SEQUENCE:261090505
SUMMARY:B1+2 Mä.: TV Darmsheim - TV Altdorf 2
CLASS:PUBLIC
DTSTART;VALUE=DATE:20061118
DTSTAMP:20140607T181500Z
DTEND;VALUE=DATE:20061119
END:VEVENT
BEGIN:VEVENT
UID:145641-2da69939ed67427dc6bf3daba21059e9
X-WR-RELCALID:145641-2da69939ed67427dc6bf3daba21059e9
ORGANIZER:Volleyball
SEQUENCE:261090505
SUMMARY:B1+2 Mä.: TV Darmsheim - GSV Maichingen 2
CLASS:PUBLIC
DTSTART;VALUE=DATE:20061118
DTSTAMP:20140607T181500Z
DTEND;VALUE=DATE:20061119
END:VEVENT
BEGIN:VEVENT
UID:145642-2da69939ed67427dc6bf3daba21059e9
X-WR-RELCALID:145642-2da69939ed67427dc6bf3daba21059e9
ORGANIZER:Volleyball
SEQUENCE:261090505
SUMMARY:B1+2 Mä.: VC Mönsheim - VfL Dettenhausen 2
CLASS:PUBLIC
DTSTART;VALUE=DATE:20061118
DTSTAMP:20140607T181500Z
DTEND;VALUE=DATE:20061119
END:VEVENT
BEGIN:VEVENT
UID:145643-2da69939ed67427dc6bf3daba21059e9
X-WR-RELCALID:145643-2da69939ed67427dc6bf3daba21059e9
ORGANIZER:Volleyball
SEQUENCE:261090505
SUMMARY:B1+2 Mä.: VC Mönsheim - TSV Waldenbuch
CLASS:PUBLIC
DTSTART;VALUE=DATE:20061118
DTSTAMP:20140607T181500Z
DTEND;VALUE=DATE:20061119
END:VEVENT
BEGIN:VEVENT
UID:145644-2da69939ed67427dc6bf3daba21059e9
X-WR-RELCALID:145644-2da69939ed67427dc6bf3daba21059e9
ORGANIZER:Volleyball
SEQUENCE:261090505
SUMMARY:B1+2 Mä.: TV Altdorf - VC Mönsheim
CLASS:PUBLIC
DTSTART;VALUE=DATE:20061202
DTSTAMP:20140607T181500Z
DTEND;VALUE=DATE:20061203
END:VEVENT
BEGIN:VEVENT
UID:145645-2da69939ed67427dc6bf3daba21059e9
X-WR-RELCALID:145645-2da69939ed67427dc6bf3daba21059e9
ORGANIZER:Volleyball
SEQUENCE:261090505
SUMMARY:B1+2 Mä.: TV Altdorf - TV Darmsheim
CLASS:PUBLIC
DTSTART;VALUE=DATE:20061202
DTSTAMP:20140607T181500Z
DTEND;VALUE=DATE:20061203
END:VEVENT
BEGIN:VEVENT
UID:145646-2da69939ed67427dc6bf3daba21059e9
X-WR-RELCALID:145646-2da69939ed67427dc6bf3daba21059e9
ORGANIZER:Volleyball
SEQUENCE:261090505
SUMMARY:B1+2 Mä.: TSV Waldenbuch - GSV Maichingen 2
CLASS:PUBLIC
DTSTART;VALUE=DATE:20061202
DTSTAMP:20140607T181500Z
DTEND;VALUE=DATE:20061203
END:VEVENT
BEGIN:VEVENT
UID:145647-2da69939ed67427dc6bf3daba21059e9
X-WR-RELCALID:145647-2da69939ed67427dc6bf3daba21059e9
ORGANIZER:Volleyball
SEQUENCE:261090505
SUMMARY:B1+2 Mä.: TSV Waldenbuch - VfL Dettenhausen 2
CLASS:PUBLIC
DTSTART;VALUE=DATE:20061202
DTSTAMP:20140607T181500Z
DTEND;VALUE=DATE:20061203
END:VEVENT
BEGIN:VEVENT
UID:145648-2da69939ed67427dc6bf3daba21059e9
X-WR-RELCALID:145648-2da69939ed67427dc6bf3daba21059e9
ORGANIZER:Volleyball
SEQUENCE:261090505
SUMMARY:B1+2 Mä.: VfL Dettenhausen 2 - TV Altdorf 2
CLASS:PUBLIC
DTSTART;VALUE=DATE:20061216
DTSTAMP:20140607T181500Z
DTEND;VALUE=DATE:20061217
END:VEVENT
BEGIN:VEVENT
UID:145649-2da69939ed67427dc6bf3daba21059e9
X-WR-RELCALID:145649-2da69939ed67427dc6bf3daba21059e9
ORGANIZER:Volleyball
SEQUENCE:261090505
SUMMARY:B1+2 Mä.: VfL Dettenhausen 2 - TV Altdorf
CLASS:PUBLIC
DTSTART;VALUE=DATE:20061216
DTSTAMP:20140607T181500Z
DTEND;VALUE=DATE:20061217
END:VEVENT
BEGIN:VEVENT
UID:145650-2da69939ed67427dc6bf3daba21059e9
X-WR-RELCALID:145650-2da69939ed67427dc6bf3daba21059e9
ORGANIZER:Volleyball
SEQUENCE:261090505
SUMMARY:B1+2 Mä.: TV Altdorf - TV Altdorf 2
CLASS:PUBLIC
DTSTART;VALUE=DATE:20070120
DTSTAMP:20140607T181500Z
DTEND;VALUE=DATE:20070121
END:VEVENT
BEGIN:VEVENT
UID:145651-2da69939ed67427dc6bf3daba21059e9
X-WR-RELCALID:145651-2da69939ed67427dc6bf3daba21059e9
ORGANIZER:Volleyball
SEQUENCE:261090505
SUMMARY:B1+2 Mä.: TV Altdorf - GSV Maichingen 2
CLASS:PUBLIC
DTSTART;VALUE=DATE:20070120
DTSTAMP:20140607T181500Z
DTEND;VALUE=DATE:20070121
END:VEVENT
BEGIN:VEVENT
UID:145652-2da69939ed67427dc6bf3daba21059e9
X-WR-RELCALID:145652-2da69939ed67427dc6bf3daba21059e9
ORGANIZER:Volleyball
SEQUENCE:261090505
SUMMARY:B1+2 Mä.: VfL Dettenhausen 2 - VC Mönsheim
CLASS:PUBLIC
DTSTART;VALUE=DATE:20070121
DTSTAMP:20140607T181500Z
DTEND;VALUE=DATE:20070122
END:VEVENT
BEGIN:VEVENT
UID:145653-2da69939ed67427dc6bf3daba21059e9
X-WR-RELCALID:145653-2da69939ed67427dc6bf3daba21059e9
ORGANIZER:Volleyball
SEQUENCE:261090505
SUMMARY:B1+2 Mä.: VfL Dettenhausen 2 - TSV Waldenbuch
CLASS:PUBLIC
DTSTART;VALUE=DATE:20070121
DTSTAMP:20140607T181500Z
DTEND;VALUE=DATE:20070122
END:VEVENT
BEGIN:VEVENT
UID:145654-2da69939ed67427dc6bf3daba21059e9
X-WR-RELCALID:145654-2da69939ed67427dc6bf3daba21059e9
ORGANIZER:Volleyball
SEQUENCE:261090505
SUMMARY:B1+2 Mä.: GSV Maichingen 2 - VC Mönsheim
CLASS:PUBLIC
DTSTART;VALUE=DATE:20070204
DTSTAMP:20140607T181500Z
DTEND;VALUE=DATE:20070205
END:VEVENT
BEGIN:VEVENT
UID:145655-2da69939ed67427dc6bf3daba21059e9
X-WR-RELCALID:145655-2da69939ed67427dc6bf3daba21059e9
ORGANIZER:Volleyball
SEQUENCE:261090505
SUMMARY:B1+2 Mä.: GSV Maichingen 2 - TV Darmsheim
CLASS:PUBLIC
DTSTART;VALUE=DATE:20070204
DTSTAMP:20140607T181500Z
DTEND;VALUE=DATE:20070205
END:VEVENT
BEGIN:VEVENT
UID:145656-2da69939ed67427dc6bf3daba21059e9
X-WR-RELCALID:145656-2da69939ed67427dc6bf3daba21059e9
ORGANIZER:Volleyball
SEQUENCE:261090505
SUMMARY:B1+2 Mä.: VC Mönsheim - TV Altdorf
CLASS:PUBLIC
DTSTART;VALUE=DATE:20070217
DTSTAMP:20140607T181500Z
DTEND;VALUE=DATE:20070218
END:VEVENT
BEGIN:VEVENT
UID:145659-2da69939ed67427dc6bf3daba21059e9
X-WR-RELCALID:145659-2da69939ed67427dc6bf3daba21059e9
ORGANIZER:Volleyball
SEQUENCE:261090505
SUMMARY:B1+2 Mä.: VC Mönsheim - TV Darmsheim
CLASS:PUBLIC
DTSTART;VALUE=DATE:20070217
DTSTAMP:20140607T181500Z
DTEND;VALUE=DATE:20070218
END:VEVENT
BEGIN:VEVENT
UID:145658-2da69939ed67427dc6bf3daba21059e9
X-WR-RELCALID:145658-2da69939ed67427dc6bf3daba21059e9
ORGANIZER:Volleyball
SEQUENCE:261090505
SUMMARY:B1+2 Mä.: TSV Waldenbuch - TV Altdorf 2
CLASS:PUBLIC
DTSTART;VALUE=DATE:20070303
DTSTAMP:20140607T181500Z
DTEND;VALUE=DATE:20070304
END:VEVENT
BEGIN:VEVENT
UID:145660-2da69939ed67427dc6bf3daba21059e9
X-WR-RELCALID:145660-2da69939ed67427dc6bf3daba21059e9
ORGANIZER:Volleyball
SEQUENCE:261090505
SUMMARY:B1+2 Mä.: TSV Waldenbuch - VC Mönsheim
CLASS:PUBLIC
DTSTART;VALUE=DATE:20070303
DTSTAMP:20140607T181500Z
DTEND;VALUE=DATE:20070304
END:VEVENT
BEGIN:VEVENT
UID:145666-2da69939ed67427dc6bf3daba21059e9
X-WR-RELCALID:145666-2da69939ed67427dc6bf3daba21059e9
ORGANIZER:Volleyball
SEQUENCE:261090505
SUMMARY:B1+2 Mä.: TV Darmsheim - VfL Dettenhausen 2
CLASS:PUBLIC
DTSTART;VALUE=DATE:20070303
DTSTAMP:20140607T181500Z
DTEND;VALUE=DATE:20070304
END:VEVENT
BEGIN:VEVENT
UID:145667-2da69939ed67427dc6bf3daba21059e9
X-WR-RELCALID:145667-2da69939ed67427dc6bf3daba21059e9
ORGANIZER:Volleyball
SEQUENCE:261090505
SUMMARY:B1+2 Mä.: TV Darmsheim - TV Altdorf
CLASS:PUBLIC
DTSTART;VALUE=DATE:20070303
DTSTAMP:20140607T181500Z
DTEND;VALUE=DATE:20070304
END:VEVENT
BEGIN:VEVENT
UID:145661-2da69939ed67427dc6bf3daba21059e9
X-WR-RELCALID:145661-2da69939ed67427dc6bf3daba21059e9
ORGANIZER:Volleyball
SEQUENCE:261090505
SUMMARY:B1+2 Mä.: TV Altdorf 2 - VfL Dettenhausen 2
CLASS:PUBLIC
DTSTART;VALUE=DATE:20070317
DTSTAMP:20140607T181500Z
DTEND;VALUE=DATE:20070318
END:VEVENT
BEGIN:VEVENT
UID:145662-2da69939ed67427dc6bf3daba21059e9
X-WR-RELCALID:145662-2da69939ed67427dc6bf3daba21059e9
ORGANIZER:Volleyball
SEQUENCE:261090505
SUMMARY:B1+2 Mä.: TV Altdorf 2 - GSV Maichingen 2
CLASS:PUBLIC
DTSTART;VALUE=DATE:20070317
DTSTAMP:20140607T181500Z
DTEND;VALUE=DATE:20070318
END:VEVENT
BEGIN:VEVENT
UID:145668-2da69939ed67427dc6bf3daba21059e9
X-WR-RELCALID:145668-2da69939ed67427dc6bf3daba21059e9
ORGANIZER:Volleyball
SEQUENCE:261090505
SUMMARY:B1+2 Mä.: TSV Waldenbuch - TV Darmsheim
CLASS:PUBLIC
DTSTART;VALUE=DATE:20070318
DTSTAMP:20140607T181500Z
DTEND;VALUE=DATE:20070319
END:VEVENT
BEGIN:VEVENT
UID:145669-2da69939ed67427dc6bf3daba21059e9
X-WR-RELCALID:145669-2da69939ed67427dc6bf3daba21059e9
ORGANIZER:Volleyball
SEQUENCE:261090505
SUMMARY:B1+2 Mä.: TSV Waldenbuch - TV Altdorf
CLASS:PUBLIC
DTSTART;VALUE=DATE:20070318
DTSTAMP:20140607T181500Z
DTEND;VALUE=DATE:20070319
END:VEVENT
BEGIN:VEVENT
UID:145663-2da69939ed67427dc6bf3daba21059e9
X-WR-RELCALID:145663-2da69939ed67427dc6bf3daba21059e9
ORGANIZER:Volleyball
SEQUENCE:261090505
SUMMARY:B1+2 Mä.: TV Altdorf 2 - TV Darmsheim
CLASS:PUBLIC
DTSTART;VALUE=DATE:20070331
DTSTAMP:20140607T181500Z
DTEND;VALUE=DATE:20070401
END:VEVENT
BEGIN:VEVENT
UID:145664-2da69939ed67427dc6bf3daba21059e9
X-WR-RELCALID:145664-2da69939ed67427dc6bf3daba21059e9
ORGANIZER:Volleyball
SEQUENCE:261090505
SUMMARY:B1+2 Mä.: TV Altdorf 2 - VC Mönsheim
CLASS:PUBLIC
DTSTART;VALUE=DATE:20070331
DTSTAMP:20140607T181500Z
DTEND;VALUE=DATE:20070401
END:VEVENT
BEGIN:VEVENT
UID:145665-2da69939ed67427dc6bf3daba21059e9
X-WR-RELCALID:145665-2da69939ed67427dc6bf3daba21059e9
ORGANIZER:Volleyball
SEQUENCE:261090505
SUMMARY:B1+2 Mä.: GSV Maichingen 2 - TSV Waldenbuch
CLASS:PUBLIC
DTSTART;VALUE=DATE:20070401
DTSTAMP:20140607T181500Z
DTEND;VALUE=DATE:20070402
END:VEVENT
BEGIN:VEVENT
UID:145670-2da69939ed67427dc6bf3daba21059e9
X-WR-RELCALID:145670-2da69939ed67427dc6bf3daba21059e9
ORGANIZER:Volleyball
SEQUENCE:261090505
SUMMARY:B1+2 Mä.: GSV Maichingen 2 - VfL Dettenhausen 2
CLASS:PUBLIC
DTSTART;VALUE=DATE:20070401
DTSTAMP:20140607T181500Z
DTEND;VALUE=DATE:20070402
END:VEVENT
END:VCALENDAR