BEGIN:VCALENDAR
VERSION:2.0
PRODID:VSD-Portal-www.volley.de
METHOD:PUBLISH
BEGIN:VEVENT
UID:341555-0b1cb5f82de24c98f11e829bddb1f0f9
X-WR-RELCALID:341555-0b1cb5f82de24c98f11e829bddb1f0f9
ORGANIZER:Volleyball
SEQUENCE:261101940
LOCATION:Feodor-Lynen-Gymnasium, Feodor-Lynen-Str. 1, 82152 Planegg
GEO:48.10456000000000000000;11.43447000000000000000
SUMMARY:Ü31 W Fr.: TV Planegg Krailling - TSV Unterhaching
CLASS:PUBLIC
DTSTART:20240310T093000Z
DTSTAMP:20240311T080600Z
END:VEVENT
BEGIN:VEVENT
UID:341556-0b1cb5f82de24c98f11e829bddb1f0f9
X-WR-RELCALID:341556-0b1cb5f82de24c98f11e829bddb1f0f9
ORGANIZER:Volleyball
SEQUENCE:261101940
LOCATION:Feodor-Lynen-Gymnasium, Feodor-Lynen-Str. 1, 82152 Planegg
GEO:48.10456000000000000000;11.43447000000000000000
SUMMARY:Ü31 W Fr.: TSV München-Ost - TV Dingolfing
CLASS:PUBLIC
DTSTART:20240310T093000Z
DTSTAMP:20240311T080800Z
END:VEVENT
BEGIN:VEVENT
UID:341557-0b1cb5f82de24c98f11e829bddb1f0f9
X-WR-RELCALID:341557-0b1cb5f82de24c98f11e829bddb1f0f9
ORGANIZER:Volleyball
SEQUENCE:261101940
LOCATION:Feodor-Lynen-Gymnasium, Feodor-Lynen-Str. 1, 82152 Planegg
GEO:48.10456000000000000000;11.43447000000000000000
SUMMARY:Ü31 W Fr.: TV Planegg Krailling - TV Dingolfing
CLASS:PUBLIC
DTSTART:20240310T093000Z
DTSTAMP:20240311T081100Z
END:VEVENT
BEGIN:VEVENT
UID:341558-0b1cb5f82de24c98f11e829bddb1f0f9
X-WR-RELCALID:341558-0b1cb5f82de24c98f11e829bddb1f0f9
ORGANIZER:Volleyball
SEQUENCE:261101940
LOCATION:Feodor-Lynen-Gymnasium, Feodor-Lynen-Str. 1, 82152 Planegg
GEO:48.10456000000000000000;11.43447000000000000000
SUMMARY:Ü31 W Fr.: TSV Unterhaching - TSV München-Ost
CLASS:PUBLIC
DTSTART:20240310T093000Z
DTSTAMP:20240311T081200Z
END:VEVENT
BEGIN:VEVENT
UID:341559-0b1cb5f82de24c98f11e829bddb1f0f9
X-WR-RELCALID:341559-0b1cb5f82de24c98f11e829bddb1f0f9
ORGANIZER:Volleyball
SEQUENCE:261101940
LOCATION:Feodor-Lynen-Gymnasium, Feodor-Lynen-Str. 1, 82152 Planegg
GEO:48.10456000000000000000;11.43447000000000000000
SUMMARY:Ü31 W Fr.: TSV Unterhaching - TV Dingolfing
CLASS:PUBLIC
DTSTART:20240310T093000Z
DTSTAMP:20240311T081400Z
END:VEVENT
BEGIN:VEVENT
UID:341560-0b1cb5f82de24c98f11e829bddb1f0f9
X-WR-RELCALID:341560-0b1cb5f82de24c98f11e829bddb1f0f9
ORGANIZER:Volleyball
SEQUENCE:261101940
LOCATION:Feodor-Lynen-Gymnasium, Feodor-Lynen-Str. 1, 82152 Planegg
GEO:48.10456000000000000000;11.43447000000000000000
SUMMARY:Ü31 W Fr.: TV Planegg Krailling - TSV München-Ost
CLASS:PUBLIC
DTSTART:20240310T093000Z
DTSTAMP:20240311T081500Z
END:VEVENT
END:VCALENDAR