BEGIN:VCALENDAR
VERSION:2.0
PRODID:VSD-Portal-www.volley.de
METHOD:PUBLISH
BEGIN:VEVENT
UID:143314-2da69939ed67427dc6bf3daba21059e9
X-WR-RELCALID:143314-2da69939ed67427dc6bf3daba21059e9
ORGANIZER:Volleyball
SEQUENCE:261092318
SUMMARY:LL S Mä.: VLW-STP Friedrichshafen - TSV Bad Saulgau 2
CLASS:PUBLIC
DTSTART;VALUE=DATE:20070317
DTSTAMP:20140607T181500Z
DTEND;VALUE=DATE:20070318
END:VEVENT
END:VCALENDAR