BEGIN:VCALENDAR
VERSION:2.0
PRODID:VSD-Portal-www.volley.de
METHOD:PUBLISH
BEGIN:VEVENT
UID:125583-0b1cb5f82de24c98f11e829bddb1f0f9
X-WR-RELCALID:125583-0b1cb5f82de24c98f11e829bddb1f0f9
ORGANIZER:Volleyball
SEQUENCE:261111153
SUMMARY:BZL Mä.: TV Kempten - TSV Friedberg III
CLASS:PUBLIC
DTSTART:20150418T123000Z
DTSTAMP:20150423T205100Z
END:VEVENT
BEGIN:VEVENT
UID:125584-0b1cb5f82de24c98f11e829bddb1f0f9
X-WR-RELCALID:125584-0b1cb5f82de24c98f11e829bddb1f0f9
ORGANIZER:Volleyball
SEQUENCE:261111153
SUMMARY:BZL Mä.: TSV Meitingen - TSV Friedberg III
CLASS:PUBLIC
DTSTART:20150418T123000Z
DTSTAMP:20150423T204500Z
END:VEVENT
END:VCALENDAR