BEGIN:VCALENDAR
VERSION:2.0
PRODID:VSD-Portal-www.volley.de
METHOD:PUBLISH
BEGIN:VEVENT
UID:315426-0b1cb5f82de24c98f11e829bddb1f0f9
X-WR-RELCALID:315426-0b1cb5f82de24c98f11e829bddb1f0f9
ORGANIZER:Volleyball
SEQUENCE:261122007
SUMMARY:U15 BP m: TSV 1860 Weißenburg - VSG Rothsee Towers
CLASS:PUBLIC
DTSTART:20230507T080000Z
DTSTAMP:20230507T093100Z
END:VEVENT
BEGIN:VEVENT
UID:315428-0b1cb5f82de24c98f11e829bddb1f0f9
X-WR-RELCALID:315428-0b1cb5f82de24c98f11e829bddb1f0f9
ORGANIZER:Volleyball
SEQUENCE:261122007
SUMMARY:U15 BP m: TSV 1860 Weißenburg - SV Rednitzhembach II
CLASS:PUBLIC
DTSTART:20230507T080000Z
DTSTAMP:20230507T112900Z
END:VEVENT
BEGIN:VEVENT
UID:315430-0b1cb5f82de24c98f11e829bddb1f0f9
X-WR-RELCALID:315430-0b1cb5f82de24c98f11e829bddb1f0f9
ORGANIZER:Volleyball
SEQUENCE:261122007
SUMMARY:U15 BP m: TC Höchstadt - TSV 1860 Weißenburg
CLASS:PUBLIC
DTSTART:20230507T080000Z
DTSTAMP:20230507T131800Z
END:VEVENT
END:VCALENDAR